BEGIN:VCALENDAR
VERSION:2.0
PRODID:-//Village of Wyocena - ECPv6.15.17.1//NONSGML v1.0//EN
CALSCALE:GREGORIAN
METHOD:PUBLISH
X-ORIGINAL-URL:https://villageofwyocena.com
X-WR-CALDESC:Events for Village of Wyocena
REFRESH-INTERVAL;VALUE=DURATION:PT1H
X-Robots-Tag:noindex
X-PUBLISHED-TTL:PT1H
BEGIN:VTIMEZONE
TZID:America/Chicago
BEGIN:DAYLIGHT
TZOFFSETFROM:-0600
TZOFFSETTO:-0500
TZNAME:CDT
DTSTART:20240310T080000
END:DAYLIGHT
BEGIN:STANDARD
TZOFFSETFROM:-0500
TZOFFSETTO:-0600
TZNAME:CST
DTSTART:20241103T070000
END:STANDARD
BEGIN:DAYLIGHT
TZOFFSETFROM:-0600
TZOFFSETTO:-0500
TZNAME:CDT
DTSTART:20250309T080000
END:DAYLIGHT
BEGIN:STANDARD
TZOFFSETFROM:-0500
TZOFFSETTO:-0600
TZNAME:CST
DTSTART:20251102T070000
END:STANDARD
BEGIN:DAYLIGHT
TZOFFSETFROM:-0600
TZOFFSETTO:-0500
TZNAME:CDT
DTSTART:20260308T080000
END:DAYLIGHT
BEGIN:STANDARD
TZOFFSETFROM:-0500
TZOFFSETTO:-0600
TZNAME:CST
DTSTART:20261101T070000
END:STANDARD
END:VTIMEZONE
BEGIN:VEVENT
DTSTART;VALUE=DATE:20250801
DTEND;VALUE=DATE:20250802
DTSTAMP:20260423T055109
CREATED:20210226T235003Z
LAST-MODIFIED:20231110T003707Z
UID:10001278-1754006400-1754092799@villageofwyocena.com
SUMMARY:Office Closed
DESCRIPTION:
URL:https://villageofwyocena.com/event/office-closed/2025-08-01/
CATEGORIES:General
END:VEVENT
BEGIN:VEVENT
DTSTART;TZID=America/Chicago:20250804T100000
DTEND;TZID=America/Chicago:20250804T120000
DTSTAMP:20260423T055109
CREATED:20210226T234208Z
LAST-MODIFIED:20210226T234530Z
UID:10000465-1754301600-1754308800@villageofwyocena.com
SUMMARY:Helping Hands Pantry Open
DESCRIPTION:
URL:https://villageofwyocena.com/event/helping-hands-pantry-open-4/2025-08-04/
CATEGORIES:Community Events
END:VEVENT
BEGIN:VEVENT
DTSTART;TZID=America/Chicago:20250805T060000
DTEND;TZID=America/Chicago:20250805T140000
DTSTAMP:20260423T055109
CREATED:20210226T235133Z
LAST-MODIFIED:20210226T235133Z
UID:10001611-1754373600-1754402400@villageofwyocena.com
SUMMARY:Garbage Pick-Up
DESCRIPTION:
URL:https://villageofwyocena.com/event/garbage-pick-up/2025-08-05/
CATEGORIES:Garbage & Recycling
END:VEVENT
BEGIN:VEVENT
DTSTART;TZID=America/Chicago:20250805T060000
DTEND;TZID=America/Chicago:20250805T140000
DTSTAMP:20260423T055109
CREATED:20210226T235241Z
LAST-MODIFIED:20210226T235241Z
UID:10001797-1754373600-1754402400@villageofwyocena.com
SUMMARY:Recycling Pick-Up
DESCRIPTION:
URL:https://villageofwyocena.com/event/recycling-pick-up/2025-08-05/
CATEGORIES:Garbage & Recycling
END:VEVENT
BEGIN:VEVENT
DTSTART;TZID=America/Chicago:20250805T100000
DTEND;TZID=America/Chicago:20250805T120000
DTSTAMP:20260423T055109
CREATED:20210226T234621Z
LAST-MODIFIED:20210226T234621Z
UID:10000695-1754388000-1754395200@villageofwyocena.com
SUMMARY:Helping Hands Pantry Open
DESCRIPTION:
URL:https://villageofwyocena.com/event/helping-hands-pantry-open-7/2025-08-05/
CATEGORIES:Community Events
END:VEVENT
BEGIN:VEVENT
DTSTART;TZID=America/Chicago:20250806T100000
DTEND;TZID=America/Chicago:20250806T120000
DTSTAMP:20260423T055109
CREATED:20210226T210833Z
LAST-MODIFIED:20210226T215431Z
UID:10000192-1754474400-1754481600@villageofwyocena.com
SUMMARY:Helping Hands Pantry Open
DESCRIPTION:
URL:https://villageofwyocena.com/event/helping-hands-pantry-open/2025-08-06/
CATEGORIES:Community Events
END:VEVENT
BEGIN:VEVENT
DTSTART;VALUE=DATE:20250808
DTEND;VALUE=DATE:20250809
DTSTAMP:20260423T055109
CREATED:20210226T235003Z
LAST-MODIFIED:20231110T003707Z
UID:10001279-1754611200-1754697599@villageofwyocena.com
SUMMARY:Office Closed
DESCRIPTION:
URL:https://villageofwyocena.com/event/office-closed/2025-08-08/
CATEGORIES:General
END:VEVENT
BEGIN:VEVENT
DTSTART;TZID=America/Chicago:20250811T100000
DTEND;TZID=America/Chicago:20250811T120000
DTSTAMP:20260423T055109
CREATED:20210226T234358Z
LAST-MODIFIED:20210226T234358Z
UID:10000542-1754906400-1754913600@villageofwyocena.com
SUMMARY:Helping Hands Pantry Open
DESCRIPTION:
URL:https://villageofwyocena.com/event/helping-hands-pantry-open-5/2025-08-11/
CATEGORIES:Community Events
END:VEVENT
BEGIN:VEVENT
DTSTART;TZID=America/Chicago:20250811T180000
DTEND;TZID=America/Chicago:20250811T190000
DTSTAMP:20260423T055109
CREATED:20210226T235503Z
LAST-MODIFIED:20231110T004835Z
UID:10001940-1754935200-1754938800@villageofwyocena.com
SUMMARY:Village Board Meeting
DESCRIPTION:
URL:https://villageofwyocena.com/event/village-board-meeting-2-2021-11-08/2025-08-11/
CATEGORIES:Village Board
END:VEVENT
BEGIN:VEVENT
DTSTART;TZID=America/Chicago:20250812T060000
DTEND;TZID=America/Chicago:20250812T140000
DTSTAMP:20260423T055109
CREATED:20210226T235133Z
LAST-MODIFIED:20210226T235133Z
UID:10001612-1754978400-1755007200@villageofwyocena.com
SUMMARY:Garbage Pick-Up
DESCRIPTION:
URL:https://villageofwyocena.com/event/garbage-pick-up/2025-08-12/
CATEGORIES:Garbage & Recycling
END:VEVENT
BEGIN:VEVENT
DTSTART;TZID=America/Chicago:20250812T100000
DTEND;TZID=America/Chicago:20250812T120000
DTSTAMP:20260423T055109
CREATED:20210226T234717Z
LAST-MODIFIED:20210226T234717Z
UID:10000772-1754992800-1755000000@villageofwyocena.com
SUMMARY:Helping Hands Pantry Open
DESCRIPTION:
URL:https://villageofwyocena.com/event/helping-hands-pantry-open-8/2025-08-12/
CATEGORIES:Community Events
END:VEVENT
BEGIN:VEVENT
DTSTART;TZID=America/Chicago:20250813T100000
DTEND;TZID=America/Chicago:20250813T120000
DTSTAMP:20260423T055109
CREATED:20210226T210919Z
LAST-MODIFIED:20210226T215433Z
UID:10000269-1755079200-1755086400@villageofwyocena.com
SUMMARY:Helping Hands Pantry Open
DESCRIPTION:
URL:https://villageofwyocena.com/event/helping-hands-pantry-open-2/2025-08-13/
CATEGORIES:Community Events
END:VEVENT
BEGIN:VEVENT
DTSTART;VALUE=DATE:20250815
DTEND;VALUE=DATE:20250816
DTSTAMP:20260423T055109
CREATED:20210226T235003Z
LAST-MODIFIED:20231110T003707Z
UID:10001280-1755216000-1755302399@villageofwyocena.com
SUMMARY:Office Closed
DESCRIPTION:
URL:https://villageofwyocena.com/event/office-closed/2025-08-15/
CATEGORIES:General
END:VEVENT
BEGIN:VEVENT
DTSTART;TZID=America/Chicago:20250818T100000
DTEND;TZID=America/Chicago:20250818T120000
DTSTAMP:20260423T055109
CREATED:20210226T234511Z
LAST-MODIFIED:20210226T234511Z
UID:10000619-1755511200-1755518400@villageofwyocena.com
SUMMARY:Helping Hands Pantry Open
DESCRIPTION:
URL:https://villageofwyocena.com/event/helping-hands-pantry-open-6/2025-08-18/
CATEGORIES:Community Events
END:VEVENT
BEGIN:VEVENT
DTSTART;TZID=America/Chicago:20250819T060000
DTEND;TZID=America/Chicago:20250819T140000
DTSTAMP:20260423T055109
CREATED:20210226T235133Z
LAST-MODIFIED:20210226T235133Z
UID:10001613-1755583200-1755612000@villageofwyocena.com
SUMMARY:Garbage Pick-Up
DESCRIPTION:
URL:https://villageofwyocena.com/event/garbage-pick-up/2025-08-19/
CATEGORIES:Garbage & Recycling
END:VEVENT
BEGIN:VEVENT
DTSTART;TZID=America/Chicago:20250819T060000
DTEND;TZID=America/Chicago:20250819T140000
DTSTAMP:20260423T055109
CREATED:20210226T235241Z
LAST-MODIFIED:20210226T235241Z
UID:10001798-1755583200-1755612000@villageofwyocena.com
SUMMARY:Recycling Pick-Up
DESCRIPTION:
URL:https://villageofwyocena.com/event/recycling-pick-up/2025-08-19/
CATEGORIES:Garbage & Recycling
END:VEVENT
BEGIN:VEVENT
DTSTART;TZID=America/Chicago:20250819T100000
DTEND;TZID=America/Chicago:20250819T120000
DTSTAMP:20260423T055109
CREATED:20210226T234800Z
LAST-MODIFIED:20210226T234800Z
UID:10000849-1755597600-1755604800@villageofwyocena.com
SUMMARY:Helping Hands Pantry Open
DESCRIPTION:
URL:https://villageofwyocena.com/event/helping-hands-pantry-open-9/2025-08-19/
CATEGORIES:Community Events
END:VEVENT
BEGIN:VEVENT
DTSTART;TZID=America/Chicago:20250820T100000
DTEND;TZID=America/Chicago:20250820T120000
DTSTAMP:20260423T055109
CREATED:20210226T210959Z
LAST-MODIFIED:20210226T215435Z
UID:10000346-1755684000-1755691200@villageofwyocena.com
SUMMARY:Helping Hands Pantry Open
DESCRIPTION:
URL:https://villageofwyocena.com/event/helping-hands-pantry-open-3/2025-08-20/
CATEGORIES:Community Events
END:VEVENT
BEGIN:VEVENT
DTSTART;VALUE=DATE:20250822
DTEND;VALUE=DATE:20250823
DTSTAMP:20260423T055109
CREATED:20210226T235003Z
LAST-MODIFIED:20231110T003707Z
UID:10001281-1755820800-1755907199@villageofwyocena.com
SUMMARY:Office Closed
DESCRIPTION:
URL:https://villageofwyocena.com/event/office-closed/2025-08-22/
CATEGORIES:General
END:VEVENT
BEGIN:VEVENT
DTSTART;TZID=America/Chicago:20250825T170000
DTEND;TZID=America/Chicago:20250825T180000
DTSTAMP:20260423T055109
CREATED:20210226T234850Z
LAST-MODIFIED:20210226T234850Z
UID:10000925-1756141200-1756144800@villageofwyocena.com
SUMMARY:Library Board Meeting
DESCRIPTION:
URL:https://villageofwyocena.com/event/library-board-meeting-2/2025-08-25/
CATEGORIES:Meetings
END:VEVENT
BEGIN:VEVENT
DTSTART;TZID=America/Chicago:20250826T060000
DTEND;TZID=America/Chicago:20250826T140000
DTSTAMP:20260423T055109
CREATED:20210226T235133Z
LAST-MODIFIED:20210226T235133Z
UID:10001614-1756188000-1756216800@villageofwyocena.com
SUMMARY:Garbage Pick-Up
DESCRIPTION:
URL:https://villageofwyocena.com/event/garbage-pick-up/2025-08-26/
CATEGORIES:Garbage & Recycling
END:VEVENT
BEGIN:VEVENT
DTSTART;VALUE=DATE:20250829
DTEND;VALUE=DATE:20250830
DTSTAMP:20260423T055109
CREATED:20210226T235003Z
LAST-MODIFIED:20231110T003707Z
UID:10001282-1756425600-1756511999@villageofwyocena.com
SUMMARY:Office Closed
DESCRIPTION:
URL:https://villageofwyocena.com/event/office-closed/2025-08-29/
CATEGORIES:General
END:VEVENT
END:VCALENDAR