BEGIN:VCALENDAR
VERSION:2.0
PRODID:-//Village of Wyocena - ECPv6.15.17.1//NONSGML v1.0//EN
CALSCALE:GREGORIAN
METHOD:PUBLISH
X-WR-CALNAME:Village of Wyocena
X-ORIGINAL-URL:https://villageofwyocena.com
X-WR-CALDESC:Events for Village of Wyocena
REFRESH-INTERVAL;VALUE=DURATION:PT1H
X-Robots-Tag:noindex
X-PUBLISHED-TTL:PT1H
BEGIN:VTIMEZONE
TZID:America/Chicago
BEGIN:DAYLIGHT
TZOFFSETFROM:-0600
TZOFFSETTO:-0500
TZNAME:CDT
DTSTART:20240310T080000
END:DAYLIGHT
BEGIN:STANDARD
TZOFFSETFROM:-0500
TZOFFSETTO:-0600
TZNAME:CST
DTSTART:20241103T070000
END:STANDARD
BEGIN:DAYLIGHT
TZOFFSETFROM:-0600
TZOFFSETTO:-0500
TZNAME:CDT
DTSTART:20250309T080000
END:DAYLIGHT
BEGIN:STANDARD
TZOFFSETFROM:-0500
TZOFFSETTO:-0600
TZNAME:CST
DTSTART:20251102T070000
END:STANDARD
BEGIN:DAYLIGHT
TZOFFSETFROM:-0600
TZOFFSETTO:-0500
TZNAME:CDT
DTSTART:20260308T080000
END:DAYLIGHT
BEGIN:STANDARD
TZOFFSETFROM:-0500
TZOFFSETTO:-0600
TZNAME:CST
DTSTART:20261101T070000
END:STANDARD
END:VTIMEZONE
BEGIN:VEVENT
DTSTART;TZID=America/Chicago:20250901T100000
DTEND;TZID=America/Chicago:20250901T120000
DTSTAMP:20260423T040531
CREATED:20210226T234208Z
LAST-MODIFIED:20210226T234530Z
UID:10000466-1756720800-1756728000@villageofwyocena.com
SUMMARY:Helping Hands Pantry Open
DESCRIPTION:
URL:https://villageofwyocena.com/event/helping-hands-pantry-open-4/2025-09-01/
CATEGORIES:Community Events
END:VEVENT
BEGIN:VEVENT
DTSTART;TZID=America/Chicago:20250902T060000
DTEND;TZID=America/Chicago:20250902T140000
DTSTAMP:20260423T040531
CREATED:20210226T235133Z
LAST-MODIFIED:20210226T235133Z
UID:10001615-1756792800-1756821600@villageofwyocena.com
SUMMARY:Garbage Pick-Up
DESCRIPTION:
URL:https://villageofwyocena.com/event/garbage-pick-up/2025-09-02/
CATEGORIES:Garbage & Recycling
END:VEVENT
BEGIN:VEVENT
DTSTART;TZID=America/Chicago:20250902T060000
DTEND;TZID=America/Chicago:20250902T140000
DTSTAMP:20260423T040531
CREATED:20210226T235241Z
LAST-MODIFIED:20210226T235241Z
UID:10001799-1756792800-1756821600@villageofwyocena.com
SUMMARY:Recycling Pick-Up
DESCRIPTION:
URL:https://villageofwyocena.com/event/recycling-pick-up/2025-09-02/
CATEGORIES:Garbage & Recycling
END:VEVENT
BEGIN:VEVENT
DTSTART;TZID=America/Chicago:20250902T100000
DTEND;TZID=America/Chicago:20250902T120000
DTSTAMP:20260423T040531
CREATED:20210226T234621Z
LAST-MODIFIED:20210226T234621Z
UID:10000696-1756807200-1756814400@villageofwyocena.com
SUMMARY:Helping Hands Pantry Open
DESCRIPTION:
URL:https://villageofwyocena.com/event/helping-hands-pantry-open-7/2025-09-02/
CATEGORIES:Community Events
END:VEVENT
BEGIN:VEVENT
DTSTART;TZID=America/Chicago:20250903T100000
DTEND;TZID=America/Chicago:20250903T120000
DTSTAMP:20260423T040531
CREATED:20210226T210833Z
LAST-MODIFIED:20210226T215431Z
UID:10000193-1756893600-1756900800@villageofwyocena.com
SUMMARY:Helping Hands Pantry Open
DESCRIPTION:
URL:https://villageofwyocena.com/event/helping-hands-pantry-open/2025-09-03/
CATEGORIES:Community Events
END:VEVENT
BEGIN:VEVENT
DTSTART;VALUE=DATE:20250905
DTEND;VALUE=DATE:20250906
DTSTAMP:20260423T040531
CREATED:20210226T235003Z
LAST-MODIFIED:20231110T003707Z
UID:10001283-1757030400-1757116799@villageofwyocena.com
SUMMARY:Office Closed
DESCRIPTION:
URL:https://villageofwyocena.com/event/office-closed/2025-09-05/
CATEGORIES:General
END:VEVENT
BEGIN:VEVENT
DTSTART;TZID=America/Chicago:20250908T100000
DTEND;TZID=America/Chicago:20250908T120000
DTSTAMP:20260423T040531
CREATED:20210226T234358Z
LAST-MODIFIED:20210226T234358Z
UID:10000543-1757325600-1757332800@villageofwyocena.com
SUMMARY:Helping Hands Pantry Open
DESCRIPTION:
URL:https://villageofwyocena.com/event/helping-hands-pantry-open-5/2025-09-08/
CATEGORIES:Community Events
END:VEVENT
BEGIN:VEVENT
DTSTART;TZID=America/Chicago:20250908T180000
DTEND;TZID=America/Chicago:20250908T190000
DTSTAMP:20260423T040531
CREATED:20210226T235503Z
LAST-MODIFIED:20231110T004835Z
UID:10001941-1757354400-1757358000@villageofwyocena.com
SUMMARY:Village Board Meeting
DESCRIPTION:
URL:https://villageofwyocena.com/event/village-board-meeting-2-2021-11-08/2025-09-08/
CATEGORIES:Village Board
END:VEVENT
BEGIN:VEVENT
DTSTART;TZID=America/Chicago:20250909T060000
DTEND;TZID=America/Chicago:20250909T140000
DTSTAMP:20260423T040531
CREATED:20210226T235133Z
LAST-MODIFIED:20210226T235133Z
UID:10001616-1757397600-1757426400@villageofwyocena.com
SUMMARY:Garbage Pick-Up
DESCRIPTION:
URL:https://villageofwyocena.com/event/garbage-pick-up/2025-09-09/
CATEGORIES:Garbage & Recycling
END:VEVENT
BEGIN:VEVENT
DTSTART;TZID=America/Chicago:20250909T100000
DTEND;TZID=America/Chicago:20250909T120000
DTSTAMP:20260423T040531
CREATED:20210226T234717Z
LAST-MODIFIED:20210226T234717Z
UID:10000773-1757412000-1757419200@villageofwyocena.com
SUMMARY:Helping Hands Pantry Open
DESCRIPTION:
URL:https://villageofwyocena.com/event/helping-hands-pantry-open-8/2025-09-09/
CATEGORIES:Community Events
END:VEVENT
BEGIN:VEVENT
DTSTART;TZID=America/Chicago:20250910T100000
DTEND;TZID=America/Chicago:20250910T120000
DTSTAMP:20260423T040531
CREATED:20210226T210919Z
LAST-MODIFIED:20210226T215433Z
UID:10000270-1757498400-1757505600@villageofwyocena.com
SUMMARY:Helping Hands Pantry Open
DESCRIPTION:
URL:https://villageofwyocena.com/event/helping-hands-pantry-open-2/2025-09-10/
CATEGORIES:Community Events
END:VEVENT
BEGIN:VEVENT
DTSTART;VALUE=DATE:20250912
DTEND;VALUE=DATE:20250913
DTSTAMP:20260423T040531
CREATED:20210226T235003Z
LAST-MODIFIED:20231110T003707Z
UID:10001284-1757635200-1757721599@villageofwyocena.com
SUMMARY:Office Closed
DESCRIPTION:
URL:https://villageofwyocena.com/event/office-closed/2025-09-12/
CATEGORIES:General
END:VEVENT
BEGIN:VEVENT
DTSTART;TZID=America/Chicago:20250915T100000
DTEND;TZID=America/Chicago:20250915T120000
DTSTAMP:20260423T040531
CREATED:20210226T234511Z
LAST-MODIFIED:20210226T234511Z
UID:10000620-1757930400-1757937600@villageofwyocena.com
SUMMARY:Helping Hands Pantry Open
DESCRIPTION:
URL:https://villageofwyocena.com/event/helping-hands-pantry-open-6/2025-09-15/
CATEGORIES:Community Events
END:VEVENT
BEGIN:VEVENT
DTSTART;TZID=America/Chicago:20250916T060000
DTEND;TZID=America/Chicago:20250916T140000
DTSTAMP:20260423T040531
CREATED:20210226T235133Z
LAST-MODIFIED:20210226T235133Z
UID:10001617-1758002400-1758031200@villageofwyocena.com
SUMMARY:Garbage Pick-Up
DESCRIPTION:
URL:https://villageofwyocena.com/event/garbage-pick-up/2025-09-16/
CATEGORIES:Garbage & Recycling
END:VEVENT
BEGIN:VEVENT
DTSTART;TZID=America/Chicago:20250916T060000
DTEND;TZID=America/Chicago:20250916T140000
DTSTAMP:20260423T040531
CREATED:20210226T235241Z
LAST-MODIFIED:20210226T235241Z
UID:10001800-1758002400-1758031200@villageofwyocena.com
SUMMARY:Recycling Pick-Up
DESCRIPTION:
URL:https://villageofwyocena.com/event/recycling-pick-up/2025-09-16/
CATEGORIES:Garbage & Recycling
END:VEVENT
BEGIN:VEVENT
DTSTART;TZID=America/Chicago:20250916T100000
DTEND;TZID=America/Chicago:20250916T120000
DTSTAMP:20260423T040531
CREATED:20210226T234800Z
LAST-MODIFIED:20210226T234800Z
UID:10000850-1758016800-1758024000@villageofwyocena.com
SUMMARY:Helping Hands Pantry Open
DESCRIPTION:
URL:https://villageofwyocena.com/event/helping-hands-pantry-open-9/2025-09-16/
CATEGORIES:Community Events
END:VEVENT
BEGIN:VEVENT
DTSTART;TZID=America/Chicago:20250917T100000
DTEND;TZID=America/Chicago:20250917T120000
DTSTAMP:20260423T040531
CREATED:20210226T210959Z
LAST-MODIFIED:20210226T215435Z
UID:10000347-1758103200-1758110400@villageofwyocena.com
SUMMARY:Helping Hands Pantry Open
DESCRIPTION:
URL:https://villageofwyocena.com/event/helping-hands-pantry-open-3/2025-09-17/
CATEGORIES:Community Events
END:VEVENT
BEGIN:VEVENT
DTSTART;VALUE=DATE:20250919
DTEND;VALUE=DATE:20250920
DTSTAMP:20260423T040531
CREATED:20210226T235003Z
LAST-MODIFIED:20231110T003707Z
UID:10001285-1758240000-1758326399@villageofwyocena.com
SUMMARY:Office Closed
DESCRIPTION:
URL:https://villageofwyocena.com/event/office-closed/2025-09-19/
CATEGORIES:General
END:VEVENT
BEGIN:VEVENT
DTSTART;TZID=America/Chicago:20250922T170000
DTEND;TZID=America/Chicago:20250922T180000
DTSTAMP:20260423T040531
CREATED:20210226T234850Z
LAST-MODIFIED:20210226T234850Z
UID:10000926-1758560400-1758564000@villageofwyocena.com
SUMMARY:Library Board Meeting
DESCRIPTION:
URL:https://villageofwyocena.com/event/library-board-meeting-2/2025-09-22/
CATEGORIES:Meetings
END:VEVENT
BEGIN:VEVENT
DTSTART;TZID=America/Chicago:20250923T060000
DTEND;TZID=America/Chicago:20250923T140000
DTSTAMP:20260423T040531
CREATED:20210226T235133Z
LAST-MODIFIED:20210226T235133Z
UID:10001618-1758607200-1758636000@villageofwyocena.com
SUMMARY:Garbage Pick-Up
DESCRIPTION:
URL:https://villageofwyocena.com/event/garbage-pick-up/2025-09-23/
CATEGORIES:Garbage & Recycling
END:VEVENT
BEGIN:VEVENT
DTSTART;VALUE=DATE:20250926
DTEND;VALUE=DATE:20250927
DTSTAMP:20260423T040531
CREATED:20210226T235003Z
LAST-MODIFIED:20231110T003707Z
UID:10001286-1758844800-1758931199@villageofwyocena.com
SUMMARY:Office Closed
DESCRIPTION:
URL:https://villageofwyocena.com/event/office-closed/2025-09-26/
CATEGORIES:General
END:VEVENT
BEGIN:VEVENT
DTSTART;TZID=America/Chicago:20250930T060000
DTEND;TZID=America/Chicago:20250930T140000
DTSTAMP:20260423T040531
CREATED:20210226T235133Z
LAST-MODIFIED:20210226T235133Z
UID:10001619-1759212000-1759240800@villageofwyocena.com
SUMMARY:Garbage Pick-Up
DESCRIPTION:
URL:https://villageofwyocena.com/event/garbage-pick-up/2025-09-30/
CATEGORIES:Garbage & Recycling
END:VEVENT
BEGIN:VEVENT
DTSTART;TZID=America/Chicago:20250930T060000
DTEND;TZID=America/Chicago:20250930T140000
DTSTAMP:20260423T040531
CREATED:20210226T235241Z
LAST-MODIFIED:20210226T235241Z
UID:10001801-1759212000-1759240800@villageofwyocena.com
SUMMARY:Recycling Pick-Up
DESCRIPTION:
URL:https://villageofwyocena.com/event/recycling-pick-up/2025-09-30/
CATEGORIES:Garbage & Recycling
END:VEVENT
END:VCALENDAR