BEGIN:VCALENDAR
VERSION:2.0
PRODID:-//Village of Wyocena - ECPv6.15.17.1//NONSGML v1.0//EN
CALSCALE:GREGORIAN
METHOD:PUBLISH
X-ORIGINAL-URL:https://villageofwyocena.com
X-WR-CALDESC:Events for Village of Wyocena
REFRESH-INTERVAL;VALUE=DURATION:PT1H
X-Robots-Tag:noindex
X-PUBLISHED-TTL:PT1H
BEGIN:VTIMEZONE
TZID:America/Chicago
BEGIN:DAYLIGHT
TZOFFSETFROM:-0600
TZOFFSETTO:-0500
TZNAME:CDT
DTSTART:20210314T080000
END:DAYLIGHT
BEGIN:STANDARD
TZOFFSETFROM:-0500
TZOFFSETTO:-0600
TZNAME:CST
DTSTART:20211107T070000
END:STANDARD
BEGIN:DAYLIGHT
TZOFFSETFROM:-0600
TZOFFSETTO:-0500
TZNAME:CDT
DTSTART:20220313T080000
END:DAYLIGHT
BEGIN:STANDARD
TZOFFSETFROM:-0500
TZOFFSETTO:-0600
TZNAME:CST
DTSTART:20221106T070000
END:STANDARD
BEGIN:DAYLIGHT
TZOFFSETFROM:-0600
TZOFFSETTO:-0500
TZNAME:CDT
DTSTART:20230312T080000
END:DAYLIGHT
BEGIN:STANDARD
TZOFFSETFROM:-0500
TZOFFSETTO:-0600
TZNAME:CST
DTSTART:20231105T070000
END:STANDARD
END:VTIMEZONE
BEGIN:VEVENT
DTSTART;TZID=America/Chicago:20221003T100000
DTEND;TZID=America/Chicago:20221003T120000
DTSTAMP:20260425T132935
CREATED:20210226T234208Z
LAST-MODIFIED:20210226T234530Z
UID:10000431-1664791200-1664798400@villageofwyocena.com
SUMMARY:Helping Hands Pantry Open
DESCRIPTION:
URL:https://villageofwyocena.com/event/helping-hands-pantry-open-4/2022-10-03/
CATEGORIES:Community Events
END:VEVENT
BEGIN:VEVENT
DTSTART;TZID=America/Chicago:20221004T100000
DTEND;TZID=America/Chicago:20221004T120000
DTSTAMP:20260425T132935
CREATED:20210226T234621Z
LAST-MODIFIED:20210226T234621Z
UID:10000661-1664877600-1664884800@villageofwyocena.com
SUMMARY:Helping Hands Pantry Open
DESCRIPTION:
URL:https://villageofwyocena.com/event/helping-hands-pantry-open-7/2022-10-04/
CATEGORIES:Community Events
END:VEVENT
BEGIN:VEVENT
DTSTART;TZID=America/Chicago:20221005T100000
DTEND;TZID=America/Chicago:20221005T120000
DTSTAMP:20260425T132935
CREATED:20210226T210833Z
LAST-MODIFIED:20210226T215431Z
UID:10000158-1664964000-1664971200@villageofwyocena.com
SUMMARY:Helping Hands Pantry Open
DESCRIPTION:
URL:https://villageofwyocena.com/event/helping-hands-pantry-open/2022-10-05/
CATEGORIES:Community Events
END:VEVENT
BEGIN:VEVENT
DTSTART;TZID=America/Chicago:20221010T100000
DTEND;TZID=America/Chicago:20221010T120000
DTSTAMP:20260425T132935
CREATED:20210226T234358Z
LAST-MODIFIED:20210226T234358Z
UID:10000508-1665396000-1665403200@villageofwyocena.com
SUMMARY:Helping Hands Pantry Open
DESCRIPTION:
URL:https://villageofwyocena.com/event/helping-hands-pantry-open-5/2022-10-10/
CATEGORIES:Community Events
END:VEVENT
BEGIN:VEVENT
DTSTART;TZID=America/Chicago:20221011T100000
DTEND;TZID=America/Chicago:20221011T120000
DTSTAMP:20260425T132935
CREATED:20210226T234717Z
LAST-MODIFIED:20210226T234717Z
UID:10000738-1665482400-1665489600@villageofwyocena.com
SUMMARY:Helping Hands Pantry Open
DESCRIPTION:
URL:https://villageofwyocena.com/event/helping-hands-pantry-open-8/2022-10-11/
CATEGORIES:Community Events
END:VEVENT
BEGIN:VEVENT
DTSTART;TZID=America/Chicago:20221012T100000
DTEND;TZID=America/Chicago:20221012T120000
DTSTAMP:20260425T132935
CREATED:20210226T210919Z
LAST-MODIFIED:20210226T215433Z
UID:10000235-1665568800-1665576000@villageofwyocena.com
SUMMARY:Helping Hands Pantry Open
DESCRIPTION:
URL:https://villageofwyocena.com/event/helping-hands-pantry-open-2/2022-10-12/
CATEGORIES:Community Events
END:VEVENT
BEGIN:VEVENT
DTSTART;TZID=America/Chicago:20221017T100000
DTEND;TZID=America/Chicago:20221017T120000
DTSTAMP:20260425T132935
CREATED:20210226T234511Z
LAST-MODIFIED:20210226T234511Z
UID:10000585-1666000800-1666008000@villageofwyocena.com
SUMMARY:Helping Hands Pantry Open
DESCRIPTION:
URL:https://villageofwyocena.com/event/helping-hands-pantry-open-6/2022-10-17/
CATEGORIES:Community Events
END:VEVENT
BEGIN:VEVENT
DTSTART;TZID=America/Chicago:20221018T100000
DTEND;TZID=America/Chicago:20221018T120000
DTSTAMP:20260425T132935
CREATED:20210226T234800Z
LAST-MODIFIED:20210226T234800Z
UID:10000815-1666087200-1666094400@villageofwyocena.com
SUMMARY:Helping Hands Pantry Open
DESCRIPTION:
URL:https://villageofwyocena.com/event/helping-hands-pantry-open-9/2022-10-18/
CATEGORIES:Community Events
END:VEVENT
BEGIN:VEVENT
DTSTART;TZID=America/Chicago:20221019T100000
DTEND;TZID=America/Chicago:20221019T120000
DTSTAMP:20260425T132935
CREATED:20210226T210959Z
LAST-MODIFIED:20210226T215435Z
UID:10000312-1666173600-1666180800@villageofwyocena.com
SUMMARY:Helping Hands Pantry Open
DESCRIPTION:
URL:https://villageofwyocena.com/event/helping-hands-pantry-open-3/2022-10-19/
CATEGORIES:Community Events
END:VEVENT
END:VCALENDAR