BEGIN:VCALENDAR
VERSION:2.0
PRODID:-//Village of Wyocena - ECPv6.15.17.1//NONSGML v1.0//EN
CALSCALE:GREGORIAN
METHOD:PUBLISH
X-WR-CALNAME:Village of Wyocena
X-ORIGINAL-URL:https://villageofwyocena.com
X-WR-CALDESC:Events for Village of Wyocena
REFRESH-INTERVAL;VALUE=DURATION:PT1H
X-Robots-Tag:noindex
X-PUBLISHED-TTL:PT1H
BEGIN:VTIMEZONE
TZID:America/Chicago
BEGIN:DAYLIGHT
TZOFFSETFROM:-0600
TZOFFSETTO:-0500
TZNAME:CDT
DTSTART:20220313T080000
END:DAYLIGHT
BEGIN:STANDARD
TZOFFSETFROM:-0500
TZOFFSETTO:-0600
TZNAME:CST
DTSTART:20221106T070000
END:STANDARD
BEGIN:DAYLIGHT
TZOFFSETFROM:-0600
TZOFFSETTO:-0500
TZNAME:CDT
DTSTART:20230312T080000
END:DAYLIGHT
BEGIN:STANDARD
TZOFFSETFROM:-0500
TZOFFSETTO:-0600
TZNAME:CST
DTSTART:20231105T070000
END:STANDARD
BEGIN:DAYLIGHT
TZOFFSETFROM:-0600
TZOFFSETTO:-0500
TZNAME:CDT
DTSTART:20240310T080000
END:DAYLIGHT
BEGIN:STANDARD
TZOFFSETFROM:-0500
TZOFFSETTO:-0600
TZNAME:CST
DTSTART:20241103T070000
END:STANDARD
END:VTIMEZONE
BEGIN:VEVENT
DTSTART;TZID=America/Chicago:20230102T100000
DTEND;TZID=America/Chicago:20230102T120000
DTSTAMP:20260425T082906
CREATED:20210226T234208Z
LAST-MODIFIED:20210226T234530Z
UID:10000434-1672653600-1672660800@villageofwyocena.com
SUMMARY:Helping Hands Pantry Open
DESCRIPTION:
URL:https://villageofwyocena.com/event/helping-hands-pantry-open-4/2023-01-02/
CATEGORIES:Community Events
END:VEVENT
BEGIN:VEVENT
DTSTART;TZID=America/Chicago:20230103T100000
DTEND;TZID=America/Chicago:20230103T120000
DTSTAMP:20260425T082906
CREATED:20210226T234621Z
LAST-MODIFIED:20210226T234621Z
UID:10000664-1672740000-1672747200@villageofwyocena.com
SUMMARY:Helping Hands Pantry Open
DESCRIPTION:
URL:https://villageofwyocena.com/event/helping-hands-pantry-open-7/2023-01-03/
CATEGORIES:Community Events
END:VEVENT
BEGIN:VEVENT
DTSTART;TZID=America/Chicago:20230104T100000
DTEND;TZID=America/Chicago:20230104T120000
DTSTAMP:20260425T082906
CREATED:20210226T210833Z
LAST-MODIFIED:20210226T215431Z
UID:10000161-1672826400-1672833600@villageofwyocena.com
SUMMARY:Helping Hands Pantry Open
DESCRIPTION:
URL:https://villageofwyocena.com/event/helping-hands-pantry-open/2023-01-04/
CATEGORIES:Community Events
END:VEVENT
BEGIN:VEVENT
DTSTART;TZID=America/Chicago:20230109T100000
DTEND;TZID=America/Chicago:20230109T120000
DTSTAMP:20260425T082906
CREATED:20210226T234358Z
LAST-MODIFIED:20210226T234358Z
UID:10000511-1673258400-1673265600@villageofwyocena.com
SUMMARY:Helping Hands Pantry Open
DESCRIPTION:
URL:https://villageofwyocena.com/event/helping-hands-pantry-open-5/2023-01-09/
CATEGORIES:Community Events
END:VEVENT
BEGIN:VEVENT
DTSTART;TZID=America/Chicago:20230110T100000
DTEND;TZID=America/Chicago:20230110T120000
DTSTAMP:20260425T082906
CREATED:20210226T234717Z
LAST-MODIFIED:20210226T234717Z
UID:10000741-1673344800-1673352000@villageofwyocena.com
SUMMARY:Helping Hands Pantry Open
DESCRIPTION:
URL:https://villageofwyocena.com/event/helping-hands-pantry-open-8/2023-01-10/
CATEGORIES:Community Events
END:VEVENT
BEGIN:VEVENT
DTSTART;TZID=America/Chicago:20230111T100000
DTEND;TZID=America/Chicago:20230111T120000
DTSTAMP:20260425T082906
CREATED:20210226T210919Z
LAST-MODIFIED:20210226T215433Z
UID:10000238-1673431200-1673438400@villageofwyocena.com
SUMMARY:Helping Hands Pantry Open
DESCRIPTION:
URL:https://villageofwyocena.com/event/helping-hands-pantry-open-2/2023-01-11/
CATEGORIES:Community Events
END:VEVENT
BEGIN:VEVENT
DTSTART;TZID=America/Chicago:20230116T100000
DTEND;TZID=America/Chicago:20230116T120000
DTSTAMP:20260425T082906
CREATED:20210226T234511Z
LAST-MODIFIED:20210226T234511Z
UID:10000588-1673863200-1673870400@villageofwyocena.com
SUMMARY:Helping Hands Pantry Open
DESCRIPTION:
URL:https://villageofwyocena.com/event/helping-hands-pantry-open-6/2023-01-16/
CATEGORIES:Community Events
END:VEVENT
BEGIN:VEVENT
DTSTART;TZID=America/Chicago:20230117T100000
DTEND;TZID=America/Chicago:20230117T120000
DTSTAMP:20260425T082906
CREATED:20210226T234800Z
LAST-MODIFIED:20210226T234800Z
UID:10000818-1673949600-1673956800@villageofwyocena.com
SUMMARY:Helping Hands Pantry Open
DESCRIPTION:
URL:https://villageofwyocena.com/event/helping-hands-pantry-open-9/2023-01-17/
CATEGORIES:Community Events
END:VEVENT
BEGIN:VEVENT
DTSTART;TZID=America/Chicago:20230118T100000
DTEND;TZID=America/Chicago:20230118T120000
DTSTAMP:20260425T082906
CREATED:20210226T210959Z
LAST-MODIFIED:20210226T215435Z
UID:10000315-1674036000-1674043200@villageofwyocena.com
SUMMARY:Helping Hands Pantry Open
DESCRIPTION:
URL:https://villageofwyocena.com/event/helping-hands-pantry-open-3/2023-01-18/
CATEGORIES:Community Events
END:VEVENT
END:VCALENDAR