BEGIN:VCALENDAR
VERSION:2.0
PRODID:-//Village of Wyocena - ECPv6.15.17.1//NONSGML v1.0//EN
CALSCALE:GREGORIAN
METHOD:PUBLISH
X-ORIGINAL-URL:https://villageofwyocena.com
X-WR-CALDESC:Events for Village of Wyocena
REFRESH-INTERVAL;VALUE=DURATION:PT1H
X-Robots-Tag:noindex
X-PUBLISHED-TTL:PT1H
BEGIN:VTIMEZONE
TZID:America/Chicago
BEGIN:DAYLIGHT
TZOFFSETFROM:-0600
TZOFFSETTO:-0500
TZNAME:CDT
DTSTART:20220313T080000
END:DAYLIGHT
BEGIN:STANDARD
TZOFFSETFROM:-0500
TZOFFSETTO:-0600
TZNAME:CST
DTSTART:20221106T070000
END:STANDARD
BEGIN:DAYLIGHT
TZOFFSETFROM:-0600
TZOFFSETTO:-0500
TZNAME:CDT
DTSTART:20230312T080000
END:DAYLIGHT
BEGIN:STANDARD
TZOFFSETFROM:-0500
TZOFFSETTO:-0600
TZNAME:CST
DTSTART:20231105T070000
END:STANDARD
BEGIN:DAYLIGHT
TZOFFSETFROM:-0600
TZOFFSETTO:-0500
TZNAME:CDT
DTSTART:20240310T080000
END:DAYLIGHT
BEGIN:STANDARD
TZOFFSETFROM:-0500
TZOFFSETTO:-0600
TZNAME:CST
DTSTART:20241103T070000
END:STANDARD
END:VTIMEZONE
BEGIN:VEVENT
DTSTART;TZID=America/Chicago:20230904T100000
DTEND;TZID=America/Chicago:20230904T120000
DTSTAMP:20260424T180837
CREATED:20210226T234208Z
LAST-MODIFIED:20210226T234530Z
UID:10000442-1693821600-1693828800@villageofwyocena.com
SUMMARY:Helping Hands Pantry Open
DESCRIPTION:
URL:https://villageofwyocena.com/event/helping-hands-pantry-open-4/2023-09-04/
CATEGORIES:Community Events
END:VEVENT
BEGIN:VEVENT
DTSTART;TZID=America/Chicago:20230905T100000
DTEND;TZID=America/Chicago:20230905T120000
DTSTAMP:20260424T180837
CREATED:20210226T234621Z
LAST-MODIFIED:20210226T234621Z
UID:10000672-1693908000-1693915200@villageofwyocena.com
SUMMARY:Helping Hands Pantry Open
DESCRIPTION:
URL:https://villageofwyocena.com/event/helping-hands-pantry-open-7/2023-09-05/
CATEGORIES:Community Events
END:VEVENT
BEGIN:VEVENT
DTSTART;TZID=America/Chicago:20230906T100000
DTEND;TZID=America/Chicago:20230906T120000
DTSTAMP:20260424T180837
CREATED:20210226T210833Z
LAST-MODIFIED:20210226T215431Z
UID:10000169-1693994400-1694001600@villageofwyocena.com
SUMMARY:Helping Hands Pantry Open
DESCRIPTION:
URL:https://villageofwyocena.com/event/helping-hands-pantry-open/2023-09-06/
CATEGORIES:Community Events
END:VEVENT
BEGIN:VEVENT
DTSTART;TZID=America/Chicago:20230911T100000
DTEND;TZID=America/Chicago:20230911T120000
DTSTAMP:20260424T180837
CREATED:20210226T234358Z
LAST-MODIFIED:20210226T234358Z
UID:10000519-1694426400-1694433600@villageofwyocena.com
SUMMARY:Helping Hands Pantry Open
DESCRIPTION:
URL:https://villageofwyocena.com/event/helping-hands-pantry-open-5/2023-09-11/
CATEGORIES:Community Events
END:VEVENT
BEGIN:VEVENT
DTSTART;TZID=America/Chicago:20230912T100000
DTEND;TZID=America/Chicago:20230912T120000
DTSTAMP:20260424T180837
CREATED:20210226T234717Z
LAST-MODIFIED:20210226T234717Z
UID:10000749-1694512800-1694520000@villageofwyocena.com
SUMMARY:Helping Hands Pantry Open
DESCRIPTION:
URL:https://villageofwyocena.com/event/helping-hands-pantry-open-8/2023-09-12/
CATEGORIES:Community Events
END:VEVENT
BEGIN:VEVENT
DTSTART;TZID=America/Chicago:20230913T100000
DTEND;TZID=America/Chicago:20230913T120000
DTSTAMP:20260424T180837
CREATED:20210226T210919Z
LAST-MODIFIED:20210226T215433Z
UID:10000246-1694599200-1694606400@villageofwyocena.com
SUMMARY:Helping Hands Pantry Open
DESCRIPTION:
URL:https://villageofwyocena.com/event/helping-hands-pantry-open-2/2023-09-13/
CATEGORIES:Community Events
END:VEVENT
BEGIN:VEVENT
DTSTART;TZID=America/Chicago:20230918T100000
DTEND;TZID=America/Chicago:20230918T120000
DTSTAMP:20260424T180837
CREATED:20210226T234511Z
LAST-MODIFIED:20210226T234511Z
UID:10000596-1695031200-1695038400@villageofwyocena.com
SUMMARY:Helping Hands Pantry Open
DESCRIPTION:
URL:https://villageofwyocena.com/event/helping-hands-pantry-open-6/2023-09-18/
CATEGORIES:Community Events
END:VEVENT
BEGIN:VEVENT
DTSTART;TZID=America/Chicago:20230919T100000
DTEND;TZID=America/Chicago:20230919T120000
DTSTAMP:20260424T180837
CREATED:20210226T234800Z
LAST-MODIFIED:20210226T234800Z
UID:10000826-1695117600-1695124800@villageofwyocena.com
SUMMARY:Helping Hands Pantry Open
DESCRIPTION:
URL:https://villageofwyocena.com/event/helping-hands-pantry-open-9/2023-09-19/
CATEGORIES:Community Events
END:VEVENT
BEGIN:VEVENT
DTSTART;TZID=America/Chicago:20230920T100000
DTEND;TZID=America/Chicago:20230920T120000
DTSTAMP:20260424T180837
CREATED:20210226T210959Z
LAST-MODIFIED:20210226T215435Z
UID:10000323-1695204000-1695211200@villageofwyocena.com
SUMMARY:Helping Hands Pantry Open
DESCRIPTION:
URL:https://villageofwyocena.com/event/helping-hands-pantry-open-3/2023-09-20/
CATEGORIES:Community Events
END:VEVENT
END:VCALENDAR