BEGIN:VCALENDAR
VERSION:2.0
PRODID:-//Village of Wyocena - ECPv6.15.17.1//NONSGML v1.0//EN
CALSCALE:GREGORIAN
METHOD:PUBLISH
X-WR-CALNAME:Village of Wyocena
X-ORIGINAL-URL:https://villageofwyocena.com
X-WR-CALDESC:Events for Village of Wyocena
REFRESH-INTERVAL;VALUE=DURATION:PT1H
X-Robots-Tag:noindex
X-PUBLISHED-TTL:PT1H
BEGIN:VTIMEZONE
TZID:America/Chicago
BEGIN:DAYLIGHT
TZOFFSETFROM:-0600
TZOFFSETTO:-0500
TZNAME:CDT
DTSTART:20220313T080000
END:DAYLIGHT
BEGIN:STANDARD
TZOFFSETFROM:-0500
TZOFFSETTO:-0600
TZNAME:CST
DTSTART:20221106T070000
END:STANDARD
BEGIN:DAYLIGHT
TZOFFSETFROM:-0600
TZOFFSETTO:-0500
TZNAME:CDT
DTSTART:20230312T080000
END:DAYLIGHT
BEGIN:STANDARD
TZOFFSETFROM:-0500
TZOFFSETTO:-0600
TZNAME:CST
DTSTART:20231105T070000
END:STANDARD
BEGIN:DAYLIGHT
TZOFFSETFROM:-0600
TZOFFSETTO:-0500
TZNAME:CDT
DTSTART:20240310T080000
END:DAYLIGHT
BEGIN:STANDARD
TZOFFSETFROM:-0500
TZOFFSETTO:-0600
TZNAME:CST
DTSTART:20241103T070000
END:STANDARD
END:VTIMEZONE
BEGIN:VEVENT
DTSTART;TZID=America/Chicago:20231101T100000
DTEND;TZID=America/Chicago:20231101T120000
DTSTAMP:20260424T145220
CREATED:20210226T210833Z
LAST-MODIFIED:20210226T215431Z
UID:10000171-1698832800-1698840000@villageofwyocena.com
SUMMARY:Helping Hands Pantry Open
DESCRIPTION:
URL:https://villageofwyocena.com/event/helping-hands-pantry-open/2023-11-01/
CATEGORIES:Community Events
END:VEVENT
BEGIN:VEVENT
DTSTART;TZID=America/Chicago:20231106T100000
DTEND;TZID=America/Chicago:20231106T120000
DTSTAMP:20260424T145220
CREATED:20210226T234208Z
LAST-MODIFIED:20210226T234530Z
UID:10000444-1699264800-1699272000@villageofwyocena.com
SUMMARY:Helping Hands Pantry Open
DESCRIPTION:
URL:https://villageofwyocena.com/event/helping-hands-pantry-open-4/2023-11-06/
CATEGORIES:Community Events
END:VEVENT
BEGIN:VEVENT
DTSTART;TZID=America/Chicago:20231107T100000
DTEND;TZID=America/Chicago:20231107T120000
DTSTAMP:20260424T145220
CREATED:20210226T234621Z
LAST-MODIFIED:20210226T234621Z
UID:10000674-1699351200-1699358400@villageofwyocena.com
SUMMARY:Helping Hands Pantry Open
DESCRIPTION:
URL:https://villageofwyocena.com/event/helping-hands-pantry-open-7/2023-11-07/
CATEGORIES:Community Events
END:VEVENT
BEGIN:VEVENT
DTSTART;TZID=America/Chicago:20231108T100000
DTEND;TZID=America/Chicago:20231108T120000
DTSTAMP:20260424T145220
CREATED:20210226T210919Z
LAST-MODIFIED:20210226T215433Z
UID:10000248-1699437600-1699444800@villageofwyocena.com
SUMMARY:Helping Hands Pantry Open
DESCRIPTION:
URL:https://villageofwyocena.com/event/helping-hands-pantry-open-2/2023-11-08/
CATEGORIES:Community Events
END:VEVENT
BEGIN:VEVENT
DTSTART;TZID=America/Chicago:20231113T100000
DTEND;TZID=America/Chicago:20231113T120000
DTSTAMP:20260424T145220
CREATED:20210226T234358Z
LAST-MODIFIED:20210226T234358Z
UID:10000521-1699869600-1699876800@villageofwyocena.com
SUMMARY:Helping Hands Pantry Open
DESCRIPTION:
URL:https://villageofwyocena.com/event/helping-hands-pantry-open-5/2023-11-13/
CATEGORIES:Community Events
END:VEVENT
BEGIN:VEVENT
DTSTART;TZID=America/Chicago:20231114T100000
DTEND;TZID=America/Chicago:20231114T120000
DTSTAMP:20260424T145220
CREATED:20210226T234717Z
LAST-MODIFIED:20210226T234717Z
UID:10000751-1699956000-1699963200@villageofwyocena.com
SUMMARY:Helping Hands Pantry Open
DESCRIPTION:
URL:https://villageofwyocena.com/event/helping-hands-pantry-open-8/2023-11-14/
CATEGORIES:Community Events
END:VEVENT
BEGIN:VEVENT
DTSTART;TZID=America/Chicago:20231115T100000
DTEND;TZID=America/Chicago:20231115T120000
DTSTAMP:20260424T145220
CREATED:20210226T210959Z
LAST-MODIFIED:20210226T215435Z
UID:10000325-1700042400-1700049600@villageofwyocena.com
SUMMARY:Helping Hands Pantry Open
DESCRIPTION:
URL:https://villageofwyocena.com/event/helping-hands-pantry-open-3/2023-11-15/
CATEGORIES:Community Events
END:VEVENT
BEGIN:VEVENT
DTSTART;TZID=America/Chicago:20231120T100000
DTEND;TZID=America/Chicago:20231120T120000
DTSTAMP:20260424T145220
CREATED:20210226T234511Z
LAST-MODIFIED:20210226T234511Z
UID:10000598-1700474400-1700481600@villageofwyocena.com
SUMMARY:Helping Hands Pantry Open
DESCRIPTION:
URL:https://villageofwyocena.com/event/helping-hands-pantry-open-6/2023-11-20/
CATEGORIES:Community Events
END:VEVENT
BEGIN:VEVENT
DTSTART;TZID=America/Chicago:20231121T100000
DTEND;TZID=America/Chicago:20231121T120000
DTSTAMP:20260424T145220
CREATED:20210226T234800Z
LAST-MODIFIED:20210226T234800Z
UID:10000828-1700560800-1700568000@villageofwyocena.com
SUMMARY:Helping Hands Pantry Open
DESCRIPTION:
URL:https://villageofwyocena.com/event/helping-hands-pantry-open-9/2023-11-21/
CATEGORIES:Community Events
END:VEVENT
END:VCALENDAR