BEGIN:VCALENDAR
VERSION:2.0
PRODID:-//Village of Wyocena - ECPv6.15.17.1//NONSGML v1.0//EN
CALSCALE:GREGORIAN
METHOD:PUBLISH
X-WR-CALNAME:Village of Wyocena
X-ORIGINAL-URL:https://villageofwyocena.com
X-WR-CALDESC:Events for Village of Wyocena
REFRESH-INTERVAL;VALUE=DURATION:PT1H
X-Robots-Tag:noindex
X-PUBLISHED-TTL:PT1H
BEGIN:VTIMEZONE
TZID:America/Chicago
BEGIN:DAYLIGHT
TZOFFSETFROM:-0600
TZOFFSETTO:-0500
TZNAME:CDT
DTSTART:20220313T080000
END:DAYLIGHT
BEGIN:STANDARD
TZOFFSETFROM:-0500
TZOFFSETTO:-0600
TZNAME:CST
DTSTART:20221106T070000
END:STANDARD
BEGIN:DAYLIGHT
TZOFFSETFROM:-0600
TZOFFSETTO:-0500
TZNAME:CDT
DTSTART:20230312T080000
END:DAYLIGHT
BEGIN:STANDARD
TZOFFSETFROM:-0500
TZOFFSETTO:-0600
TZNAME:CST
DTSTART:20231105T070000
END:STANDARD
BEGIN:DAYLIGHT
TZOFFSETFROM:-0600
TZOFFSETTO:-0500
TZNAME:CDT
DTSTART:20240310T080000
END:DAYLIGHT
BEGIN:STANDARD
TZOFFSETFROM:-0500
TZOFFSETTO:-0600
TZNAME:CST
DTSTART:20241103T070000
END:STANDARD
END:VTIMEZONE
BEGIN:VEVENT
DTSTART;TZID=America/Chicago:20231204T100000
DTEND;TZID=America/Chicago:20231204T120000
DTSTAMP:20260424T131341
CREATED:20210226T234208Z
LAST-MODIFIED:20210226T234530Z
UID:10000445-1701684000-1701691200@villageofwyocena.com
SUMMARY:Helping Hands Pantry Open
DESCRIPTION:
URL:https://villageofwyocena.com/event/helping-hands-pantry-open-4/2023-12-04/
CATEGORIES:Community Events
END:VEVENT
BEGIN:VEVENT
DTSTART;TZID=America/Chicago:20231205T100000
DTEND;TZID=America/Chicago:20231205T120000
DTSTAMP:20260424T131341
CREATED:20210226T234621Z
LAST-MODIFIED:20210226T234621Z
UID:10000675-1701770400-1701777600@villageofwyocena.com
SUMMARY:Helping Hands Pantry Open
DESCRIPTION:
URL:https://villageofwyocena.com/event/helping-hands-pantry-open-7/2023-12-05/
CATEGORIES:Community Events
END:VEVENT
BEGIN:VEVENT
DTSTART;TZID=America/Chicago:20231206T100000
DTEND;TZID=America/Chicago:20231206T120000
DTSTAMP:20260424T131341
CREATED:20210226T210833Z
LAST-MODIFIED:20210226T215431Z
UID:10000172-1701856800-1701864000@villageofwyocena.com
SUMMARY:Helping Hands Pantry Open
DESCRIPTION:
URL:https://villageofwyocena.com/event/helping-hands-pantry-open/2023-12-06/
CATEGORIES:Community Events
END:VEVENT
BEGIN:VEVENT
DTSTART;TZID=America/Chicago:20231211T100000
DTEND;TZID=America/Chicago:20231211T120000
DTSTAMP:20260424T131341
CREATED:20210226T234358Z
LAST-MODIFIED:20210226T234358Z
UID:10000522-1702288800-1702296000@villageofwyocena.com
SUMMARY:Helping Hands Pantry Open
DESCRIPTION:
URL:https://villageofwyocena.com/event/helping-hands-pantry-open-5/2023-12-11/
CATEGORIES:Community Events
END:VEVENT
BEGIN:VEVENT
DTSTART;TZID=America/Chicago:20231212T100000
DTEND;TZID=America/Chicago:20231212T120000
DTSTAMP:20260424T131341
CREATED:20210226T234717Z
LAST-MODIFIED:20210226T234717Z
UID:10000752-1702375200-1702382400@villageofwyocena.com
SUMMARY:Helping Hands Pantry Open
DESCRIPTION:
URL:https://villageofwyocena.com/event/helping-hands-pantry-open-8/2023-12-12/
CATEGORIES:Community Events
END:VEVENT
BEGIN:VEVENT
DTSTART;TZID=America/Chicago:20231213T100000
DTEND;TZID=America/Chicago:20231213T120000
DTSTAMP:20260424T131341
CREATED:20210226T210919Z
LAST-MODIFIED:20210226T215433Z
UID:10000249-1702461600-1702468800@villageofwyocena.com
SUMMARY:Helping Hands Pantry Open
DESCRIPTION:
URL:https://villageofwyocena.com/event/helping-hands-pantry-open-2/2023-12-13/
CATEGORIES:Community Events
END:VEVENT
BEGIN:VEVENT
DTSTART;TZID=America/Chicago:20231218T100000
DTEND;TZID=America/Chicago:20231218T120000
DTSTAMP:20260424T131341
CREATED:20210226T234511Z
LAST-MODIFIED:20210226T234511Z
UID:10000599-1702893600-1702900800@villageofwyocena.com
SUMMARY:Helping Hands Pantry Open
DESCRIPTION:
URL:https://villageofwyocena.com/event/helping-hands-pantry-open-6/2023-12-18/
CATEGORIES:Community Events
END:VEVENT
BEGIN:VEVENT
DTSTART;TZID=America/Chicago:20231219T100000
DTEND;TZID=America/Chicago:20231219T120000
DTSTAMP:20260424T131341
CREATED:20210226T234800Z
LAST-MODIFIED:20210226T234800Z
UID:10000829-1702980000-1702987200@villageofwyocena.com
SUMMARY:Helping Hands Pantry Open
DESCRIPTION:
URL:https://villageofwyocena.com/event/helping-hands-pantry-open-9/2023-12-19/
CATEGORIES:Community Events
END:VEVENT
BEGIN:VEVENT
DTSTART;TZID=America/Chicago:20231220T100000
DTEND;TZID=America/Chicago:20231220T120000
DTSTAMP:20260424T131341
CREATED:20210226T210959Z
LAST-MODIFIED:20210226T215435Z
UID:10000326-1703066400-1703073600@villageofwyocena.com
SUMMARY:Helping Hands Pantry Open
DESCRIPTION:
URL:https://villageofwyocena.com/event/helping-hands-pantry-open-3/2023-12-20/
CATEGORIES:Community Events
END:VEVENT
END:VCALENDAR