BEGIN:VCALENDAR
VERSION:2.0
PRODID:-//Village of Wyocena - ECPv6.15.17.1//NONSGML v1.0//EN
CALSCALE:GREGORIAN
METHOD:PUBLISH
X-ORIGINAL-URL:https://villageofwyocena.com
X-WR-CALDESC:Events for Village of Wyocena
REFRESH-INTERVAL;VALUE=DURATION:PT1H
X-Robots-Tag:noindex
X-PUBLISHED-TTL:PT1H
BEGIN:VTIMEZONE
TZID:America/Chicago
BEGIN:DAYLIGHT
TZOFFSETFROM:-0600
TZOFFSETTO:-0500
TZNAME:CDT
DTSTART:20230312T080000
END:DAYLIGHT
BEGIN:STANDARD
TZOFFSETFROM:-0500
TZOFFSETTO:-0600
TZNAME:CST
DTSTART:20231105T070000
END:STANDARD
BEGIN:DAYLIGHT
TZOFFSETFROM:-0600
TZOFFSETTO:-0500
TZNAME:CDT
DTSTART:20240310T080000
END:DAYLIGHT
BEGIN:STANDARD
TZOFFSETFROM:-0500
TZOFFSETTO:-0600
TZNAME:CST
DTSTART:20241103T070000
END:STANDARD
BEGIN:DAYLIGHT
TZOFFSETFROM:-0600
TZOFFSETTO:-0500
TZNAME:CDT
DTSTART:20250309T080000
END:DAYLIGHT
BEGIN:STANDARD
TZOFFSETFROM:-0500
TZOFFSETTO:-0600
TZNAME:CST
DTSTART:20251102T070000
END:STANDARD
END:VTIMEZONE
BEGIN:VEVENT
DTSTART;TZID=America/Chicago:20240101T100000
DTEND;TZID=America/Chicago:20240101T120000
DTSTAMP:20260424T113447
CREATED:20210226T234208Z
LAST-MODIFIED:20210226T234530Z
UID:10000446-1704103200-1704110400@villageofwyocena.com
SUMMARY:Helping Hands Pantry Open
DESCRIPTION:
URL:https://villageofwyocena.com/event/helping-hands-pantry-open-4/2024-01-01/
CATEGORIES:Community Events
END:VEVENT
BEGIN:VEVENT
DTSTART;TZID=America/Chicago:20240102T100000
DTEND;TZID=America/Chicago:20240102T120000
DTSTAMP:20260424T113447
CREATED:20210226T234621Z
LAST-MODIFIED:20210226T234621Z
UID:10000676-1704189600-1704196800@villageofwyocena.com
SUMMARY:Helping Hands Pantry Open
DESCRIPTION:
URL:https://villageofwyocena.com/event/helping-hands-pantry-open-7/2024-01-02/
CATEGORIES:Community Events
END:VEVENT
BEGIN:VEVENT
DTSTART;TZID=America/Chicago:20240103T100000
DTEND;TZID=America/Chicago:20240103T120000
DTSTAMP:20260424T113447
CREATED:20210226T210833Z
LAST-MODIFIED:20210226T215431Z
UID:10000173-1704276000-1704283200@villageofwyocena.com
SUMMARY:Helping Hands Pantry Open
DESCRIPTION:
URL:https://villageofwyocena.com/event/helping-hands-pantry-open/2024-01-03/
CATEGORIES:Community Events
END:VEVENT
BEGIN:VEVENT
DTSTART;TZID=America/Chicago:20240108T100000
DTEND;TZID=America/Chicago:20240108T120000
DTSTAMP:20260424T113447
CREATED:20210226T234358Z
LAST-MODIFIED:20210226T234358Z
UID:10000523-1704708000-1704715200@villageofwyocena.com
SUMMARY:Helping Hands Pantry Open
DESCRIPTION:
URL:https://villageofwyocena.com/event/helping-hands-pantry-open-5/2024-01-08/
CATEGORIES:Community Events
END:VEVENT
BEGIN:VEVENT
DTSTART;TZID=America/Chicago:20240109T100000
DTEND;TZID=America/Chicago:20240109T120000
DTSTAMP:20260424T113447
CREATED:20210226T234717Z
LAST-MODIFIED:20210226T234717Z
UID:10000753-1704794400-1704801600@villageofwyocena.com
SUMMARY:Helping Hands Pantry Open
DESCRIPTION:
URL:https://villageofwyocena.com/event/helping-hands-pantry-open-8/2024-01-09/
CATEGORIES:Community Events
END:VEVENT
BEGIN:VEVENT
DTSTART;TZID=America/Chicago:20240110T100000
DTEND;TZID=America/Chicago:20240110T120000
DTSTAMP:20260424T113447
CREATED:20210226T210919Z
LAST-MODIFIED:20210226T215433Z
UID:10000250-1704880800-1704888000@villageofwyocena.com
SUMMARY:Helping Hands Pantry Open
DESCRIPTION:
URL:https://villageofwyocena.com/event/helping-hands-pantry-open-2/2024-01-10/
CATEGORIES:Community Events
END:VEVENT
BEGIN:VEVENT
DTSTART;TZID=America/Chicago:20240115T100000
DTEND;TZID=America/Chicago:20240115T120000
DTSTAMP:20260424T113447
CREATED:20210226T234511Z
LAST-MODIFIED:20210226T234511Z
UID:10000600-1705312800-1705320000@villageofwyocena.com
SUMMARY:Helping Hands Pantry Open
DESCRIPTION:
URL:https://villageofwyocena.com/event/helping-hands-pantry-open-6/2024-01-15/
CATEGORIES:Community Events
END:VEVENT
BEGIN:VEVENT
DTSTART;TZID=America/Chicago:20240116T100000
DTEND;TZID=America/Chicago:20240116T120000
DTSTAMP:20260424T113447
CREATED:20210226T234800Z
LAST-MODIFIED:20210226T234800Z
UID:10000830-1705399200-1705406400@villageofwyocena.com
SUMMARY:Helping Hands Pantry Open
DESCRIPTION:
URL:https://villageofwyocena.com/event/helping-hands-pantry-open-9/2024-01-16/
CATEGORIES:Community Events
END:VEVENT
BEGIN:VEVENT
DTSTART;TZID=America/Chicago:20240117T100000
DTEND;TZID=America/Chicago:20240117T120000
DTSTAMP:20260424T113447
CREATED:20210226T210959Z
LAST-MODIFIED:20210226T215435Z
UID:10000327-1705485600-1705492800@villageofwyocena.com
SUMMARY:Helping Hands Pantry Open
DESCRIPTION:
URL:https://villageofwyocena.com/event/helping-hands-pantry-open-3/2024-01-17/
CATEGORIES:Community Events
END:VEVENT
END:VCALENDAR