BEGIN:VCALENDAR
VERSION:2.0
PRODID:-//Village of Wyocena - ECPv6.15.17.1//NONSGML v1.0//EN
CALSCALE:GREGORIAN
METHOD:PUBLISH
X-ORIGINAL-URL:https://villageofwyocena.com
X-WR-CALDESC:Events for Village of Wyocena
REFRESH-INTERVAL;VALUE=DURATION:PT1H
X-Robots-Tag:noindex
X-PUBLISHED-TTL:PT1H
BEGIN:VTIMEZONE
TZID:America/Chicago
BEGIN:DAYLIGHT
TZOFFSETFROM:-0600
TZOFFSETTO:-0500
TZNAME:CDT
DTSTART:20240310T080000
END:DAYLIGHT
BEGIN:STANDARD
TZOFFSETFROM:-0500
TZOFFSETTO:-0600
TZNAME:CST
DTSTART:20241103T070000
END:STANDARD
BEGIN:DAYLIGHT
TZOFFSETFROM:-0600
TZOFFSETTO:-0500
TZNAME:CDT
DTSTART:20250309T080000
END:DAYLIGHT
BEGIN:STANDARD
TZOFFSETFROM:-0500
TZOFFSETTO:-0600
TZNAME:CST
DTSTART:20251102T070000
END:STANDARD
BEGIN:DAYLIGHT
TZOFFSETFROM:-0600
TZOFFSETTO:-0500
TZNAME:CDT
DTSTART:20260308T080000
END:DAYLIGHT
BEGIN:STANDARD
TZOFFSETFROM:-0500
TZOFFSETTO:-0600
TZNAME:CST
DTSTART:20261101T070000
END:STANDARD
END:VTIMEZONE
BEGIN:VEVENT
DTSTART;TZID=America/Chicago:20250303T100000
DTEND;TZID=America/Chicago:20250303T120000
DTSTAMP:20260423T130828
CREATED:20210226T234208Z
LAST-MODIFIED:20210226T234530Z
UID:10000460-1740996000-1741003200@villageofwyocena.com
SUMMARY:Helping Hands Pantry Open
DESCRIPTION:
URL:https://villageofwyocena.com/event/helping-hands-pantry-open-4/2025-03-03/
CATEGORIES:Community Events
END:VEVENT
BEGIN:VEVENT
DTSTART;TZID=America/Chicago:20250304T100000
DTEND;TZID=America/Chicago:20250304T120000
DTSTAMP:20260423T130828
CREATED:20210226T234621Z
LAST-MODIFIED:20210226T234621Z
UID:10000690-1741082400-1741089600@villageofwyocena.com
SUMMARY:Helping Hands Pantry Open
DESCRIPTION:
URL:https://villageofwyocena.com/event/helping-hands-pantry-open-7/2025-03-04/
CATEGORIES:Community Events
END:VEVENT
BEGIN:VEVENT
DTSTART;TZID=America/Chicago:20250305T100000
DTEND;TZID=America/Chicago:20250305T120000
DTSTAMP:20260423T130828
CREATED:20210226T210833Z
LAST-MODIFIED:20210226T215431Z
UID:10000187-1741168800-1741176000@villageofwyocena.com
SUMMARY:Helping Hands Pantry Open
DESCRIPTION:
URL:https://villageofwyocena.com/event/helping-hands-pantry-open/2025-03-05/
CATEGORIES:Community Events
END:VEVENT
BEGIN:VEVENT
DTSTART;TZID=America/Chicago:20250310T100000
DTEND;TZID=America/Chicago:20250310T120000
DTSTAMP:20260423T130828
CREATED:20210226T234358Z
LAST-MODIFIED:20210226T234358Z
UID:10000537-1741600800-1741608000@villageofwyocena.com
SUMMARY:Helping Hands Pantry Open
DESCRIPTION:
URL:https://villageofwyocena.com/event/helping-hands-pantry-open-5/2025-03-10/
CATEGORIES:Community Events
END:VEVENT
BEGIN:VEVENT
DTSTART;TZID=America/Chicago:20250311T100000
DTEND;TZID=America/Chicago:20250311T120000
DTSTAMP:20260423T130828
CREATED:20210226T234717Z
LAST-MODIFIED:20210226T234717Z
UID:10000767-1741687200-1741694400@villageofwyocena.com
SUMMARY:Helping Hands Pantry Open
DESCRIPTION:
URL:https://villageofwyocena.com/event/helping-hands-pantry-open-8/2025-03-11/
CATEGORIES:Community Events
END:VEVENT
BEGIN:VEVENT
DTSTART;TZID=America/Chicago:20250312T100000
DTEND;TZID=America/Chicago:20250312T120000
DTSTAMP:20260423T130828
CREATED:20210226T210919Z
LAST-MODIFIED:20210226T215433Z
UID:10000264-1741773600-1741780800@villageofwyocena.com
SUMMARY:Helping Hands Pantry Open
DESCRIPTION:
URL:https://villageofwyocena.com/event/helping-hands-pantry-open-2/2025-03-12/
CATEGORIES:Community Events
END:VEVENT
BEGIN:VEVENT
DTSTART;TZID=America/Chicago:20250317T100000
DTEND;TZID=America/Chicago:20250317T120000
DTSTAMP:20260423T130828
CREATED:20210226T234511Z
LAST-MODIFIED:20210226T234511Z
UID:10000614-1742205600-1742212800@villageofwyocena.com
SUMMARY:Helping Hands Pantry Open
DESCRIPTION:
URL:https://villageofwyocena.com/event/helping-hands-pantry-open-6/2025-03-17/
CATEGORIES:Community Events
END:VEVENT
BEGIN:VEVENT
DTSTART;TZID=America/Chicago:20250318T100000
DTEND;TZID=America/Chicago:20250318T120000
DTSTAMP:20260423T130828
CREATED:20210226T234800Z
LAST-MODIFIED:20210226T234800Z
UID:10000844-1742292000-1742299200@villageofwyocena.com
SUMMARY:Helping Hands Pantry Open
DESCRIPTION:
URL:https://villageofwyocena.com/event/helping-hands-pantry-open-9/2025-03-18/
CATEGORIES:Community Events
END:VEVENT
BEGIN:VEVENT
DTSTART;TZID=America/Chicago:20250319T100000
DTEND;TZID=America/Chicago:20250319T120000
DTSTAMP:20260423T130828
CREATED:20210226T210959Z
LAST-MODIFIED:20210226T215435Z
UID:10000341-1742378400-1742385600@villageofwyocena.com
SUMMARY:Helping Hands Pantry Open
DESCRIPTION:
URL:https://villageofwyocena.com/event/helping-hands-pantry-open-3/2025-03-19/
CATEGORIES:Community Events
END:VEVENT
END:VCALENDAR