BEGIN:VCALENDAR
VERSION:2.0
PRODID:-//Village of Wyocena - ECPv6.15.17.1//NONSGML v1.0//EN
CALSCALE:GREGORIAN
METHOD:PUBLISH
X-WR-CALNAME:Village of Wyocena
X-ORIGINAL-URL:https://villageofwyocena.com
X-WR-CALDESC:Events for Village of Wyocena
REFRESH-INTERVAL;VALUE=DURATION:PT1H
X-Robots-Tag:noindex
X-PUBLISHED-TTL:PT1H
BEGIN:VTIMEZONE
TZID:America/Chicago
BEGIN:DAYLIGHT
TZOFFSETFROM:-0600
TZOFFSETTO:-0500
TZNAME:CDT
DTSTART:20240310T080000
END:DAYLIGHT
BEGIN:STANDARD
TZOFFSETFROM:-0500
TZOFFSETTO:-0600
TZNAME:CST
DTSTART:20241103T070000
END:STANDARD
BEGIN:DAYLIGHT
TZOFFSETFROM:-0600
TZOFFSETTO:-0500
TZNAME:CDT
DTSTART:20250309T080000
END:DAYLIGHT
BEGIN:STANDARD
TZOFFSETFROM:-0500
TZOFFSETTO:-0600
TZNAME:CST
DTSTART:20251102T070000
END:STANDARD
BEGIN:DAYLIGHT
TZOFFSETFROM:-0600
TZOFFSETTO:-0500
TZNAME:CDT
DTSTART:20260308T080000
END:DAYLIGHT
BEGIN:STANDARD
TZOFFSETFROM:-0500
TZOFFSETTO:-0600
TZNAME:CST
DTSTART:20261101T070000
END:STANDARD
END:VTIMEZONE
BEGIN:VEVENT
DTSTART;TZID=America/Chicago:20250602T100000
DTEND;TZID=America/Chicago:20250602T120000
DTSTAMP:20260423T084758
CREATED:20210226T234208Z
LAST-MODIFIED:20210226T234530Z
UID:10000463-1748858400-1748865600@villageofwyocena.com
SUMMARY:Helping Hands Pantry Open
DESCRIPTION:
URL:https://villageofwyocena.com/event/helping-hands-pantry-open-4/2025-06-02/
CATEGORIES:Community Events
END:VEVENT
BEGIN:VEVENT
DTSTART;TZID=America/Chicago:20250603T100000
DTEND;TZID=America/Chicago:20250603T120000
DTSTAMP:20260423T084758
CREATED:20210226T234621Z
LAST-MODIFIED:20210226T234621Z
UID:10000693-1748944800-1748952000@villageofwyocena.com
SUMMARY:Helping Hands Pantry Open
DESCRIPTION:
URL:https://villageofwyocena.com/event/helping-hands-pantry-open-7/2025-06-03/
CATEGORIES:Community Events
END:VEVENT
BEGIN:VEVENT
DTSTART;TZID=America/Chicago:20250604T100000
DTEND;TZID=America/Chicago:20250604T120000
DTSTAMP:20260423T084758
CREATED:20210226T210833Z
LAST-MODIFIED:20210226T215431Z
UID:10000190-1749031200-1749038400@villageofwyocena.com
SUMMARY:Helping Hands Pantry Open
DESCRIPTION:
URL:https://villageofwyocena.com/event/helping-hands-pantry-open/2025-06-04/
CATEGORIES:Community Events
END:VEVENT
BEGIN:VEVENT
DTSTART;TZID=America/Chicago:20250609T100000
DTEND;TZID=America/Chicago:20250609T120000
DTSTAMP:20260423T084758
CREATED:20210226T234358Z
LAST-MODIFIED:20210226T234358Z
UID:10000540-1749463200-1749470400@villageofwyocena.com
SUMMARY:Helping Hands Pantry Open
DESCRIPTION:
URL:https://villageofwyocena.com/event/helping-hands-pantry-open-5/2025-06-09/
CATEGORIES:Community Events
END:VEVENT
BEGIN:VEVENT
DTSTART;TZID=America/Chicago:20250610T100000
DTEND;TZID=America/Chicago:20250610T120000
DTSTAMP:20260423T084758
CREATED:20210226T234717Z
LAST-MODIFIED:20210226T234717Z
UID:10000770-1749549600-1749556800@villageofwyocena.com
SUMMARY:Helping Hands Pantry Open
DESCRIPTION:
URL:https://villageofwyocena.com/event/helping-hands-pantry-open-8/2025-06-10/
CATEGORIES:Community Events
END:VEVENT
BEGIN:VEVENT
DTSTART;TZID=America/Chicago:20250611T100000
DTEND;TZID=America/Chicago:20250611T120000
DTSTAMP:20260423T084758
CREATED:20210226T210919Z
LAST-MODIFIED:20210226T215433Z
UID:10000267-1749636000-1749643200@villageofwyocena.com
SUMMARY:Helping Hands Pantry Open
DESCRIPTION:
URL:https://villageofwyocena.com/event/helping-hands-pantry-open-2/2025-06-11/
CATEGORIES:Community Events
END:VEVENT
BEGIN:VEVENT
DTSTART;TZID=America/Chicago:20250616T100000
DTEND;TZID=America/Chicago:20250616T120000
DTSTAMP:20260423T084758
CREATED:20210226T234511Z
LAST-MODIFIED:20210226T234511Z
UID:10000617-1750068000-1750075200@villageofwyocena.com
SUMMARY:Helping Hands Pantry Open
DESCRIPTION:
URL:https://villageofwyocena.com/event/helping-hands-pantry-open-6/2025-06-16/
CATEGORIES:Community Events
END:VEVENT
BEGIN:VEVENT
DTSTART;TZID=America/Chicago:20250617T100000
DTEND;TZID=America/Chicago:20250617T120000
DTSTAMP:20260423T084758
CREATED:20210226T234800Z
LAST-MODIFIED:20210226T234800Z
UID:10000847-1750154400-1750161600@villageofwyocena.com
SUMMARY:Helping Hands Pantry Open
DESCRIPTION:
URL:https://villageofwyocena.com/event/helping-hands-pantry-open-9/2025-06-17/
CATEGORIES:Community Events
END:VEVENT
BEGIN:VEVENT
DTSTART;TZID=America/Chicago:20250618T100000
DTEND;TZID=America/Chicago:20250618T120000
DTSTAMP:20260423T084758
CREATED:20210226T210959Z
LAST-MODIFIED:20210226T215435Z
UID:10000344-1750240800-1750248000@villageofwyocena.com
SUMMARY:Helping Hands Pantry Open
DESCRIPTION:
URL:https://villageofwyocena.com/event/helping-hands-pantry-open-3/2025-06-18/
CATEGORIES:Community Events
END:VEVENT
END:VCALENDAR