BEGIN:VCALENDAR
VERSION:2.0
PRODID:-//Village of Wyocena - ECPv6.15.17.1//NONSGML v1.0//EN
CALSCALE:GREGORIAN
METHOD:PUBLISH
X-ORIGINAL-URL:https://villageofwyocena.com
X-WR-CALDESC:Events for Village of Wyocena
REFRESH-INTERVAL;VALUE=DURATION:PT1H
X-Robots-Tag:noindex
X-PUBLISHED-TTL:PT1H
BEGIN:VTIMEZONE
TZID:America/Chicago
BEGIN:DAYLIGHT
TZOFFSETFROM:-0600
TZOFFSETTO:-0500
TZNAME:CDT
DTSTART:20240310T080000
END:DAYLIGHT
BEGIN:STANDARD
TZOFFSETFROM:-0500
TZOFFSETTO:-0600
TZNAME:CST
DTSTART:20241103T070000
END:STANDARD
BEGIN:DAYLIGHT
TZOFFSETFROM:-0600
TZOFFSETTO:-0500
TZNAME:CDT
DTSTART:20250309T080000
END:DAYLIGHT
BEGIN:STANDARD
TZOFFSETFROM:-0500
TZOFFSETTO:-0600
TZNAME:CST
DTSTART:20251102T070000
END:STANDARD
BEGIN:DAYLIGHT
TZOFFSETFROM:-0600
TZOFFSETTO:-0500
TZNAME:CDT
DTSTART:20260308T080000
END:DAYLIGHT
BEGIN:STANDARD
TZOFFSETFROM:-0500
TZOFFSETTO:-0600
TZNAME:CST
DTSTART:20261101T070000
END:STANDARD
END:VTIMEZONE
BEGIN:VEVENT
DTSTART;TZID=America/Chicago:20250902T060000
DTEND;TZID=America/Chicago:20250902T140000
DTSTAMP:20260423T071036
CREATED:20210226T235133Z
LAST-MODIFIED:20210226T235133Z
UID:10001615-1756792800-1756821600@villageofwyocena.com
SUMMARY:Garbage Pick-Up
DESCRIPTION:
URL:https://villageofwyocena.com/event/garbage-pick-up/2025-09-02/
CATEGORIES:Garbage & Recycling
END:VEVENT
BEGIN:VEVENT
DTSTART;TZID=America/Chicago:20250902T060000
DTEND;TZID=America/Chicago:20250902T140000
DTSTAMP:20260423T071036
CREATED:20210226T235241Z
LAST-MODIFIED:20210226T235241Z
UID:10001799-1756792800-1756821600@villageofwyocena.com
SUMMARY:Recycling Pick-Up
DESCRIPTION:
URL:https://villageofwyocena.com/event/recycling-pick-up/2025-09-02/
CATEGORIES:Garbage & Recycling
END:VEVENT
BEGIN:VEVENT
DTSTART;TZID=America/Chicago:20250909T060000
DTEND;TZID=America/Chicago:20250909T140000
DTSTAMP:20260423T071036
CREATED:20210226T235133Z
LAST-MODIFIED:20210226T235133Z
UID:10001616-1757397600-1757426400@villageofwyocena.com
SUMMARY:Garbage Pick-Up
DESCRIPTION:
URL:https://villageofwyocena.com/event/garbage-pick-up/2025-09-09/
CATEGORIES:Garbage & Recycling
END:VEVENT
BEGIN:VEVENT
DTSTART;TZID=America/Chicago:20250916T060000
DTEND;TZID=America/Chicago:20250916T140000
DTSTAMP:20260423T071036
CREATED:20210226T235133Z
LAST-MODIFIED:20210226T235133Z
UID:10001617-1758002400-1758031200@villageofwyocena.com
SUMMARY:Garbage Pick-Up
DESCRIPTION:
URL:https://villageofwyocena.com/event/garbage-pick-up/2025-09-16/
CATEGORIES:Garbage & Recycling
END:VEVENT
BEGIN:VEVENT
DTSTART;TZID=America/Chicago:20250916T060000
DTEND;TZID=America/Chicago:20250916T140000
DTSTAMP:20260423T071036
CREATED:20210226T235241Z
LAST-MODIFIED:20210226T235241Z
UID:10001800-1758002400-1758031200@villageofwyocena.com
SUMMARY:Recycling Pick-Up
DESCRIPTION:
URL:https://villageofwyocena.com/event/recycling-pick-up/2025-09-16/
CATEGORIES:Garbage & Recycling
END:VEVENT
BEGIN:VEVENT
DTSTART;TZID=America/Chicago:20250923T060000
DTEND;TZID=America/Chicago:20250923T140000
DTSTAMP:20260423T071036
CREATED:20210226T235133Z
LAST-MODIFIED:20210226T235133Z
UID:10001618-1758607200-1758636000@villageofwyocena.com
SUMMARY:Garbage Pick-Up
DESCRIPTION:
URL:https://villageofwyocena.com/event/garbage-pick-up/2025-09-23/
CATEGORIES:Garbage & Recycling
END:VEVENT
BEGIN:VEVENT
DTSTART;TZID=America/Chicago:20250930T060000
DTEND;TZID=America/Chicago:20250930T140000
DTSTAMP:20260423T071036
CREATED:20210226T235133Z
LAST-MODIFIED:20210226T235133Z
UID:10001619-1759212000-1759240800@villageofwyocena.com
SUMMARY:Garbage Pick-Up
DESCRIPTION:
URL:https://villageofwyocena.com/event/garbage-pick-up/2025-09-30/
CATEGORIES:Garbage & Recycling
END:VEVENT
BEGIN:VEVENT
DTSTART;TZID=America/Chicago:20250930T060000
DTEND;TZID=America/Chicago:20250930T140000
DTSTAMP:20260423T071036
CREATED:20210226T235241Z
LAST-MODIFIED:20210226T235241Z
UID:10001801-1759212000-1759240800@villageofwyocena.com
SUMMARY:Recycling Pick-Up
DESCRIPTION:
URL:https://villageofwyocena.com/event/recycling-pick-up/2025-09-30/
CATEGORIES:Garbage & Recycling
END:VEVENT
END:VCALENDAR