BEGIN:VCALENDAR
VERSION:2.0
PRODID:-//Village of Wyocena - ECPv6.15.17.1//NONSGML v1.0//EN
CALSCALE:GREGORIAN
METHOD:PUBLISH
X-ORIGINAL-URL:https://villageofwyocena.com
X-WR-CALDESC:Events for Village of Wyocena
REFRESH-INTERVAL;VALUE=DURATION:PT1H
X-Robots-Tag:noindex
X-PUBLISHED-TTL:PT1H
BEGIN:VTIMEZONE
TZID:America/Chicago
BEGIN:DAYLIGHT
TZOFFSETFROM:-0600
TZOFFSETTO:-0500
TZNAME:CDT
DTSTART:20240310T080000
END:DAYLIGHT
BEGIN:STANDARD
TZOFFSETFROM:-0500
TZOFFSETTO:-0600
TZNAME:CST
DTSTART:20241103T070000
END:STANDARD
BEGIN:DAYLIGHT
TZOFFSETFROM:-0600
TZOFFSETTO:-0500
TZNAME:CDT
DTSTART:20250309T080000
END:DAYLIGHT
BEGIN:STANDARD
TZOFFSETFROM:-0500
TZOFFSETTO:-0600
TZNAME:CST
DTSTART:20251102T070000
END:STANDARD
BEGIN:DAYLIGHT
TZOFFSETFROM:-0600
TZOFFSETTO:-0500
TZNAME:CDT
DTSTART:20260308T080000
END:DAYLIGHT
BEGIN:STANDARD
TZOFFSETFROM:-0500
TZOFFSETTO:-0600
TZNAME:CST
DTSTART:20261101T070000
END:STANDARD
END:VTIMEZONE
BEGIN:VEVENT
DTSTART;TZID=America/Chicago:20251104T060000
DTEND;TZID=America/Chicago:20251104T140000
DTSTAMP:20260423T040912
CREATED:20210226T235133Z
LAST-MODIFIED:20210226T235133Z
UID:10001624-1762236000-1762264800@villageofwyocena.com
SUMMARY:Garbage Pick-Up
DESCRIPTION:
URL:https://villageofwyocena.com/event/garbage-pick-up/2025-11-04/
CATEGORIES:Garbage & Recycling
END:VEVENT
BEGIN:VEVENT
DTSTART;TZID=America/Chicago:20251111T060000
DTEND;TZID=America/Chicago:20251111T140000
DTSTAMP:20260423T040912
CREATED:20210226T235133Z
LAST-MODIFIED:20210226T235133Z
UID:10001625-1762840800-1762869600@villageofwyocena.com
SUMMARY:Garbage Pick-Up
DESCRIPTION:
URL:https://villageofwyocena.com/event/garbage-pick-up/2025-11-11/
CATEGORIES:Garbage & Recycling
END:VEVENT
BEGIN:VEVENT
DTSTART;TZID=America/Chicago:20251111T060000
DTEND;TZID=America/Chicago:20251111T140000
DTSTAMP:20260423T040912
CREATED:20210226T235241Z
LAST-MODIFIED:20210226T235241Z
UID:10001804-1762840800-1762869600@villageofwyocena.com
SUMMARY:Recycling Pick-Up
DESCRIPTION:
URL:https://villageofwyocena.com/event/recycling-pick-up/2025-11-11/
CATEGORIES:Garbage & Recycling
END:VEVENT
BEGIN:VEVENT
DTSTART;TZID=America/Chicago:20251118T060000
DTEND;TZID=America/Chicago:20251118T140000
DTSTAMP:20260423T040912
CREATED:20210226T235133Z
LAST-MODIFIED:20210226T235133Z
UID:10001626-1763445600-1763474400@villageofwyocena.com
SUMMARY:Garbage Pick-Up
DESCRIPTION:
URL:https://villageofwyocena.com/event/garbage-pick-up/2025-11-18/
CATEGORIES:Garbage & Recycling
END:VEVENT
BEGIN:VEVENT
DTSTART;TZID=America/Chicago:20251125T060000
DTEND;TZID=America/Chicago:20251125T140000
DTSTAMP:20260423T040912
CREATED:20210226T235133Z
LAST-MODIFIED:20210226T235133Z
UID:10001627-1764050400-1764079200@villageofwyocena.com
SUMMARY:Garbage Pick-Up
DESCRIPTION:
URL:https://villageofwyocena.com/event/garbage-pick-up/2025-11-25/
CATEGORIES:Garbage & Recycling
END:VEVENT
BEGIN:VEVENT
DTSTART;TZID=America/Chicago:20251125T060000
DTEND;TZID=America/Chicago:20251125T140000
DTSTAMP:20260423T040912
CREATED:20210226T235241Z
LAST-MODIFIED:20210226T235241Z
UID:10001805-1764050400-1764079200@villageofwyocena.com
SUMMARY:Recycling Pick-Up
DESCRIPTION:
URL:https://villageofwyocena.com/event/recycling-pick-up/2025-11-25/
CATEGORIES:Garbage & Recycling
END:VEVENT
END:VCALENDAR