BEGIN:VCALENDAR
VERSION:2.0
PRODID:-//Village of Wyocena - ECPv6.15.17.1//NONSGML v1.0//EN
CALSCALE:GREGORIAN
METHOD:PUBLISH
X-ORIGINAL-URL:https://villageofwyocena.com
X-WR-CALDESC:Events for Village of Wyocena
REFRESH-INTERVAL;VALUE=DURATION:PT1H
X-Robots-Tag:noindex
X-PUBLISHED-TTL:PT1H
BEGIN:VTIMEZONE
TZID:America/Chicago
BEGIN:DAYLIGHT
TZOFFSETFROM:-0600
TZOFFSETTO:-0500
TZNAME:CDT
DTSTART:20220313T080000
END:DAYLIGHT
BEGIN:STANDARD
TZOFFSETFROM:-0500
TZOFFSETTO:-0600
TZNAME:CST
DTSTART:20221106T070000
END:STANDARD
BEGIN:DAYLIGHT
TZOFFSETFROM:-0600
TZOFFSETTO:-0500
TZNAME:CDT
DTSTART:20230312T080000
END:DAYLIGHT
BEGIN:STANDARD
TZOFFSETFROM:-0500
TZOFFSETTO:-0600
TZNAME:CST
DTSTART:20231105T070000
END:STANDARD
BEGIN:DAYLIGHT
TZOFFSETFROM:-0600
TZOFFSETTO:-0500
TZNAME:CDT
DTSTART:20240310T080000
END:DAYLIGHT
BEGIN:STANDARD
TZOFFSETFROM:-0500
TZOFFSETTO:-0600
TZNAME:CST
DTSTART:20241103T070000
END:STANDARD
END:VTIMEZONE
BEGIN:VEVENT
DTSTART;TZID=America/Chicago:20230310T150000
DTEND;TZID=America/Chicago:20230312T120000
DTSTAMP:20260425T055553
CREATED:20221013T200148Z
LAST-MODIFIED:20221013T200148Z
UID:10002031-1678460400-1678622400@villageofwyocena.com
SUMMARY:Private Rental – Multi-Purpose Room\,
DESCRIPTION:
URL:https://villageofwyocena.com/event/private-rental-multi-purpose-room-3/
CATEGORIES:Multi-Purpose Room,Rental Calendar
END:VEVENT
BEGIN:VEVENT
DTSTART;TZID=America/Chicago:20230315T080000
DTEND;TZID=America/Chicago:20230315T120000
DTSTAMP:20260425T055553
CREATED:20230223T233812Z
LAST-MODIFIED:20230223T233812Z
UID:10002046-1678867200-1678881600@villageofwyocena.com
SUMMARY:Private Event – Multi-Purpose Room
DESCRIPTION:
URL:https://villageofwyocena.com/event/private-event-multi-purpose-room-2/
CATEGORIES:Multi-Purpose Room,Rental Calendar
END:VEVENT
BEGIN:VEVENT
DTSTART;TZID=America/Chicago:20230325T090000
DTEND;TZID=America/Chicago:20230325T150000
DTSTAMP:20260425T055553
CREATED:20230113T004407Z
LAST-MODIFIED:20230117T205138Z
UID:10002041-1679734800-1679756400@villageofwyocena.com
SUMMARY:Private Event - Community Room\, Multi-Purpose Room
DESCRIPTION:
URL:https://villageofwyocena.com/event/private-event-17/
CATEGORIES:Multi-Purpose Room,Community Room,Rental Calendar
END:VEVENT
END:VCALENDAR