BEGIN:VCALENDAR
VERSION:2.0
PRODID:-//Village of Wyocena - ECPv6.15.17.1//NONSGML v1.0//EN
CALSCALE:GREGORIAN
METHOD:PUBLISH
X-WR-CALNAME:Village of Wyocena
X-ORIGINAL-URL:https://villageofwyocena.com
X-WR-CALDESC:Events for Village of Wyocena
REFRESH-INTERVAL;VALUE=DURATION:PT1H
X-Robots-Tag:noindex
X-PUBLISHED-TTL:PT1H
BEGIN:VTIMEZONE
TZID:America/Chicago
BEGIN:DAYLIGHT
TZOFFSETFROM:-0600
TZOFFSETTO:-0500
TZNAME:CDT
DTSTART:20230312T080000
END:DAYLIGHT
BEGIN:STANDARD
TZOFFSETFROM:-0500
TZOFFSETTO:-0600
TZNAME:CST
DTSTART:20231105T070000
END:STANDARD
BEGIN:DAYLIGHT
TZOFFSETFROM:-0600
TZOFFSETTO:-0500
TZNAME:CDT
DTSTART:20240310T080000
END:DAYLIGHT
BEGIN:STANDARD
TZOFFSETFROM:-0500
TZOFFSETTO:-0600
TZNAME:CST
DTSTART:20241103T070000
END:STANDARD
BEGIN:DAYLIGHT
TZOFFSETFROM:-0600
TZOFFSETTO:-0500
TZNAME:CDT
DTSTART:20250309T080000
END:DAYLIGHT
BEGIN:STANDARD
TZOFFSETFROM:-0500
TZOFFSETTO:-0600
TZNAME:CST
DTSTART:20251102T070000
END:STANDARD
END:VTIMEZONE
BEGIN:VEVENT
DTSTART;VALUE=DATE:20240302
DTEND;VALUE=DATE:20240303
DTSTAMP:20260424T091725
CREATED:20240109T000620Z
LAST-MODIFIED:20240109T000620Z
UID:10002005-1709337600-1709423999@villageofwyocena.com
SUMMARY:Private Rental – Community Room
DESCRIPTION:
URL:https://villageofwyocena.com/event/private-rental-community-room-16/
CATEGORIES:Community Room,Rental Calendar
END:VEVENT
BEGIN:VEVENT
DTSTART;VALUE=DATE:20240309
DTEND;VALUE=DATE:20240310
DTSTAMP:20260424T091725
CREATED:20240122T221854Z
LAST-MODIFIED:20240122T221854Z
UID:10002078-1709942400-1710028799@villageofwyocena.com
SUMMARY:Private Rental – Community Room
DESCRIPTION:
URL:https://villageofwyocena.com/event/private-rental-community-room-19/
CATEGORIES:Community Room,Rental Calendar
END:VEVENT
BEGIN:VEVENT
DTSTART;TZID=America/Chicago:20240311T080000
DTEND;TZID=America/Chicago:20240311T150000
DTSTAMP:20260424T091725
CREATED:20240213T152057Z
LAST-MODIFIED:20240213T152057Z
UID:10002083-1710144000-1710169200@villageofwyocena.com
SUMMARY:Grande Cheese/Private Rental
DESCRIPTION:
URL:https://villageofwyocena.com/event/grande-cheese-private-rental/
CATEGORIES:Multi-Purpose Room
END:VEVENT
BEGIN:VEVENT
DTSTART;VALUE=DATE:20240316
DTEND;VALUE=DATE:20240317
DTSTAMP:20260424T091725
CREATED:20240118T013022Z
LAST-MODIFIED:20240118T013022Z
UID:10002077-1710547200-1710633599@villageofwyocena.com
SUMMARY:Private Rental – Community Room
DESCRIPTION:
URL:https://villageofwyocena.com/event/private-rental-community-room-18/
CATEGORIES:Community Room,Rental Calendar
END:VEVENT
BEGIN:VEVENT
DTSTART;VALUE=DATE:20240316
DTEND;VALUE=DATE:20240317
DTSTAMP:20260424T091725
CREATED:20240216T003221Z
LAST-MODIFIED:20240216T003846Z
UID:10002086-1710547200-1710633599@villageofwyocena.com
SUMMARY:Private Event - Multi-Purpose Room
DESCRIPTION:
URL:https://villageofwyocena.com/event/private-event-multi-purpose-room-5/
CATEGORIES:Community Room,Rental Calendar
END:VEVENT
BEGIN:VEVENT
DTSTART;VALUE=DATE:20240317
DTEND;VALUE=DATE:20240318
DTSTAMP:20260424T091725
CREATED:20240122T222248Z
LAST-MODIFIED:20240122T222248Z
UID:10002080-1710633600-1710719999@villageofwyocena.com
SUMMARY:Private Rental – Community Room
DESCRIPTION:
URL:https://villageofwyocena.com/event/private-rental-community-room-20/
CATEGORIES:Community Room,Rental Calendar
END:VEVENT
BEGIN:VEVENT
DTSTART;VALUE=DATE:20240323
DTEND;VALUE=DATE:20240324
DTSTAMP:20260424T091725
CREATED:20240208T144402Z
LAST-MODIFIED:20240208T144402Z
UID:10002082-1711152000-1711238399@villageofwyocena.com
SUMMARY:Private Rental – Community Room
DESCRIPTION:
URL:https://villageofwyocena.com/event/private-rental-community-room-22/
CATEGORIES:Rental Calendar
END:VEVENT
BEGIN:VEVENT
DTSTART;VALUE=DATE:20240324
DTEND;VALUE=DATE:20240325
DTSTAMP:20260424T091725
CREATED:20240216T003134Z
LAST-MODIFIED:20240216T003758Z
UID:10002085-1711238400-1711324799@villageofwyocena.com
SUMMARY:Private Event - Community Room
DESCRIPTION:
URL:https://villageofwyocena.com/event/private-event-community-room-12/
CATEGORIES:Community Room,Rental Calendar
END:VEVENT
BEGIN:VEVENT
DTSTART;VALUE=DATE:20240331
DTEND;VALUE=DATE:20240401
DTSTAMP:20260424T091725
CREATED:20240201T003220Z
LAST-MODIFIED:20240201T003220Z
UID:10002081-1711843200-1711929599@villageofwyocena.com
SUMMARY:Private Rental – Community Room
DESCRIPTION:
URL:https://villageofwyocena.com/event/private-rental-community-room-21/
CATEGORIES:Community Room,Rental Calendar
END:VEVENT
END:VCALENDAR