BEGIN:VCALENDAR
VERSION:2.0
PRODID:-//Village of Wyocena - ECPv6.15.17.1//NONSGML v1.0//EN
CALSCALE:GREGORIAN
METHOD:PUBLISH
X-WR-CALNAME:Village of Wyocena
X-ORIGINAL-URL:https://villageofwyocena.com
X-WR-CALDESC:Events for Village of Wyocena
REFRESH-INTERVAL;VALUE=DURATION:PT1H
X-Robots-Tag:noindex
X-PUBLISHED-TTL:PT1H
BEGIN:VTIMEZONE
TZID:America/Chicago
BEGIN:DAYLIGHT
TZOFFSETFROM:-0600
TZOFFSETTO:-0500
TZNAME:CDT
DTSTART:20230312T080000
END:DAYLIGHT
BEGIN:STANDARD
TZOFFSETFROM:-0500
TZOFFSETTO:-0600
TZNAME:CST
DTSTART:20231105T070000
END:STANDARD
BEGIN:DAYLIGHT
TZOFFSETFROM:-0600
TZOFFSETTO:-0500
TZNAME:CDT
DTSTART:20240310T080000
END:DAYLIGHT
BEGIN:STANDARD
TZOFFSETFROM:-0500
TZOFFSETTO:-0600
TZNAME:CST
DTSTART:20241103T070000
END:STANDARD
BEGIN:DAYLIGHT
TZOFFSETFROM:-0600
TZOFFSETTO:-0500
TZNAME:CDT
DTSTART:20250309T080000
END:DAYLIGHT
BEGIN:STANDARD
TZOFFSETFROM:-0500
TZOFFSETTO:-0600
TZNAME:CST
DTSTART:20251102T070000
END:STANDARD
END:VTIMEZONE
BEGIN:VEVENT
DTSTART;VALUE=DATE:20241102
DTEND;VALUE=DATE:20241103
DTSTAMP:20260423T205724
CREATED:20240104T174148Z
LAST-MODIFIED:20240104T174148Z
UID:10001993-1730505600-1730591999@villageofwyocena.com
SUMMARY:Private Event
DESCRIPTION:
URL:https://villageofwyocena.com/event/private-event-20/
CATEGORIES:Multi-Purpose Room
END:VEVENT
BEGIN:VEVENT
DTSTART;VALUE=DATE:20241103
DTEND;VALUE=DATE:20241104
DTSTAMP:20260423T205724
CREATED:20240104T174811Z
LAST-MODIFIED:20240104T174811Z
UID:10001995-1730592000-1730678399@villageofwyocena.com
SUMMARY:private event
DESCRIPTION:
URL:https://villageofwyocena.com/event/private-event-22/
CATEGORIES:Community Room
END:VEVENT
BEGIN:VEVENT
DTSTART;VALUE=DATE:20241105
DTEND;VALUE=DATE:20241106
DTSTAMP:20260423T205724
CREATED:20231110T011348Z
LAST-MODIFIED:20231110T011432Z
UID:10002070-1730764800-1730851199@villageofwyocena.com
SUMMARY:General Election - Community Room
DESCRIPTION:
URL:https://villageofwyocena.com/event/general-election-community-room/
CATEGORIES:Rental Calendar,Community Room
END:VEVENT
BEGIN:VEVENT
DTSTART;VALUE=DATE:20241105
DTEND;VALUE=DATE:20241106
DTSTAMP:20260423T205724
CREATED:20240104T175126Z
LAST-MODIFIED:20240104T175126Z
UID:10002004-1730764800-1730851199@villageofwyocena.com
SUMMARY:Election
DESCRIPTION:
URL:https://villageofwyocena.com/event/election-6/
CATEGORIES:Community Room
END:VEVENT
BEGIN:VEVENT
DTSTART;VALUE=DATE:20241109
DTEND;VALUE=DATE:20241110
DTSTAMP:20260423T205724
CREATED:20240411T163946Z
LAST-MODIFIED:20240822T001437Z
UID:10002100-1731110400-1731196799@villageofwyocena.com
SUMMARY:Private Event - Community Room and the Multi-Purpose Room
DESCRIPTION:
URL:https://villageofwyocena.com/event/private-event-27/
CATEGORIES:Multi-Purpose Room,Community Room
END:VEVENT
BEGIN:VEVENT
DTSTART;VALUE=DATE:20241110
DTEND;VALUE=DATE:20241111
DTSTAMP:20260423T205724
CREATED:20240411T164008Z
LAST-MODIFIED:20240822T001619Z
UID:10002101-1731196800-1731283199@villageofwyocena.com
SUMMARY:Private Event - Community Room and the Multi-Purpose Room
DESCRIPTION:
URL:https://villageofwyocena.com/event/private-event-28/
CATEGORIES:Multi-Purpose Room,Community Room
END:VEVENT
BEGIN:VEVENT
DTSTART;VALUE=DATE:20241120
DTEND;VALUE=DATE:20241121
DTSTAMP:20260423T205724
CREATED:20241111T192212Z
LAST-MODIFIED:20241111T192212Z
UID:10002132-1732060800-1732147199@villageofwyocena.com
SUMMARY:ECCJMC Meeting
DESCRIPTION:
URL:https://villageofwyocena.com/event/eccjmc-meeting/
CATEGORIES:Community Room
END:VEVENT
BEGIN:VEVENT
DTSTART;VALUE=DATE:20241123
DTEND;VALUE=DATE:20241124
DTSTAMP:20260423T205724
CREATED:20241002T043109Z
LAST-MODIFIED:20241002T043109Z
UID:10002126-1732320000-1732406399@villageofwyocena.com
SUMMARY:Private Rental – Community Room
DESCRIPTION:
URL:https://villageofwyocena.com/event/private-rental-community-room-32/
CATEGORIES:Community Room
END:VEVENT
BEGIN:VEVENT
DTSTART;VALUE=DATE:20241124
DTEND;VALUE=DATE:20241125
DTSTAMP:20260423T205724
CREATED:20241003T223545Z
LAST-MODIFIED:20241003T223545Z
UID:10002129-1732406400-1732492799@villageofwyocena.com
SUMMARY:Private Rental – Multi-Purpose Room
DESCRIPTION:
URL:https://villageofwyocena.com/event/private-rental-multi-purpose-room-7/
CATEGORIES:Multi-Purpose Room
END:VEVENT
BEGIN:VEVENT
DTSTART;VALUE=DATE:20241130
DTEND;VALUE=DATE:20241201
DTSTAMP:20260423T205724
CREATED:20240924T205524Z
LAST-MODIFIED:20240924T205524Z
UID:10002124-1732924800-1733011199@villageofwyocena.com
SUMMARY:Private Rental – Community Room
DESCRIPTION:
URL:https://villageofwyocena.com/event/private-rental-community-room-31/
CATEGORIES:Rental Calendar,Community Room
END:VEVENT
END:VCALENDAR