BEGIN:VCALENDAR
VERSION:2.0
PRODID:-//Village of Wyocena - ECPv6.15.17.1//NONSGML v1.0//EN
CALSCALE:GREGORIAN
METHOD:PUBLISH
X-WR-CALNAME:Village of Wyocena
X-ORIGINAL-URL:https://villageofwyocena.com
X-WR-CALDESC:Events for Village of Wyocena
REFRESH-INTERVAL;VALUE=DURATION:PT1H
X-Robots-Tag:noindex
X-PUBLISHED-TTL:PT1H
BEGIN:VTIMEZONE
TZID:America/Chicago
BEGIN:DAYLIGHT
TZOFFSETFROM:-0600
TZOFFSETTO:-0500
TZNAME:CDT
DTSTART:20230312T080000
END:DAYLIGHT
BEGIN:STANDARD
TZOFFSETFROM:-0500
TZOFFSETTO:-0600
TZNAME:CST
DTSTART:20231105T070000
END:STANDARD
BEGIN:DAYLIGHT
TZOFFSETFROM:-0600
TZOFFSETTO:-0500
TZNAME:CDT
DTSTART:20240310T080000
END:DAYLIGHT
BEGIN:STANDARD
TZOFFSETFROM:-0500
TZOFFSETTO:-0600
TZNAME:CST
DTSTART:20241103T070000
END:STANDARD
BEGIN:DAYLIGHT
TZOFFSETFROM:-0600
TZOFFSETTO:-0500
TZNAME:CDT
DTSTART:20250309T080000
END:DAYLIGHT
BEGIN:STANDARD
TZOFFSETFROM:-0500
TZOFFSETTO:-0600
TZNAME:CST
DTSTART:20251102T070000
END:STANDARD
END:VTIMEZONE
BEGIN:VEVENT
DTSTART;VALUE=DATE:20241201
DTEND;VALUE=DATE:20241202
DTSTAMP:20260423T193102
CREATED:20241002T043129Z
LAST-MODIFIED:20241002T043129Z
UID:10002127-1733011200-1733097599@villageofwyocena.com
SUMMARY:Private Rental – Community Room
DESCRIPTION:
URL:https://villageofwyocena.com/event/private-rental-community-room-33/
CATEGORIES:Community Room
END:VEVENT
BEGIN:VEVENT
DTSTART;TZID=America/Chicago:20241210T173000
DTEND;TZID=America/Chicago:20241210T173000
DTSTAMP:20260423T193102
CREATED:20241204T002652Z
LAST-MODIFIED:20241204T002652Z
UID:10002133-1733851800-1733851800@villageofwyocena.com
SUMMARY:ECCJMC Meeting – Community Room
DESCRIPTION:
URL:https://villageofwyocena.com/event/eccjmc-meeting-community-room/
CATEGORIES:Community Room
END:VEVENT
BEGIN:VEVENT
DTSTART;VALUE=DATE:20241211
DTEND;VALUE=DATE:20241212
DTSTAMP:20260423T193102
CREATED:20241204T002745Z
LAST-MODIFIED:20241204T002745Z
UID:10002134-1733875200-1733961599@villageofwyocena.com
SUMMARY:ECCJMC Court - Community Room
DESCRIPTION:
URL:https://villageofwyocena.com/event/eccjmc-court-community-room/
CATEGORIES:Community Room
END:VEVENT
BEGIN:VEVENT
DTSTART;VALUE=DATE:20241212
DTEND;VALUE=DATE:20241213
DTSTAMP:20260423T193102
CREATED:20241204T002815Z
LAST-MODIFIED:20241204T002815Z
UID:10002135-1733961600-1734047999@villageofwyocena.com
SUMMARY:Private Event - Community Room
DESCRIPTION:
URL:https://villageofwyocena.com/event/private-event-community-room-18/
CATEGORIES:Community Room
END:VEVENT
BEGIN:VEVENT
DTSTART;VALUE=DATE:20241212
DTEND;VALUE=DATE:20241213
DTSTAMP:20260423T193102
CREATED:20241204T002852Z
LAST-MODIFIED:20241204T002852Z
UID:10002136-1733961600-1734047999@villageofwyocena.com
SUMMARY:Private Event - Multi-Purpose Room
DESCRIPTION:
URL:https://villageofwyocena.com/event/private-event-multi-purpose-room-10/
CATEGORIES:Multi-Purpose Room
END:VEVENT
BEGIN:VEVENT
DTSTART;VALUE=DATE:20241221
DTEND;VALUE=DATE:20241222
DTSTAMP:20260423T193102
CREATED:20241011T014730Z
LAST-MODIFIED:20241011T014730Z
UID:10002130-1734739200-1734825599@villageofwyocena.com
SUMMARY:Private Rental - Multi-Purpose Room event
DESCRIPTION:
URL:https://villageofwyocena.com/event/private-rental-multi-purpose-room-event/
CATEGORIES:Multi-Purpose Room
END:VEVENT
BEGIN:VEVENT
DTSTART;VALUE=DATE:20241224
DTEND;VALUE=DATE:20241226
DTSTAMP:20260423T193102
CREATED:20231110T013950Z
LAST-MODIFIED:20231110T014113Z
UID:10002071-1734998400-1735171199@villageofwyocena.com
SUMMARY:No Rentals\, either room
DESCRIPTION:
URL:https://villageofwyocena.com/event/no-rentals-either-room/
CATEGORIES:Rental Calendar
END:VEVENT
BEGIN:VEVENT
DTSTART;TZID=America/Chicago:20241231T080000
DTEND;TZID=America/Chicago:20241231T170000
DTSTAMP:20260423T193102
CREATED:20231110T014452Z
LAST-MODIFIED:20231110T014452Z
UID:10002072-1735632000-1735664400@villageofwyocena.com
SUMMARY:No rentals\, either room
DESCRIPTION:
URL:https://villageofwyocena.com/event/no-rentals-either-room-2/
CATEGORIES:Rental Calendar
END:VEVENT
END:VCALENDAR