BEGIN:VCALENDAR
VERSION:2.0
PRODID:-//Village of Wyocena - ECPv6.15.17.1//NONSGML v1.0//EN
CALSCALE:GREGORIAN
METHOD:PUBLISH
X-ORIGINAL-URL:https://villageofwyocena.com
X-WR-CALDESC:Events for Village of Wyocena
REFRESH-INTERVAL;VALUE=DURATION:PT1H
X-Robots-Tag:noindex
X-PUBLISHED-TTL:PT1H
BEGIN:VTIMEZONE
TZID:America/Chicago
BEGIN:DAYLIGHT
TZOFFSETFROM:-0600
TZOFFSETTO:-0500
TZNAME:CDT
DTSTART:20250309T080000
END:DAYLIGHT
BEGIN:STANDARD
TZOFFSETFROM:-0500
TZOFFSETTO:-0600
TZNAME:CST
DTSTART:20251102T070000
END:STANDARD
BEGIN:DAYLIGHT
TZOFFSETFROM:-0600
TZOFFSETTO:-0500
TZNAME:CDT
DTSTART:20260308T080000
END:DAYLIGHT
BEGIN:STANDARD
TZOFFSETFROM:-0500
TZOFFSETTO:-0600
TZNAME:CST
DTSTART:20261101T070000
END:STANDARD
BEGIN:DAYLIGHT
TZOFFSETFROM:-0600
TZOFFSETTO:-0500
TZNAME:CDT
DTSTART:20270314T080000
END:DAYLIGHT
BEGIN:STANDARD
TZOFFSETFROM:-0500
TZOFFSETTO:-0600
TZNAME:CST
DTSTART:20271107T070000
END:STANDARD
END:VTIMEZONE
BEGIN:VEVENT
DTSTART;VALUE=DATE:20260206
DTEND;VALUE=DATE:20260209
DTSTAMP:20260420T222648
CREATED:20251111T230909Z
LAST-MODIFIED:20251111T230909Z
UID:10002201-1770336000-1770595199@villageofwyocena.com
SUMMARY:Private Event - Multi-Purpose Room
DESCRIPTION:February 6\, 2026 3:00 p.m. –  February 8\, 2026 12:00 p.m.
URL:https://villageofwyocena.com/event/private-event-multi-purpose-room-12/
CATEGORIES:Rental Calendar
END:VEVENT
BEGIN:VEVENT
DTSTART;VALUE=DATE:20260207
DTEND;VALUE=DATE:20260208
DTSTAMP:20260420T222648
CREATED:20251111T225904Z
LAST-MODIFIED:20251111T225904Z
UID:10002197-1770422400-1770508799@villageofwyocena.com
SUMMARY:Private Event - Community Room
DESCRIPTION:
URL:https://villageofwyocena.com/event/private-event-community-room-28/
CATEGORIES:Rental Calendar
END:VEVENT
BEGIN:VEVENT
DTSTART;VALUE=DATE:20260208
DTEND;VALUE=DATE:20260209
DTSTAMP:20260420T222648
CREATED:20260113T191219Z
LAST-MODIFIED:20260113T191326Z
UID:10002211-1770508800-1770595199@villageofwyocena.com
SUMMARY:Private Event – Community Room
DESCRIPTION:
URL:https://villageofwyocena.com/event/private-event-community-room-31/
CATEGORIES:Rental Calendar
END:VEVENT
END:VCALENDAR