BEGIN:VCALENDAR
VERSION:2.0
PRODID:-//Village of Wyocena - ECPv6.15.17.1//NONSGML v1.0//EN
CALSCALE:GREGORIAN
METHOD:PUBLISH
X-WR-CALNAME:Village of Wyocena
X-ORIGINAL-URL:https://villageofwyocena.com
X-WR-CALDESC:Events for Village of Wyocena
REFRESH-INTERVAL;VALUE=DURATION:PT1H
X-Robots-Tag:noindex
X-PUBLISHED-TTL:PT1H
BEGIN:VTIMEZONE
TZID:America/Chicago
BEGIN:DAYLIGHT
TZOFFSETFROM:-0600
TZOFFSETTO:-0500
TZNAME:CDT
DTSTART:20220313T080000
END:DAYLIGHT
BEGIN:STANDARD
TZOFFSETFROM:-0500
TZOFFSETTO:-0600
TZNAME:CST
DTSTART:20221106T070000
END:STANDARD
BEGIN:DAYLIGHT
TZOFFSETFROM:-0600
TZOFFSETTO:-0500
TZNAME:CDT
DTSTART:20230312T080000
END:DAYLIGHT
BEGIN:STANDARD
TZOFFSETFROM:-0500
TZOFFSETTO:-0600
TZNAME:CST
DTSTART:20231105T070000
END:STANDARD
BEGIN:DAYLIGHT
TZOFFSETFROM:-0600
TZOFFSETTO:-0500
TZNAME:CDT
DTSTART:20240310T080000
END:DAYLIGHT
BEGIN:STANDARD
TZOFFSETFROM:-0500
TZOFFSETTO:-0600
TZNAME:CST
DTSTART:20241103T070000
END:STANDARD
END:VTIMEZONE
BEGIN:VEVENT
DTSTART;VALUE=DATE:20230401
DTEND;VALUE=DATE:20230402
DTSTAMP:20260425T055906
CREATED:20230112T022829Z
LAST-MODIFIED:20230112T022829Z
UID:10002040-1680307200-1680393599@villageofwyocena.com
SUMMARY:Private Rental – Community Room
DESCRIPTION:
URL:https://villageofwyocena.com/event/private-rental-community-room-4/
CATEGORIES:Community Room,Rental Calendar
END:VEVENT
BEGIN:VEVENT
DTSTART;VALUE=DATE:20230408
DTEND;VALUE=DATE:20230409
DTSTAMP:20260425T055906
CREATED:20230202T231339Z
LAST-MODIFIED:20230202T231339Z
UID:10002045-1680912000-1680998399@villageofwyocena.com
SUMMARY:Private Event – Community Room
DESCRIPTION:
URL:https://villageofwyocena.com/event/private-event-community-room-4/
CATEGORIES:Community Room,Rental Calendar
END:VEVENT
BEGIN:VEVENT
DTSTART;VALUE=DATE:20230415
DTEND;VALUE=DATE:20230416
DTSTAMP:20260425T055906
CREATED:20230120T002543Z
LAST-MODIFIED:20230216T004443Z
UID:10002042-1681516800-1681603199@villageofwyocena.com
SUMMARY:Private Rental – Community Room
DESCRIPTION:
URL:https://villageofwyocena.com/event/private-rental-community-room-5/
CATEGORIES:Community Room,Rental Calendar
END:VEVENT
BEGIN:VEVENT
DTSTART;VALUE=DATE:20230426
DTEND;VALUE=DATE:20230427
DTSTAMP:20260425T055906
CREATED:20230406T011213Z
LAST-MODIFIED:20230406T011336Z
UID:10002051-1682467200-1682553599@villageofwyocena.com
SUMMARY:Private Event - Community Room
DESCRIPTION:
URL:https://villageofwyocena.com/event/private-event-18/
CATEGORIES:Community Room,Rental Calendar
END:VEVENT
END:VCALENDAR