BEGIN:VCALENDAR
VERSION:2.0
PRODID:-//Village of Wyocena - ECPv6.15.17.1//NONSGML v1.0//EN
CALSCALE:GREGORIAN
METHOD:PUBLISH
X-WR-CALNAME:Village of Wyocena
X-ORIGINAL-URL:https://villageofwyocena.com
X-WR-CALDESC:Events for Village of Wyocena
REFRESH-INTERVAL;VALUE=DURATION:PT1H
X-Robots-Tag:noindex
X-PUBLISHED-TTL:PT1H
BEGIN:VTIMEZONE
TZID:America/Chicago
BEGIN:DAYLIGHT
TZOFFSETFROM:-0600
TZOFFSETTO:-0500
TZNAME:CDT
DTSTART:20230312T080000
END:DAYLIGHT
BEGIN:STANDARD
TZOFFSETFROM:-0500
TZOFFSETTO:-0600
TZNAME:CST
DTSTART:20231105T070000
END:STANDARD
BEGIN:DAYLIGHT
TZOFFSETFROM:-0600
TZOFFSETTO:-0500
TZNAME:CDT
DTSTART:20240310T080000
END:DAYLIGHT
BEGIN:STANDARD
TZOFFSETFROM:-0500
TZOFFSETTO:-0600
TZNAME:CST
DTSTART:20241103T070000
END:STANDARD
BEGIN:DAYLIGHT
TZOFFSETFROM:-0600
TZOFFSETTO:-0500
TZNAME:CDT
DTSTART:20250309T080000
END:DAYLIGHT
BEGIN:STANDARD
TZOFFSETFROM:-0500
TZOFFSETTO:-0600
TZNAME:CST
DTSTART:20251102T070000
END:STANDARD
END:VTIMEZONE
BEGIN:VEVENT
DTSTART;VALUE=DATE:20241005
DTEND;VALUE=DATE:20241006
DTSTAMP:20260423T231115
CREATED:20240822T162343Z
LAST-MODIFIED:20240822T162343Z
UID:10002119-1728086400-1728172799@villageofwyocena.com
SUMMARY:Private event
DESCRIPTION:
URL:https://villageofwyocena.com/event/private-event-29/
CATEGORIES:Community Room
END:VEVENT
BEGIN:VEVENT
DTSTART;VALUE=DATE:20241006
DTEND;VALUE=DATE:20241007
DTSTAMP:20260423T231115
CREATED:20231101T222339Z
LAST-MODIFIED:20231101T222339Z
UID:10002062-1728172800-1728259199@villageofwyocena.com
SUMMARY:Private Rental – Community Room
DESCRIPTION:
URL:https://villageofwyocena.com/event/private-rental-community-room-11/
CATEGORIES:Community Room,Rental Calendar
END:VEVENT
BEGIN:VEVENT
DTSTART;VALUE=DATE:20241018
DTEND;VALUE=DATE:20241019
DTSTAMP:20260423T231115
CREATED:20240923T205943Z
LAST-MODIFIED:20240923T205943Z
UID:10002122-1729209600-1729295999@villageofwyocena.com
SUMMARY:Private Rental – Community Room
DESCRIPTION:
URL:https://villageofwyocena.com/event/private-rental-community-room-30/
CATEGORIES:Community Room,Rental Calendar
END:VEVENT
BEGIN:VEVENT
DTSTART;TZID=America/Chicago:20241021T143000
DTEND;TZID=America/Chicago:20241021T153000
DTSTAMP:20260423T231115
CREATED:20240904T213019Z
LAST-MODIFIED:20240904T213019Z
UID:10002120-1729521000-1729524600@villageofwyocena.com
SUMMARY:Private Rental – Community Room
DESCRIPTION:
URL:https://villageofwyocena.com/event/private-rental-community-room-29/
CATEGORIES:Community Room,Rental Calendar
END:VEVENT
BEGIN:VEVENT
DTSTART;VALUE=DATE:20241026
DTEND;VALUE=DATE:20241027
DTSTAMP:20260423T231115
CREATED:20240925T215712Z
LAST-MODIFIED:20240925T215712Z
UID:10002125-1729900800-1729987199@villageofwyocena.com
SUMMARY:Private Event
DESCRIPTION:
URL:https://villageofwyocena.com/event/private-event-36/
CATEGORIES:Community Room
END:VEVENT
BEGIN:VEVENT
DTSTART;VALUE=DATE:20241027
DTEND;VALUE=DATE:20241028
DTSTAMP:20260423T231115
CREATED:20240924T182816Z
LAST-MODIFIED:20240924T182816Z
UID:10002123-1729987200-1730073599@villageofwyocena.com
SUMMARY:Private Event
DESCRIPTION:
URL:https://villageofwyocena.com/event/private-event-35/
CATEGORIES:Community Room
END:VEVENT
END:VCALENDAR