BEGIN:VCALENDAR
VERSION:2.0
PRODID:-//Village of Wyocena - ECPv6.15.17.1//NONSGML v1.0//EN
CALSCALE:GREGORIAN
METHOD:PUBLISH
X-ORIGINAL-URL:https://villageofwyocena.com
X-WR-CALDESC:Events for Village of Wyocena
REFRESH-INTERVAL;VALUE=DURATION:PT1H
X-Robots-Tag:noindex
X-PUBLISHED-TTL:PT1H
BEGIN:VTIMEZONE
TZID:America/Chicago
BEGIN:DAYLIGHT
TZOFFSETFROM:-0600
TZOFFSETTO:-0500
TZNAME:CDT
DTSTART:20200308T080000
END:DAYLIGHT
BEGIN:STANDARD
TZOFFSETFROM:-0500
TZOFFSETTO:-0600
TZNAME:CST
DTSTART:20201101T070000
END:STANDARD
BEGIN:DAYLIGHT
TZOFFSETFROM:-0600
TZOFFSETTO:-0500
TZNAME:CDT
DTSTART:20210314T080000
END:DAYLIGHT
BEGIN:STANDARD
TZOFFSETFROM:-0500
TZOFFSETTO:-0600
TZNAME:CST
DTSTART:20211107T070000
END:STANDARD
BEGIN:DAYLIGHT
TZOFFSETFROM:-0600
TZOFFSETTO:-0500
TZNAME:CDT
DTSTART:20220313T080000
END:DAYLIGHT
BEGIN:STANDARD
TZOFFSETFROM:-0500
TZOFFSETTO:-0600
TZNAME:CST
DTSTART:20221106T070000
END:STANDARD
END:VTIMEZONE
BEGIN:VEVENT
DTSTART;TZID=America/Chicago:20210802T100000
DTEND;TZID=America/Chicago:20210802T120000
DTSTAMP:20260425T082916
CREATED:20210226T234208Z
LAST-MODIFIED:20210226T234530Z
UID:10000417-1627898400-1627905600@villageofwyocena.com
SUMMARY:Helping Hands Pantry Open
DESCRIPTION:
URL:https://villageofwyocena.com/event/helping-hands-pantry-open-4/2021-08-02/
CATEGORIES:Community Events
END:VEVENT
BEGIN:VEVENT
DTSTART;TZID=America/Chicago:20210803T060000
DTEND;TZID=America/Chicago:20210803T140000
DTSTAMP:20260425T082916
CREATED:20210226T235133Z
LAST-MODIFIED:20210226T235133Z
UID:10001402-1627970400-1627999200@villageofwyocena.com
SUMMARY:Garbage Pick-Up
DESCRIPTION:
URL:https://villageofwyocena.com/event/garbage-pick-up/2021-08-03/
CATEGORIES:Garbage & Recycling
END:VEVENT
BEGIN:VEVENT
DTSTART;TZID=America/Chicago:20210803T100000
DTEND;TZID=America/Chicago:20210803T120000
DTSTAMP:20260425T082916
CREATED:20210226T234621Z
LAST-MODIFIED:20210226T234621Z
UID:10000647-1627984800-1627992000@villageofwyocena.com
SUMMARY:Helping Hands Pantry Open
DESCRIPTION:
URL:https://villageofwyocena.com/event/helping-hands-pantry-open-7/2021-08-03/
CATEGORIES:Community Events
END:VEVENT
BEGIN:VEVENT
DTSTART;TZID=America/Chicago:20210804T100000
DTEND;TZID=America/Chicago:20210804T120000
DTSTAMP:20260425T082916
CREATED:20210226T210833Z
LAST-MODIFIED:20210226T215431Z
UID:10000144-1628071200-1628078400@villageofwyocena.com
SUMMARY:Helping Hands Pantry Open
DESCRIPTION:
URL:https://villageofwyocena.com/event/helping-hands-pantry-open/2021-08-04/
CATEGORIES:Community Events
END:VEVENT
BEGIN:VEVENT
DTSTART;VALUE=DATE:20210806
DTEND;VALUE=DATE:20210807
DTSTAMP:20260425T082916
CREATED:20210226T235003Z
LAST-MODIFIED:20231110T003707Z
UID:10001070-1628208000-1628294399@villageofwyocena.com
SUMMARY:Office Closed
DESCRIPTION:
URL:https://villageofwyocena.com/event/office-closed/2021-08-06/
CATEGORIES:General
END:VEVENT
BEGIN:VEVENT
DTSTART;TZID=America/Chicago:20210809T100000
DTEND;TZID=America/Chicago:20210809T120000
DTSTAMP:20260425T082916
CREATED:20210226T234358Z
LAST-MODIFIED:20210226T234358Z
UID:10000494-1628503200-1628510400@villageofwyocena.com
SUMMARY:Helping Hands Pantry Open
DESCRIPTION:
URL:https://villageofwyocena.com/event/helping-hands-pantry-open-5/2021-08-09/
CATEGORIES:Community Events
END:VEVENT
BEGIN:VEVENT
DTSTART;TZID=America/Chicago:20210810T060000
DTEND;TZID=America/Chicago:20210810T140000
DTSTAMP:20260425T082916
CREATED:20210226T235133Z
LAST-MODIFIED:20210226T235133Z
UID:10001403-1628575200-1628604000@villageofwyocena.com
SUMMARY:Garbage Pick-Up
DESCRIPTION:
URL:https://villageofwyocena.com/event/garbage-pick-up/2021-08-10/
CATEGORIES:Garbage & Recycling
END:VEVENT
BEGIN:VEVENT
DTSTART;TZID=America/Chicago:20210810T060000
DTEND;TZID=America/Chicago:20210810T140000
DTSTAMP:20260425T082916
CREATED:20210226T235241Z
LAST-MODIFIED:20210226T235241Z
UID:10001693-1628575200-1628604000@villageofwyocena.com
SUMMARY:Recycling Pick-Up
DESCRIPTION:
URL:https://villageofwyocena.com/event/recycling-pick-up/2021-08-10/
CATEGORIES:Garbage & Recycling
END:VEVENT
BEGIN:VEVENT
DTSTART;TZID=America/Chicago:20210810T100000
DTEND;TZID=America/Chicago:20210810T120000
DTSTAMP:20260425T082916
CREATED:20210226T234717Z
LAST-MODIFIED:20210226T234717Z
UID:10000724-1628589600-1628596800@villageofwyocena.com
SUMMARY:Helping Hands Pantry Open
DESCRIPTION:
URL:https://villageofwyocena.com/event/helping-hands-pantry-open-8/2021-08-10/
CATEGORIES:Community Events
END:VEVENT
BEGIN:VEVENT
DTSTART;TZID=America/Chicago:20210811T100000
DTEND;TZID=America/Chicago:20210811T120000
DTSTAMP:20260425T082916
CREATED:20210226T210919Z
LAST-MODIFIED:20210226T215433Z
UID:10000221-1628676000-1628683200@villageofwyocena.com
SUMMARY:Helping Hands Pantry Open
DESCRIPTION:
URL:https://villageofwyocena.com/event/helping-hands-pantry-open-2/2021-08-11/
CATEGORIES:Community Events
END:VEVENT
BEGIN:VEVENT
DTSTART;VALUE=DATE:20210813
DTEND;VALUE=DATE:20210814
DTSTAMP:20260425T082916
CREATED:20210226T235003Z
LAST-MODIFIED:20231110T003707Z
UID:10001071-1628812800-1628899199@villageofwyocena.com
SUMMARY:Office Closed
DESCRIPTION:
URL:https://villageofwyocena.com/event/office-closed/2021-08-13/
CATEGORIES:General
END:VEVENT
BEGIN:VEVENT
DTSTART;TZID=America/Chicago:20210816T100000
DTEND;TZID=America/Chicago:20210816T120000
DTSTAMP:20260425T082916
CREATED:20210226T234511Z
LAST-MODIFIED:20210226T234511Z
UID:10000571-1629108000-1629115200@villageofwyocena.com
SUMMARY:Helping Hands Pantry Open
DESCRIPTION:
URL:https://villageofwyocena.com/event/helping-hands-pantry-open-6/2021-08-16/
CATEGORIES:Community Events
END:VEVENT
BEGIN:VEVENT
DTSTART;TZID=America/Chicago:20210817T060000
DTEND;TZID=America/Chicago:20210817T140000
DTSTAMP:20260425T082916
CREATED:20210226T235133Z
LAST-MODIFIED:20210226T235133Z
UID:10001404-1629180000-1629208800@villageofwyocena.com
SUMMARY:Garbage Pick-Up
DESCRIPTION:
URL:https://villageofwyocena.com/event/garbage-pick-up/2021-08-17/
CATEGORIES:Garbage & Recycling
END:VEVENT
BEGIN:VEVENT
DTSTART;TZID=America/Chicago:20210817T100000
DTEND;TZID=America/Chicago:20210817T120000
DTSTAMP:20260425T082916
CREATED:20210226T234800Z
LAST-MODIFIED:20210226T234800Z
UID:10000801-1629194400-1629201600@villageofwyocena.com
SUMMARY:Helping Hands Pantry Open
DESCRIPTION:
URL:https://villageofwyocena.com/event/helping-hands-pantry-open-9/2021-08-17/
CATEGORIES:Community Events
END:VEVENT
BEGIN:VEVENT
DTSTART;TZID=America/Chicago:20210818T100000
DTEND;TZID=America/Chicago:20210818T120000
DTSTAMP:20260425T082916
CREATED:20210226T210959Z
LAST-MODIFIED:20210226T215435Z
UID:10000298-1629280800-1629288000@villageofwyocena.com
SUMMARY:Helping Hands Pantry Open
DESCRIPTION:
URL:https://villageofwyocena.com/event/helping-hands-pantry-open-3/2021-08-18/
CATEGORIES:Community Events
END:VEVENT
BEGIN:VEVENT
DTSTART;VALUE=DATE:20210820
DTEND;VALUE=DATE:20210821
DTSTAMP:20260425T082916
CREATED:20210226T235003Z
LAST-MODIFIED:20231110T003707Z
UID:10001072-1629417600-1629503999@villageofwyocena.com
SUMMARY:Office Closed
DESCRIPTION:
URL:https://villageofwyocena.com/event/office-closed/2021-08-20/
CATEGORIES:General
END:VEVENT
BEGIN:VEVENT
DTSTART;TZID=America/Chicago:20210823T170000
DTEND;TZID=America/Chicago:20210823T180000
DTSTAMP:20260425T082916
CREATED:20210226T234850Z
LAST-MODIFIED:20210226T234850Z
UID:10000877-1629738000-1629741600@villageofwyocena.com
SUMMARY:Library Board Meeting
DESCRIPTION:
URL:https://villageofwyocena.com/event/library-board-meeting-2/2021-08-23/
CATEGORIES:Meetings
END:VEVENT
BEGIN:VEVENT
DTSTART;TZID=America/Chicago:20210824T060000
DTEND;TZID=America/Chicago:20210824T140000
DTSTAMP:20260425T082916
CREATED:20210226T235133Z
LAST-MODIFIED:20210226T235133Z
UID:10001405-1629784800-1629813600@villageofwyocena.com
SUMMARY:Garbage Pick-Up
DESCRIPTION:
URL:https://villageofwyocena.com/event/garbage-pick-up/2021-08-24/
CATEGORIES:Garbage & Recycling
END:VEVENT
BEGIN:VEVENT
DTSTART;TZID=America/Chicago:20210824T060000
DTEND;TZID=America/Chicago:20210824T140000
DTSTAMP:20260425T082916
CREATED:20210226T235241Z
LAST-MODIFIED:20210226T235241Z
UID:10001694-1629784800-1629813600@villageofwyocena.com
SUMMARY:Recycling Pick-Up
DESCRIPTION:
URL:https://villageofwyocena.com/event/recycling-pick-up/2021-08-24/
CATEGORIES:Garbage & Recycling
END:VEVENT
BEGIN:VEVENT
DTSTART;VALUE=DATE:20210827
DTEND;VALUE=DATE:20210828
DTSTAMP:20260425T082916
CREATED:20210226T235003Z
LAST-MODIFIED:20231110T003707Z
UID:10001073-1630022400-1630108799@villageofwyocena.com
SUMMARY:Office Closed
DESCRIPTION:
URL:https://villageofwyocena.com/event/office-closed/2021-08-27/
CATEGORIES:General
END:VEVENT
BEGIN:VEVENT
DTSTART;VALUE=DATE:20210829
DTEND;VALUE=DATE:20210830
DTSTAMP:20260425T082916
CREATED:20210715T214215Z
LAST-MODIFIED:20210715T214215Z
UID:10001950-1630195200-1630281599@villageofwyocena.com
SUMMARY:Community Room Rental
DESCRIPTION:
URL:https://villageofwyocena.com/event/community-room-rental/
CATEGORIES:Community Room,Rental Calendar
END:VEVENT
BEGIN:VEVENT
DTSTART;TZID=America/Chicago:20210831T060000
DTEND;TZID=America/Chicago:20210831T140000
DTSTAMP:20260425T082916
CREATED:20210226T235133Z
LAST-MODIFIED:20210226T235133Z
UID:10001406-1630389600-1630418400@villageofwyocena.com
SUMMARY:Garbage Pick-Up
DESCRIPTION:
URL:https://villageofwyocena.com/event/garbage-pick-up/2021-08-31/
CATEGORIES:Garbage & Recycling
END:VEVENT
END:VCALENDAR