BEGIN:VCALENDAR
VERSION:2.0
PRODID:-//Village of Wyocena - ECPv6.15.17.1//NONSGML v1.0//EN
CALSCALE:GREGORIAN
METHOD:PUBLISH
X-ORIGINAL-URL:https://villageofwyocena.com
X-WR-CALDESC:Events for Village of Wyocena
REFRESH-INTERVAL;VALUE=DURATION:PT1H
X-Robots-Tag:noindex
X-PUBLISHED-TTL:PT1H
BEGIN:VTIMEZONE
TZID:America/Chicago
BEGIN:DAYLIGHT
TZOFFSETFROM:-0600
TZOFFSETTO:-0500
TZNAME:CDT
DTSTART:20210314T080000
END:DAYLIGHT
BEGIN:STANDARD
TZOFFSETFROM:-0500
TZOFFSETTO:-0600
TZNAME:CST
DTSTART:20211107T070000
END:STANDARD
BEGIN:DAYLIGHT
TZOFFSETFROM:-0600
TZOFFSETTO:-0500
TZNAME:CDT
DTSTART:20220313T080000
END:DAYLIGHT
BEGIN:STANDARD
TZOFFSETFROM:-0500
TZOFFSETTO:-0600
TZNAME:CST
DTSTART:20221106T070000
END:STANDARD
BEGIN:DAYLIGHT
TZOFFSETFROM:-0600
TZOFFSETTO:-0500
TZNAME:CDT
DTSTART:20230312T080000
END:DAYLIGHT
BEGIN:STANDARD
TZOFFSETFROM:-0500
TZOFFSETTO:-0600
TZNAME:CST
DTSTART:20231105T070000
END:STANDARD
END:VTIMEZONE
BEGIN:VEVENT
DTSTART;TZID=America/Chicago:20220201T060000
DTEND;TZID=America/Chicago:20220201T140000
DTSTAMP:20260424T221839
CREATED:20210226T235133Z
LAST-MODIFIED:20210226T235133Z
UID:10001428-1643695200-1643724000@villageofwyocena.com
SUMMARY:Garbage Pick-Up
DESCRIPTION:
URL:https://villageofwyocena.com/event/garbage-pick-up/2022-02-01/
CATEGORIES:Garbage & Recycling
END:VEVENT
BEGIN:VEVENT
DTSTART;TZID=America/Chicago:20220201T100000
DTEND;TZID=America/Chicago:20220201T120000
DTSTAMP:20260424T221839
CREATED:20210226T234621Z
LAST-MODIFIED:20210226T234621Z
UID:10000653-1643709600-1643716800@villageofwyocena.com
SUMMARY:Helping Hands Pantry Open
DESCRIPTION:
URL:https://villageofwyocena.com/event/helping-hands-pantry-open-7/2022-02-01/
CATEGORIES:Community Events
END:VEVENT
BEGIN:VEVENT
DTSTART;TZID=America/Chicago:20220201T163000
DTEND;TZID=America/Chicago:20220201T193000
DTSTAMP:20260424T221839
CREATED:20211117T183514Z
LAST-MODIFIED:20211117T183514Z
UID:10001968-1643733000-1643743800@villageofwyocena.com
SUMMARY:Pardeeville Boys Club
DESCRIPTION:
URL:https://villageofwyocena.com/event/pardeeville-boys-club/2022-02-01/
CATEGORIES:Multi-Purpose Room
END:VEVENT
BEGIN:VEVENT
DTSTART;TZID=America/Chicago:20220202T100000
DTEND;TZID=America/Chicago:20220202T120000
DTSTAMP:20260424T221839
CREATED:20210226T210833Z
LAST-MODIFIED:20210226T215431Z
UID:10000150-1643796000-1643803200@villageofwyocena.com
SUMMARY:Helping Hands Pantry Open
DESCRIPTION:
URL:https://villageofwyocena.com/event/helping-hands-pantry-open/2022-02-02/
CATEGORIES:Community Events
END:VEVENT
BEGIN:VEVENT
DTSTART;TZID=America/Chicago:20220202T163000
DTEND;TZID=America/Chicago:20220202T193000
DTSTAMP:20260424T221839
CREATED:20240515T163641Z
LAST-MODIFIED:20240515T163641Z
UID:10001987-1643819400-1643830200@villageofwyocena.com
SUMMARY:Pardeeville Boys Club
DESCRIPTION:
URL:https://villageofwyocena.com/event/pardeeville-boys-club/2022-02-02/
CATEGORIES:Multi-Purpose Room
END:VEVENT
BEGIN:VEVENT
DTSTART;TZID=America/Chicago:20220203T170000
DTEND;TZID=America/Chicago:20220203T203000
DTSTAMP:20260424T221839
CREATED:20210915T185401Z
LAST-MODIFIED:20220208T021303Z
UID:10000049-1643907600-1643920200@villageofwyocena.com
SUMMARY:Pardeeville Girls Club
DESCRIPTION:
URL:https://villageofwyocena.com/event/pardeeville-girls-club/2022-02-03/
CATEGORIES:Multi-Purpose Room
END:VEVENT
BEGIN:VEVENT
DTSTART;VALUE=DATE:20220204
DTEND;VALUE=DATE:20220205
DTSTAMP:20260424T221839
CREATED:20210226T235003Z
LAST-MODIFIED:20231110T003707Z
UID:10001096-1643932800-1644019199@villageofwyocena.com
SUMMARY:Office Closed
DESCRIPTION:
URL:https://villageofwyocena.com/event/office-closed/2022-02-04/
CATEGORIES:General
END:VEVENT
BEGIN:VEVENT
DTSTART;VALUE=DATE:20220205
DTEND;VALUE=DATE:20220206
DTSTAMP:20260424T221839
CREATED:20220131T184538Z
LAST-MODIFIED:20220131T184538Z
UID:10000069-1644019200-1644105599@villageofwyocena.com
SUMMARY:Community Room Private Rental
DESCRIPTION:
URL:https://villageofwyocena.com/event/community-room-private-rental-2/
CATEGORIES:Community Room,Rental Calendar
END:VEVENT
BEGIN:VEVENT
DTSTART;TZID=America/Chicago:20220207T100000
DTEND;TZID=America/Chicago:20220207T120000
DTSTAMP:20260424T221839
CREATED:20210226T234208Z
LAST-MODIFIED:20210226T234530Z
UID:10000423-1644228000-1644235200@villageofwyocena.com
SUMMARY:Helping Hands Pantry Open
DESCRIPTION:
URL:https://villageofwyocena.com/event/helping-hands-pantry-open-4/2022-02-07/
CATEGORIES:Community Events
END:VEVENT
BEGIN:VEVENT
DTSTART;TZID=America/Chicago:20220207T170000
DTEND;TZID=America/Chicago:20220207T203000
DTSTAMP:20260424T221839
CREATED:20210915T185401Z
LAST-MODIFIED:20220208T021303Z
UID:10000050-1644253200-1644265800@villageofwyocena.com
SUMMARY:Pardeeville Girls Club
DESCRIPTION:
URL:https://villageofwyocena.com/event/pardeeville-girls-club/2022-02-07/
CATEGORIES:Multi-Purpose Room
END:VEVENT
BEGIN:VEVENT
DTSTART;TZID=America/Chicago:20220208T060000
DTEND;TZID=America/Chicago:20220208T140000
DTSTAMP:20260424T221839
CREATED:20210226T235133Z
LAST-MODIFIED:20210226T235133Z
UID:10001429-1644300000-1644328800@villageofwyocena.com
SUMMARY:Garbage Pick-Up
DESCRIPTION:
URL:https://villageofwyocena.com/event/garbage-pick-up/2022-02-08/
CATEGORIES:Garbage & Recycling
END:VEVENT
BEGIN:VEVENT
DTSTART;TZID=America/Chicago:20220208T060000
DTEND;TZID=America/Chicago:20220208T140000
DTSTAMP:20260424T221839
CREATED:20210226T235241Z
LAST-MODIFIED:20210226T235241Z
UID:10001706-1644300000-1644328800@villageofwyocena.com
SUMMARY:Recycling Pick-Up
DESCRIPTION:
URL:https://villageofwyocena.com/event/recycling-pick-up/2022-02-08/
CATEGORIES:Garbage & Recycling
END:VEVENT
BEGIN:VEVENT
DTSTART;TZID=America/Chicago:20220208T100000
DTEND;TZID=America/Chicago:20220208T120000
DTSTAMP:20260424T221839
CREATED:20210226T234717Z
LAST-MODIFIED:20210226T234717Z
UID:10000730-1644314400-1644321600@villageofwyocena.com
SUMMARY:Helping Hands Pantry Open
DESCRIPTION:
URL:https://villageofwyocena.com/event/helping-hands-pantry-open-8/2022-02-08/
CATEGORIES:Community Events
END:VEVENT
BEGIN:VEVENT
DTSTART;TZID=America/Chicago:20220208T163000
DTEND;TZID=America/Chicago:20220208T193000
DTSTAMP:20260424T221839
CREATED:20211117T183514Z
LAST-MODIFIED:20211117T183514Z
UID:10001969-1644337800-1644348600@villageofwyocena.com
SUMMARY:Pardeeville Boys Club
DESCRIPTION:
URL:https://villageofwyocena.com/event/pardeeville-boys-club/2022-02-08/
CATEGORIES:Multi-Purpose Room
END:VEVENT
BEGIN:VEVENT
DTSTART;TZID=America/Chicago:20220209T100000
DTEND;TZID=America/Chicago:20220209T120000
DTSTAMP:20260424T221839
CREATED:20210226T210919Z
LAST-MODIFIED:20210226T215433Z
UID:10000227-1644400800-1644408000@villageofwyocena.com
SUMMARY:Helping Hands Pantry Open
DESCRIPTION:
URL:https://villageofwyocena.com/event/helping-hands-pantry-open-2/2022-02-09/
CATEGORIES:Community Events
END:VEVENT
BEGIN:VEVENT
DTSTART;TZID=America/Chicago:20220209T163000
DTEND;TZID=America/Chicago:20220209T193000
DTSTAMP:20260424T221839
CREATED:20240515T163641Z
LAST-MODIFIED:20240515T163641Z
UID:10001988-1644424200-1644435000@villageofwyocena.com
SUMMARY:Pardeeville Boys Club
DESCRIPTION:
URL:https://villageofwyocena.com/event/pardeeville-boys-club/2022-02-09/
CATEGORIES:Multi-Purpose Room
END:VEVENT
BEGIN:VEVENT
DTSTART;TZID=America/Chicago:20220210T170000
DTEND;TZID=America/Chicago:20220210T203000
DTSTAMP:20260424T221839
CREATED:20210915T185401Z
LAST-MODIFIED:20220208T021303Z
UID:10000051-1644512400-1644525000@villageofwyocena.com
SUMMARY:Pardeeville Girls Club
DESCRIPTION:
URL:https://villageofwyocena.com/event/pardeeville-girls-club/2022-02-10/
CATEGORIES:Multi-Purpose Room
END:VEVENT
BEGIN:VEVENT
DTSTART;VALUE=DATE:20220211
DTEND;VALUE=DATE:20220212
DTSTAMP:20260424T221839
CREATED:20210226T235003Z
LAST-MODIFIED:20231110T003707Z
UID:10001097-1644537600-1644623999@villageofwyocena.com
SUMMARY:Office Closed
DESCRIPTION:
URL:https://villageofwyocena.com/event/office-closed/2022-02-11/
CATEGORIES:General
END:VEVENT
BEGIN:VEVENT
DTSTART;TZID=America/Chicago:20220214T100000
DTEND;TZID=America/Chicago:20220214T120000
DTSTAMP:20260424T221839
CREATED:20210226T234358Z
LAST-MODIFIED:20210226T234358Z
UID:10000500-1644832800-1644840000@villageofwyocena.com
SUMMARY:Helping Hands Pantry Open
DESCRIPTION:
URL:https://villageofwyocena.com/event/helping-hands-pantry-open-5/2022-02-14/
CATEGORIES:Community Events
END:VEVENT
BEGIN:VEVENT
DTSTART;TZID=America/Chicago:20220214T170000
DTEND;TZID=America/Chicago:20220214T203000
DTSTAMP:20260424T221839
CREATED:20210915T185401Z
LAST-MODIFIED:20220208T021303Z
UID:10000052-1644858000-1644870600@villageofwyocena.com
SUMMARY:Pardeeville Girls Club
DESCRIPTION:
URL:https://villageofwyocena.com/event/pardeeville-girls-club/2022-02-14/
CATEGORIES:Multi-Purpose Room
END:VEVENT
BEGIN:VEVENT
DTSTART;TZID=America/Chicago:20220214T180000
DTEND;TZID=America/Chicago:20220214T190000
DTSTAMP:20260424T221839
CREATED:20210226T235503Z
LAST-MODIFIED:20231110T004835Z
UID:10001898-1644861600-1644865200@villageofwyocena.com
SUMMARY:Village Board Meeting
DESCRIPTION:
URL:https://villageofwyocena.com/event/village-board-meeting-2-2021-11-08/2022-02-14/
CATEGORIES:Village Board
END:VEVENT
BEGIN:VEVENT
DTSTART;TZID=America/Chicago:20220215T060000
DTEND;TZID=America/Chicago:20220215T140000
DTSTAMP:20260424T221839
CREATED:20210226T235133Z
LAST-MODIFIED:20210226T235133Z
UID:10001430-1644904800-1644933600@villageofwyocena.com
SUMMARY:Garbage Pick-Up
DESCRIPTION:
URL:https://villageofwyocena.com/event/garbage-pick-up/2022-02-15/
CATEGORIES:Garbage & Recycling
END:VEVENT
BEGIN:VEVENT
DTSTART;TZID=America/Chicago:20220215T100000
DTEND;TZID=America/Chicago:20220215T120000
DTSTAMP:20260424T221839
CREATED:20210226T234800Z
LAST-MODIFIED:20210226T234800Z
UID:10000807-1644919200-1644926400@villageofwyocena.com
SUMMARY:Helping Hands Pantry Open
DESCRIPTION:
URL:https://villageofwyocena.com/event/helping-hands-pantry-open-9/2022-02-15/
CATEGORIES:Community Events
END:VEVENT
BEGIN:VEVENT
DTSTART;TZID=America/Chicago:20220215T163000
DTEND;TZID=America/Chicago:20220215T193000
DTSTAMP:20260424T221839
CREATED:20211117T183514Z
LAST-MODIFIED:20211117T183514Z
UID:10001970-1644942600-1644953400@villageofwyocena.com
SUMMARY:Pardeeville Boys Club
DESCRIPTION:
URL:https://villageofwyocena.com/event/pardeeville-boys-club/2022-02-15/
CATEGORIES:Multi-Purpose Room
END:VEVENT
BEGIN:VEVENT
DTSTART;TZID=America/Chicago:20220216T100000
DTEND;TZID=America/Chicago:20220216T120000
DTSTAMP:20260424T221839
CREATED:20210226T210959Z
LAST-MODIFIED:20210226T215435Z
UID:10000304-1645005600-1645012800@villageofwyocena.com
SUMMARY:Helping Hands Pantry Open
DESCRIPTION:
URL:https://villageofwyocena.com/event/helping-hands-pantry-open-3/2022-02-16/
CATEGORIES:Community Events
END:VEVENT
BEGIN:VEVENT
DTSTART;TZID=America/Chicago:20220216T163000
DTEND;TZID=America/Chicago:20220216T193000
DTSTAMP:20260424T221839
CREATED:20240515T163641Z
LAST-MODIFIED:20240515T163641Z
UID:10001989-1645029000-1645039800@villageofwyocena.com
SUMMARY:Pardeeville Boys Club
DESCRIPTION:
URL:https://villageofwyocena.com/event/pardeeville-boys-club/2022-02-16/
CATEGORIES:Multi-Purpose Room
END:VEVENT
BEGIN:VEVENT
DTSTART;TZID=America/Chicago:20220217T170000
DTEND;TZID=America/Chicago:20220217T203000
DTSTAMP:20260424T221839
CREATED:20210915T185401Z
LAST-MODIFIED:20220208T021303Z
UID:10000053-1645117200-1645129800@villageofwyocena.com
SUMMARY:Pardeeville Girls Club
DESCRIPTION:
URL:https://villageofwyocena.com/event/pardeeville-girls-club/2022-02-17/
CATEGORIES:Multi-Purpose Room
END:VEVENT
BEGIN:VEVENT
DTSTART;VALUE=DATE:20220218
DTEND;VALUE=DATE:20220219
DTSTAMP:20260424T221839
CREATED:20210226T235003Z
LAST-MODIFIED:20231110T003707Z
UID:10001098-1645142400-1645228799@villageofwyocena.com
SUMMARY:Office Closed
DESCRIPTION:
URL:https://villageofwyocena.com/event/office-closed/2022-02-18/
CATEGORIES:General
END:VEVENT
BEGIN:VEVENT
DTSTART;TZID=America/Chicago:20220221T100000
DTEND;TZID=America/Chicago:20220221T120000
DTSTAMP:20260424T221839
CREATED:20210226T234511Z
LAST-MODIFIED:20210226T234511Z
UID:10000577-1645437600-1645444800@villageofwyocena.com
SUMMARY:Helping Hands Pantry Open
DESCRIPTION:
URL:https://villageofwyocena.com/event/helping-hands-pantry-open-6/2022-02-21/
CATEGORIES:Community Events
END:VEVENT
BEGIN:VEVENT
DTSTART;TZID=America/Chicago:20220221T170000
DTEND;TZID=America/Chicago:20220221T203000
DTSTAMP:20260424T221839
CREATED:20210915T185401Z
LAST-MODIFIED:20220208T021303Z
UID:10000054-1645462800-1645475400@villageofwyocena.com
SUMMARY:Pardeeville Girls Club
DESCRIPTION:
URL:https://villageofwyocena.com/event/pardeeville-girls-club/2022-02-21/
CATEGORIES:Multi-Purpose Room
END:VEVENT
END:VCALENDAR