BEGIN:VCALENDAR
VERSION:2.0
PRODID:-//Village of Wyocena - ECPv6.15.17.1//NONSGML v1.0//EN
CALSCALE:GREGORIAN
METHOD:PUBLISH
X-WR-CALNAME:Village of Wyocena
X-ORIGINAL-URL:https://villageofwyocena.com
X-WR-CALDESC:Events for Village of Wyocena
REFRESH-INTERVAL;VALUE=DURATION:PT1H
X-Robots-Tag:noindex
X-PUBLISHED-TTL:PT1H
BEGIN:VTIMEZONE
TZID:America/Chicago
BEGIN:DAYLIGHT
TZOFFSETFROM:-0600
TZOFFSETTO:-0500
TZNAME:CDT
DTSTART:20210314T080000
END:DAYLIGHT
BEGIN:STANDARD
TZOFFSETFROM:-0500
TZOFFSETTO:-0600
TZNAME:CST
DTSTART:20211107T070000
END:STANDARD
BEGIN:DAYLIGHT
TZOFFSETFROM:-0600
TZOFFSETTO:-0500
TZNAME:CDT
DTSTART:20220313T080000
END:DAYLIGHT
BEGIN:STANDARD
TZOFFSETFROM:-0500
TZOFFSETTO:-0600
TZNAME:CST
DTSTART:20221106T070000
END:STANDARD
BEGIN:DAYLIGHT
TZOFFSETFROM:-0600
TZOFFSETTO:-0500
TZNAME:CDT
DTSTART:20230312T080000
END:DAYLIGHT
BEGIN:STANDARD
TZOFFSETFROM:-0500
TZOFFSETTO:-0600
TZNAME:CST
DTSTART:20231105T070000
END:STANDARD
END:VTIMEZONE
BEGIN:VEVENT
DTSTART;VALUE=DATE:20220401
DTEND;VALUE=DATE:20220402
DTSTAMP:20260424T185111
CREATED:20210226T235003Z
LAST-MODIFIED:20231110T003707Z
UID:10001104-1648771200-1648857599@villageofwyocena.com
SUMMARY:Office Closed
DESCRIPTION:
URL:https://villageofwyocena.com/event/office-closed/2022-04-01/
CATEGORIES:General
END:VEVENT
BEGIN:VEVENT
DTSTART;TZID=America/Chicago:20220404T100000
DTEND;TZID=America/Chicago:20220404T120000
DTSTAMP:20260424T185111
CREATED:20210226T234208Z
LAST-MODIFIED:20210226T234530Z
UID:10000425-1649066400-1649073600@villageofwyocena.com
SUMMARY:Helping Hands Pantry Open
DESCRIPTION:
URL:https://villageofwyocena.com/event/helping-hands-pantry-open-4/2022-04-04/
CATEGORIES:Community Events
END:VEVENT
BEGIN:VEVENT
DTSTART;TZID=America/Chicago:20220405T060000
DTEND;TZID=America/Chicago:20220405T140000
DTSTAMP:20260424T185111
CREATED:20210226T235133Z
LAST-MODIFIED:20210226T235133Z
UID:10001437-1649138400-1649167200@villageofwyocena.com
SUMMARY:Garbage Pick-Up
DESCRIPTION:
URL:https://villageofwyocena.com/event/garbage-pick-up/2022-04-05/
CATEGORIES:Garbage & Recycling
END:VEVENT
BEGIN:VEVENT
DTSTART;TZID=America/Chicago:20220405T060000
DTEND;TZID=America/Chicago:20220405T140000
DTSTAMP:20260424T185111
CREATED:20210226T235241Z
LAST-MODIFIED:20210226T235241Z
UID:10001710-1649138400-1649167200@villageofwyocena.com
SUMMARY:Recycling Pick-Up
DESCRIPTION:
URL:https://villageofwyocena.com/event/recycling-pick-up/2022-04-05/
CATEGORIES:Garbage & Recycling
END:VEVENT
BEGIN:VEVENT
DTSTART;TZID=America/Chicago:20220405T100000
DTEND;TZID=America/Chicago:20220405T120000
DTSTAMP:20260424T185111
CREATED:20210226T234621Z
LAST-MODIFIED:20210226T234621Z
UID:10000655-1649152800-1649160000@villageofwyocena.com
SUMMARY:Helping Hands Pantry Open
DESCRIPTION:
URL:https://villageofwyocena.com/event/helping-hands-pantry-open-7/2022-04-05/
CATEGORIES:Community Events
END:VEVENT
BEGIN:VEVENT
DTSTART;TZID=America/Chicago:20220406T100000
DTEND;TZID=America/Chicago:20220406T120000
DTSTAMP:20260424T185111
CREATED:20210226T210833Z
LAST-MODIFIED:20210226T215431Z
UID:10000152-1649239200-1649246400@villageofwyocena.com
SUMMARY:Helping Hands Pantry Open
DESCRIPTION:
URL:https://villageofwyocena.com/event/helping-hands-pantry-open/2022-04-06/
CATEGORIES:Community Events
END:VEVENT
BEGIN:VEVENT
DTSTART;VALUE=DATE:20220408
DTEND;VALUE=DATE:20220409
DTSTAMP:20260424T185111
CREATED:20210226T235003Z
LAST-MODIFIED:20231110T003707Z
UID:10001105-1649376000-1649462399@villageofwyocena.com
SUMMARY:Office Closed
DESCRIPTION:
URL:https://villageofwyocena.com/event/office-closed/2022-04-08/
CATEGORIES:General
END:VEVENT
BEGIN:VEVENT
DTSTART;TZID=America/Chicago:20220411T100000
DTEND;TZID=America/Chicago:20220411T120000
DTSTAMP:20260424T185111
CREATED:20210226T234358Z
LAST-MODIFIED:20210226T234358Z
UID:10000502-1649671200-1649678400@villageofwyocena.com
SUMMARY:Helping Hands Pantry Open
DESCRIPTION:
URL:https://villageofwyocena.com/event/helping-hands-pantry-open-5/2022-04-11/
CATEGORIES:Community Events
END:VEVENT
BEGIN:VEVENT
DTSTART;TZID=America/Chicago:20220411T180000
DTEND;TZID=America/Chicago:20220411T190000
DTSTAMP:20260424T185111
CREATED:20210226T235503Z
LAST-MODIFIED:20231110T004835Z
UID:10001900-1649700000-1649703600@villageofwyocena.com
SUMMARY:Village Board Meeting
DESCRIPTION:
URL:https://villageofwyocena.com/event/village-board-meeting-2-2021-11-08/2022-04-11/
CATEGORIES:Village Board
END:VEVENT
BEGIN:VEVENT
DTSTART;TZID=America/Chicago:20220412T060000
DTEND;TZID=America/Chicago:20220412T140000
DTSTAMP:20260424T185111
CREATED:20210226T235133Z
LAST-MODIFIED:20210226T235133Z
UID:10001438-1649743200-1649772000@villageofwyocena.com
SUMMARY:Garbage Pick-Up
DESCRIPTION:
URL:https://villageofwyocena.com/event/garbage-pick-up/2022-04-12/
CATEGORIES:Garbage & Recycling
END:VEVENT
BEGIN:VEVENT
DTSTART;TZID=America/Chicago:20220412T100000
DTEND;TZID=America/Chicago:20220412T120000
DTSTAMP:20260424T185111
CREATED:20210226T234717Z
LAST-MODIFIED:20210226T234717Z
UID:10000732-1649757600-1649764800@villageofwyocena.com
SUMMARY:Helping Hands Pantry Open
DESCRIPTION:
URL:https://villageofwyocena.com/event/helping-hands-pantry-open-8/2022-04-12/
CATEGORIES:Community Events
END:VEVENT
BEGIN:VEVENT
DTSTART;TZID=America/Chicago:20220413T100000
DTEND;TZID=America/Chicago:20220413T120000
DTSTAMP:20260424T185111
CREATED:20210226T210919Z
LAST-MODIFIED:20210226T215433Z
UID:10000229-1649844000-1649851200@villageofwyocena.com
SUMMARY:Helping Hands Pantry Open
DESCRIPTION:
URL:https://villageofwyocena.com/event/helping-hands-pantry-open-2/2022-04-13/
CATEGORIES:Community Events
END:VEVENT
BEGIN:VEVENT
DTSTART;VALUE=DATE:20220415
DTEND;VALUE=DATE:20220416
DTSTAMP:20260424T185111
CREATED:20210226T235003Z
LAST-MODIFIED:20231110T003707Z
UID:10001106-1649980800-1650067199@villageofwyocena.com
SUMMARY:Office Closed
DESCRIPTION:
URL:https://villageofwyocena.com/event/office-closed/2022-04-15/
CATEGORIES:General
END:VEVENT
BEGIN:VEVENT
DTSTART;TZID=America/Chicago:20220418T100000
DTEND;TZID=America/Chicago:20220418T120000
DTSTAMP:20260424T185111
CREATED:20210226T234511Z
LAST-MODIFIED:20210226T234511Z
UID:10000579-1650276000-1650283200@villageofwyocena.com
SUMMARY:Helping Hands Pantry Open
DESCRIPTION:
URL:https://villageofwyocena.com/event/helping-hands-pantry-open-6/2022-04-18/
CATEGORIES:Community Events
END:VEVENT
BEGIN:VEVENT
DTSTART;TZID=America/Chicago:20220419T060000
DTEND;TZID=America/Chicago:20220419T140000
DTSTAMP:20260424T185111
CREATED:20210226T235133Z
LAST-MODIFIED:20210226T235133Z
UID:10001439-1650348000-1650376800@villageofwyocena.com
SUMMARY:Garbage Pick-Up
DESCRIPTION:
URL:https://villageofwyocena.com/event/garbage-pick-up/2022-04-19/
CATEGORIES:Garbage & Recycling
END:VEVENT
BEGIN:VEVENT
DTSTART;TZID=America/Chicago:20220419T060000
DTEND;TZID=America/Chicago:20220419T140000
DTSTAMP:20260424T185111
CREATED:20210226T235241Z
LAST-MODIFIED:20210226T235241Z
UID:10001711-1650348000-1650376800@villageofwyocena.com
SUMMARY:Recycling Pick-Up
DESCRIPTION:
URL:https://villageofwyocena.com/event/recycling-pick-up/2022-04-19/
CATEGORIES:Garbage & Recycling
END:VEVENT
BEGIN:VEVENT
DTSTART;TZID=America/Chicago:20220419T100000
DTEND;TZID=America/Chicago:20220419T120000
DTSTAMP:20260424T185111
CREATED:20210226T234800Z
LAST-MODIFIED:20210226T234800Z
UID:10000809-1650362400-1650369600@villageofwyocena.com
SUMMARY:Helping Hands Pantry Open
DESCRIPTION:
URL:https://villageofwyocena.com/event/helping-hands-pantry-open-9/2022-04-19/
CATEGORIES:Community Events
END:VEVENT
BEGIN:VEVENT
DTSTART;TZID=America/Chicago:20220420T100000
DTEND;TZID=America/Chicago:20220420T120000
DTSTAMP:20260424T185111
CREATED:20210226T210959Z
LAST-MODIFIED:20210226T215435Z
UID:10000306-1650448800-1650456000@villageofwyocena.com
SUMMARY:Helping Hands Pantry Open
DESCRIPTION:
URL:https://villageofwyocena.com/event/helping-hands-pantry-open-3/2022-04-20/
CATEGORIES:Community Events
END:VEVENT
BEGIN:VEVENT
DTSTART;VALUE=DATE:20220422
DTEND;VALUE=DATE:20220423
DTSTAMP:20260424T185111
CREATED:20210226T235003Z
LAST-MODIFIED:20231110T003707Z
UID:10001107-1650585600-1650671999@villageofwyocena.com
SUMMARY:Office Closed
DESCRIPTION:
URL:https://villageofwyocena.com/event/office-closed/2022-04-22/
CATEGORIES:General
END:VEVENT
BEGIN:VEVENT
DTSTART;VALUE=DATE:20220424
DTEND;VALUE=DATE:20220425
DTSTAMP:20260424T185111
CREATED:20220215T005901Z
LAST-MODIFIED:20220215T005943Z
UID:10000071-1650758400-1650844799@villageofwyocena.com
SUMMARY:Community Room Private Rental
DESCRIPTION:
URL:https://villageofwyocena.com/event/community-room-private-rental-3/
CATEGORIES:Community Room,Rental Calendar
END:VEVENT
BEGIN:VEVENT
DTSTART;TZID=America/Chicago:20220425T170000
DTEND;TZID=America/Chicago:20220425T180000
DTSTAMP:20260424T185111
CREATED:20210226T234850Z
LAST-MODIFIED:20210226T234850Z
UID:10000885-1650906000-1650909600@villageofwyocena.com
SUMMARY:Library Board Meeting
DESCRIPTION:
URL:https://villageofwyocena.com/event/library-board-meeting-2/2022-04-25/
CATEGORIES:Meetings
END:VEVENT
BEGIN:VEVENT
DTSTART;TZID=America/Chicago:20220426T060000
DTEND;TZID=America/Chicago:20220426T140000
DTSTAMP:20260424T185111
CREATED:20210226T235133Z
LAST-MODIFIED:20210226T235133Z
UID:10001440-1650952800-1650981600@villageofwyocena.com
SUMMARY:Garbage Pick-Up
DESCRIPTION:
URL:https://villageofwyocena.com/event/garbage-pick-up/2022-04-26/
CATEGORIES:Garbage & Recycling
END:VEVENT
BEGIN:VEVENT
DTSTART;TZID=America/Chicago:20220427T160000
DTEND;TZID=America/Chicago:20220427T160000
DTSTAMP:20260424T185111
CREATED:20220325T002452Z
LAST-MODIFIED:20220325T002608Z
UID:10000077-1651075200-1651075200@villageofwyocena.com
SUMMARY:Library Board Meeting
DESCRIPTION:
URL:https://villageofwyocena.com/event/library-board-meeting-4/
CATEGORIES:Community Room,Meetings
END:VEVENT
BEGIN:VEVENT
DTSTART;VALUE=DATE:20220429
DTEND;VALUE=DATE:20220430
DTSTAMP:20260424T185111
CREATED:20210226T235003Z
LAST-MODIFIED:20231110T003707Z
UID:10001108-1651190400-1651276799@villageofwyocena.com
SUMMARY:Office Closed
DESCRIPTION:
URL:https://villageofwyocena.com/event/office-closed/2022-04-29/
CATEGORIES:General
END:VEVENT
END:VCALENDAR