BEGIN:VCALENDAR
VERSION:2.0
PRODID:-//Village of Wyocena - ECPv6.15.17.1//NONSGML v1.0//EN
CALSCALE:GREGORIAN
METHOD:PUBLISH
X-ORIGINAL-URL:https://villageofwyocena.com
X-WR-CALDESC:Events for Village of Wyocena
REFRESH-INTERVAL;VALUE=DURATION:PT1H
X-Robots-Tag:noindex
X-PUBLISHED-TTL:PT1H
BEGIN:VTIMEZONE
TZID:America/Chicago
BEGIN:DAYLIGHT
TZOFFSETFROM:-0600
TZOFFSETTO:-0500
TZNAME:CDT
DTSTART:20210314T080000
END:DAYLIGHT
BEGIN:STANDARD
TZOFFSETFROM:-0500
TZOFFSETTO:-0600
TZNAME:CST
DTSTART:20211107T070000
END:STANDARD
BEGIN:DAYLIGHT
TZOFFSETFROM:-0600
TZOFFSETTO:-0500
TZNAME:CDT
DTSTART:20220313T080000
END:DAYLIGHT
BEGIN:STANDARD
TZOFFSETFROM:-0500
TZOFFSETTO:-0600
TZNAME:CST
DTSTART:20221106T070000
END:STANDARD
BEGIN:DAYLIGHT
TZOFFSETFROM:-0600
TZOFFSETTO:-0500
TZNAME:CDT
DTSTART:20230312T080000
END:DAYLIGHT
BEGIN:STANDARD
TZOFFSETFROM:-0500
TZOFFSETTO:-0600
TZNAME:CST
DTSTART:20231105T070000
END:STANDARD
END:VTIMEZONE
BEGIN:VEVENT
DTSTART;TZID=America/Chicago:20220502T100000
DTEND;TZID=America/Chicago:20220502T120000
DTSTAMP:20260424T165716
CREATED:20210226T234208Z
LAST-MODIFIED:20210226T234530Z
UID:10000426-1651485600-1651492800@villageofwyocena.com
SUMMARY:Helping Hands Pantry Open
DESCRIPTION:
URL:https://villageofwyocena.com/event/helping-hands-pantry-open-4/2022-05-02/
CATEGORIES:Community Events
END:VEVENT
BEGIN:VEVENT
DTSTART;TZID=America/Chicago:20220503T060000
DTEND;TZID=America/Chicago:20220503T140000
DTSTAMP:20260424T165716
CREATED:20210226T235133Z
LAST-MODIFIED:20210226T235133Z
UID:10001441-1651557600-1651586400@villageofwyocena.com
SUMMARY:Garbage Pick-Up
DESCRIPTION:
URL:https://villageofwyocena.com/event/garbage-pick-up/2022-05-03/
CATEGORIES:Garbage & Recycling
END:VEVENT
BEGIN:VEVENT
DTSTART;TZID=America/Chicago:20220503T060000
DTEND;TZID=America/Chicago:20220503T140000
DTSTAMP:20260424T165716
CREATED:20210226T235241Z
LAST-MODIFIED:20210226T235241Z
UID:10001712-1651557600-1651586400@villageofwyocena.com
SUMMARY:Recycling Pick-Up
DESCRIPTION:
URL:https://villageofwyocena.com/event/recycling-pick-up/2022-05-03/
CATEGORIES:Garbage & Recycling
END:VEVENT
BEGIN:VEVENT
DTSTART;TZID=America/Chicago:20220503T100000
DTEND;TZID=America/Chicago:20220503T120000
DTSTAMP:20260424T165716
CREATED:20210226T234621Z
LAST-MODIFIED:20210226T234621Z
UID:10000656-1651572000-1651579200@villageofwyocena.com
SUMMARY:Helping Hands Pantry Open
DESCRIPTION:
URL:https://villageofwyocena.com/event/helping-hands-pantry-open-7/2022-05-03/
CATEGORIES:Community Events
END:VEVENT
BEGIN:VEVENT
DTSTART;TZID=America/Chicago:20220504T100000
DTEND;TZID=America/Chicago:20220504T120000
DTSTAMP:20260424T165716
CREATED:20210226T210833Z
LAST-MODIFIED:20210226T215431Z
UID:10000153-1651658400-1651665600@villageofwyocena.com
SUMMARY:Helping Hands Pantry Open
DESCRIPTION:
URL:https://villageofwyocena.com/event/helping-hands-pantry-open/2022-05-04/
CATEGORIES:Community Events
END:VEVENT
BEGIN:VEVENT
DTSTART;VALUE=DATE:20220506
DTEND;VALUE=DATE:20220507
DTSTAMP:20260424T165716
CREATED:20210226T235003Z
LAST-MODIFIED:20231110T003707Z
UID:10001109-1651795200-1651881599@villageofwyocena.com
SUMMARY:Office Closed
DESCRIPTION:
URL:https://villageofwyocena.com/event/office-closed/2022-05-06/
CATEGORIES:General
END:VEVENT
BEGIN:VEVENT
DTSTART;TZID=America/Chicago:20220509T100000
DTEND;TZID=America/Chicago:20220509T120000
DTSTAMP:20260424T165716
CREATED:20210226T234358Z
LAST-MODIFIED:20210226T234358Z
UID:10000503-1652090400-1652097600@villageofwyocena.com
SUMMARY:Helping Hands Pantry Open
DESCRIPTION:
URL:https://villageofwyocena.com/event/helping-hands-pantry-open-5/2022-05-09/
CATEGORIES:Community Events
END:VEVENT
BEGIN:VEVENT
DTSTART;TZID=America/Chicago:20220509T180000
DTEND;TZID=America/Chicago:20220509T190000
DTSTAMP:20260424T165716
CREATED:20210226T235503Z
LAST-MODIFIED:20231110T004835Z
UID:10001901-1652119200-1652122800@villageofwyocena.com
SUMMARY:Village Board Meeting
DESCRIPTION:
URL:https://villageofwyocena.com/event/village-board-meeting-2-2021-11-08/2022-05-09/
CATEGORIES:Village Board
END:VEVENT
BEGIN:VEVENT
DTSTART;TZID=America/Chicago:20220510T060000
DTEND;TZID=America/Chicago:20220510T140000
DTSTAMP:20260424T165716
CREATED:20210226T235133Z
LAST-MODIFIED:20210226T235133Z
UID:10001442-1652162400-1652191200@villageofwyocena.com
SUMMARY:Garbage Pick-Up
DESCRIPTION:
URL:https://villageofwyocena.com/event/garbage-pick-up/2022-05-10/
CATEGORIES:Garbage & Recycling
END:VEVENT
BEGIN:VEVENT
DTSTART;TZID=America/Chicago:20220510T100000
DTEND;TZID=America/Chicago:20220510T120000
DTSTAMP:20260424T165716
CREATED:20210226T234717Z
LAST-MODIFIED:20210226T234717Z
UID:10000733-1652176800-1652184000@villageofwyocena.com
SUMMARY:Helping Hands Pantry Open
DESCRIPTION:
URL:https://villageofwyocena.com/event/helping-hands-pantry-open-8/2022-05-10/
CATEGORIES:Community Events
END:VEVENT
BEGIN:VEVENT
DTSTART;TZID=America/Chicago:20220511T100000
DTEND;TZID=America/Chicago:20220511T120000
DTSTAMP:20260424T165716
CREATED:20210226T210919Z
LAST-MODIFIED:20210226T215433Z
UID:10000230-1652263200-1652270400@villageofwyocena.com
SUMMARY:Helping Hands Pantry Open
DESCRIPTION:
URL:https://villageofwyocena.com/event/helping-hands-pantry-open-2/2022-05-11/
CATEGORIES:Community Events
END:VEVENT
BEGIN:VEVENT
DTSTART;VALUE=DATE:20220513
DTEND;VALUE=DATE:20220514
DTSTAMP:20260424T165716
CREATED:20210226T235003Z
LAST-MODIFIED:20231110T003707Z
UID:10001110-1652400000-1652486399@villageofwyocena.com
SUMMARY:Office Closed
DESCRIPTION:
URL:https://villageofwyocena.com/event/office-closed/2022-05-13/
CATEGORIES:General
END:VEVENT
BEGIN:VEVENT
DTSTART;TZID=America/Chicago:20220516T100000
DTEND;TZID=America/Chicago:20220516T120000
DTSTAMP:20260424T165716
CREATED:20210226T234511Z
LAST-MODIFIED:20210226T234511Z
UID:10000580-1652695200-1652702400@villageofwyocena.com
SUMMARY:Helping Hands Pantry Open
DESCRIPTION:
URL:https://villageofwyocena.com/event/helping-hands-pantry-open-6/2022-05-16/
CATEGORIES:Community Events
END:VEVENT
BEGIN:VEVENT
DTSTART;TZID=America/Chicago:20220517T060000
DTEND;TZID=America/Chicago:20220517T140000
DTSTAMP:20260424T165716
CREATED:20210226T235133Z
LAST-MODIFIED:20210226T235133Z
UID:10001443-1652767200-1652796000@villageofwyocena.com
SUMMARY:Garbage Pick-Up
DESCRIPTION:
URL:https://villageofwyocena.com/event/garbage-pick-up/2022-05-17/
CATEGORIES:Garbage & Recycling
END:VEVENT
BEGIN:VEVENT
DTSTART;TZID=America/Chicago:20220517T060000
DTEND;TZID=America/Chicago:20220517T140000
DTSTAMP:20260424T165716
CREATED:20210226T235241Z
LAST-MODIFIED:20210226T235241Z
UID:10001713-1652767200-1652796000@villageofwyocena.com
SUMMARY:Recycling Pick-Up
DESCRIPTION:
URL:https://villageofwyocena.com/event/recycling-pick-up/2022-05-17/
CATEGORIES:Garbage & Recycling
END:VEVENT
BEGIN:VEVENT
DTSTART;TZID=America/Chicago:20220517T100000
DTEND;TZID=America/Chicago:20220517T120000
DTSTAMP:20260424T165716
CREATED:20210226T234800Z
LAST-MODIFIED:20210226T234800Z
UID:10000810-1652781600-1652788800@villageofwyocena.com
SUMMARY:Helping Hands Pantry Open
DESCRIPTION:
URL:https://villageofwyocena.com/event/helping-hands-pantry-open-9/2022-05-17/
CATEGORIES:Community Events
END:VEVENT
BEGIN:VEVENT
DTSTART;TZID=America/Chicago:20220518T100000
DTEND;TZID=America/Chicago:20220518T120000
DTSTAMP:20260424T165716
CREATED:20210226T210959Z
LAST-MODIFIED:20210226T215435Z
UID:10000307-1652868000-1652875200@villageofwyocena.com
SUMMARY:Helping Hands Pantry Open
DESCRIPTION:
URL:https://villageofwyocena.com/event/helping-hands-pantry-open-3/2022-05-18/
CATEGORIES:Community Events
END:VEVENT
BEGIN:VEVENT
DTSTART;VALUE=DATE:20220520
DTEND;VALUE=DATE:20220521
DTSTAMP:20260424T165716
CREATED:20210226T235003Z
LAST-MODIFIED:20231110T003707Z
UID:10001111-1653004800-1653091199@villageofwyocena.com
SUMMARY:Office Closed
DESCRIPTION:
URL:https://villageofwyocena.com/event/office-closed/2022-05-20/
CATEGORIES:General
END:VEVENT
BEGIN:VEVENT
DTSTART;VALUE=DATE:20220521
DTEND;VALUE=DATE:20220522
DTSTAMP:20260424T165716
CREATED:20220330T182430Z
LAST-MODIFIED:20220330T182430Z
UID:10002008-1653091200-1653177599@villageofwyocena.com
SUMMARY:Community Room Private Event
DESCRIPTION:
URL:https://villageofwyocena.com/event/community-room-private-event/
CATEGORIES:Community Room,Rental Calendar
END:VEVENT
BEGIN:VEVENT
DTSTART;VALUE=DATE:20220523
DTEND;VALUE=DATE:20220531
DTSTAMP:20260424T165716
CREATED:20220419T175455Z
LAST-MODIFIED:20220419T180440Z
UID:10002009-1653264000-1653955199@villageofwyocena.com
SUMMARY:No Rentals
DESCRIPTION:No Rentals for: \n\nMay 23-30\, 2022;
URL:https://villageofwyocena.com/event/no-rentals-2/
CATEGORIES:Community Room
END:VEVENT
BEGIN:VEVENT
DTSTART;TZID=America/Chicago:20220523T170000
DTEND;TZID=America/Chicago:20220523T180000
DTSTAMP:20260424T165716
CREATED:20210226T234850Z
LAST-MODIFIED:20210226T234850Z
UID:10000886-1653325200-1653328800@villageofwyocena.com
SUMMARY:Library Board Meeting
DESCRIPTION:
URL:https://villageofwyocena.com/event/library-board-meeting-2/2022-05-23/
CATEGORIES:Meetings
END:VEVENT
BEGIN:VEVENT
DTSTART;TZID=America/Chicago:20220524T060000
DTEND;TZID=America/Chicago:20220524T140000
DTSTAMP:20260424T165716
CREATED:20210226T235133Z
LAST-MODIFIED:20210226T235133Z
UID:10001444-1653372000-1653400800@villageofwyocena.com
SUMMARY:Garbage Pick-Up
DESCRIPTION:
URL:https://villageofwyocena.com/event/garbage-pick-up/2022-05-24/
CATEGORIES:Garbage & Recycling
END:VEVENT
BEGIN:VEVENT
DTSTART;VALUE=DATE:20220527
DTEND;VALUE=DATE:20220528
DTSTAMP:20260424T165716
CREATED:20210226T235003Z
LAST-MODIFIED:20231110T003707Z
UID:10001112-1653609600-1653695999@villageofwyocena.com
SUMMARY:Office Closed
DESCRIPTION:
URL:https://villageofwyocena.com/event/office-closed/2022-05-27/
CATEGORIES:General
END:VEVENT
BEGIN:VEVENT
DTSTART;TZID=America/Chicago:20220531T060000
DTEND;TZID=America/Chicago:20220531T140000
DTSTAMP:20260424T165716
CREATED:20210226T235133Z
LAST-MODIFIED:20210226T235133Z
UID:10001445-1653976800-1654005600@villageofwyocena.com
SUMMARY:Garbage Pick-Up
DESCRIPTION:
URL:https://villageofwyocena.com/event/garbage-pick-up/2022-05-31/
CATEGORIES:Garbage & Recycling
END:VEVENT
BEGIN:VEVENT
DTSTART;TZID=America/Chicago:20220531T060000
DTEND;TZID=America/Chicago:20220531T140000
DTSTAMP:20260424T165716
CREATED:20210226T235241Z
LAST-MODIFIED:20210226T235241Z
UID:10001714-1653976800-1654005600@villageofwyocena.com
SUMMARY:Recycling Pick-Up
DESCRIPTION:
URL:https://villageofwyocena.com/event/recycling-pick-up/2022-05-31/
CATEGORIES:Garbage & Recycling
END:VEVENT
END:VCALENDAR