BEGIN:VCALENDAR
VERSION:2.0
PRODID:-//Village of Wyocena - ECPv6.15.17.1//NONSGML v1.0//EN
CALSCALE:GREGORIAN
METHOD:PUBLISH
X-ORIGINAL-URL:https://villageofwyocena.com
X-WR-CALDESC:Events for Village of Wyocena
REFRESH-INTERVAL;VALUE=DURATION:PT1H
X-Robots-Tag:noindex
X-PUBLISHED-TTL:PT1H
BEGIN:VTIMEZONE
TZID:America/Chicago
BEGIN:DAYLIGHT
TZOFFSETFROM:-0600
TZOFFSETTO:-0500
TZNAME:CDT
DTSTART:20210314T080000
END:DAYLIGHT
BEGIN:STANDARD
TZOFFSETFROM:-0500
TZOFFSETTO:-0600
TZNAME:CST
DTSTART:20211107T070000
END:STANDARD
BEGIN:DAYLIGHT
TZOFFSETFROM:-0600
TZOFFSETTO:-0500
TZNAME:CDT
DTSTART:20220313T080000
END:DAYLIGHT
BEGIN:STANDARD
TZOFFSETFROM:-0500
TZOFFSETTO:-0600
TZNAME:CST
DTSTART:20221106T070000
END:STANDARD
BEGIN:DAYLIGHT
TZOFFSETFROM:-0600
TZOFFSETTO:-0500
TZNAME:CDT
DTSTART:20230312T080000
END:DAYLIGHT
BEGIN:STANDARD
TZOFFSETFROM:-0500
TZOFFSETTO:-0600
TZNAME:CST
DTSTART:20231105T070000
END:STANDARD
END:VTIMEZONE
BEGIN:VEVENT
DTSTART;TZID=America/Chicago:20220601T100000
DTEND;TZID=America/Chicago:20220601T120000
DTSTAMP:20260424T152044
CREATED:20210226T210833Z
LAST-MODIFIED:20210226T215431Z
UID:10000154-1654077600-1654084800@villageofwyocena.com
SUMMARY:Helping Hands Pantry Open
DESCRIPTION:
URL:https://villageofwyocena.com/event/helping-hands-pantry-open/2022-06-01/
CATEGORIES:Community Events
END:VEVENT
BEGIN:VEVENT
DTSTART;VALUE=DATE:20220603
DTEND;VALUE=DATE:20220604
DTSTAMP:20260424T152044
CREATED:20210226T235003Z
LAST-MODIFIED:20231110T003707Z
UID:10001113-1654214400-1654300799@villageofwyocena.com
SUMMARY:Office Closed
DESCRIPTION:
URL:https://villageofwyocena.com/event/office-closed/2022-06-03/
CATEGORIES:General
END:VEVENT
BEGIN:VEVENT
DTSTART;VALUE=DATE:20220604
DTEND;VALUE=DATE:20220605
DTSTAMP:20260424T152044
CREATED:20220317T014046Z
LAST-MODIFIED:20220317T014539Z
UID:10000076-1654300800-1654387199@villageofwyocena.com
SUMMARY:Community Room Private Rental
DESCRIPTION:
URL:https://villageofwyocena.com/event/private-event-13/
CATEGORIES:Community Room,Rental Calendar
END:VEVENT
BEGIN:VEVENT
DTSTART;TZID=America/Chicago:20220606T100000
DTEND;TZID=America/Chicago:20220606T120000
DTSTAMP:20260424T152044
CREATED:20210226T234208Z
LAST-MODIFIED:20210226T234530Z
UID:10000427-1654509600-1654516800@villageofwyocena.com
SUMMARY:Helping Hands Pantry Open
DESCRIPTION:
URL:https://villageofwyocena.com/event/helping-hands-pantry-open-4/2022-06-06/
CATEGORIES:Community Events
END:VEVENT
BEGIN:VEVENT
DTSTART;TZID=America/Chicago:20220607T060000
DTEND;TZID=America/Chicago:20220607T140000
DTSTAMP:20260424T152044
CREATED:20210226T235133Z
LAST-MODIFIED:20210226T235133Z
UID:10001446-1654581600-1654610400@villageofwyocena.com
SUMMARY:Garbage Pick-Up
DESCRIPTION:
URL:https://villageofwyocena.com/event/garbage-pick-up/2022-06-07/
CATEGORIES:Garbage & Recycling
END:VEVENT
BEGIN:VEVENT
DTSTART;TZID=America/Chicago:20220607T100000
DTEND;TZID=America/Chicago:20220607T120000
DTSTAMP:20260424T152044
CREATED:20210226T234621Z
LAST-MODIFIED:20210226T234621Z
UID:10000657-1654596000-1654603200@villageofwyocena.com
SUMMARY:Helping Hands Pantry Open
DESCRIPTION:
URL:https://villageofwyocena.com/event/helping-hands-pantry-open-7/2022-06-07/
CATEGORIES:Community Events
END:VEVENT
BEGIN:VEVENT
DTSTART;TZID=America/Chicago:20220608T100000
DTEND;TZID=America/Chicago:20220608T120000
DTSTAMP:20260424T152044
CREATED:20210226T210919Z
LAST-MODIFIED:20210226T215433Z
UID:10000231-1654682400-1654689600@villageofwyocena.com
SUMMARY:Helping Hands Pantry Open
DESCRIPTION:
URL:https://villageofwyocena.com/event/helping-hands-pantry-open-2/2022-06-08/
CATEGORIES:Community Events
END:VEVENT
BEGIN:VEVENT
DTSTART;VALUE=DATE:20220610
DTEND;VALUE=DATE:20220611
DTSTAMP:20260424T152044
CREATED:20210226T235003Z
LAST-MODIFIED:20231110T003707Z
UID:10001114-1654819200-1654905599@villageofwyocena.com
SUMMARY:Office Closed
DESCRIPTION:
URL:https://villageofwyocena.com/event/office-closed/2022-06-10/
CATEGORIES:General
END:VEVENT
BEGIN:VEVENT
DTSTART;VALUE=DATE:20220613
DTEND;VALUE=DATE:20220614
DTSTAMP:20260424T152044
CREATED:20220524T025619Z
LAST-MODIFIED:20220524T025619Z
UID:10002015-1655078400-1655164799@villageofwyocena.com
SUMMARY:Gym Rental
DESCRIPTION:
URL:https://villageofwyocena.com/event/gym-rental/
END:VEVENT
BEGIN:VEVENT
DTSTART;TZID=America/Chicago:20220613T100000
DTEND;TZID=America/Chicago:20220613T120000
DTSTAMP:20260424T152044
CREATED:20210226T234358Z
LAST-MODIFIED:20210226T234358Z
UID:10000504-1655114400-1655121600@villageofwyocena.com
SUMMARY:Helping Hands Pantry Open
DESCRIPTION:
URL:https://villageofwyocena.com/event/helping-hands-pantry-open-5/2022-06-13/
CATEGORIES:Community Events
END:VEVENT
BEGIN:VEVENT
DTSTART;TZID=America/Chicago:20220613T180000
DTEND;TZID=America/Chicago:20220613T190000
DTSTAMP:20260424T152044
CREATED:20210226T235503Z
LAST-MODIFIED:20231110T004835Z
UID:10001902-1655143200-1655146800@villageofwyocena.com
SUMMARY:Village Board Meeting
DESCRIPTION:
URL:https://villageofwyocena.com/event/village-board-meeting-2-2021-11-08/2022-06-13/
CATEGORIES:Village Board
END:VEVENT
BEGIN:VEVENT
DTSTART;TZID=America/Chicago:20220614T060000
DTEND;TZID=America/Chicago:20220614T140000
DTSTAMP:20260424T152044
CREATED:20210226T235133Z
LAST-MODIFIED:20210226T235133Z
UID:10001447-1655186400-1655215200@villageofwyocena.com
SUMMARY:Garbage Pick-Up
DESCRIPTION:
URL:https://villageofwyocena.com/event/garbage-pick-up/2022-06-14/
CATEGORIES:Garbage & Recycling
END:VEVENT
BEGIN:VEVENT
DTSTART;TZID=America/Chicago:20220614T060000
DTEND;TZID=America/Chicago:20220614T140000
DTSTAMP:20260424T152044
CREATED:20210226T235241Z
LAST-MODIFIED:20210226T235241Z
UID:10001715-1655186400-1655215200@villageofwyocena.com
SUMMARY:Recycling Pick-Up
DESCRIPTION:
URL:https://villageofwyocena.com/event/recycling-pick-up/2022-06-14/
CATEGORIES:Garbage & Recycling
END:VEVENT
BEGIN:VEVENT
DTSTART;TZID=America/Chicago:20220614T100000
DTEND;TZID=America/Chicago:20220614T120000
DTSTAMP:20260424T152044
CREATED:20210226T234717Z
LAST-MODIFIED:20210226T234717Z
UID:10000734-1655200800-1655208000@villageofwyocena.com
SUMMARY:Helping Hands Pantry Open
DESCRIPTION:
URL:https://villageofwyocena.com/event/helping-hands-pantry-open-8/2022-06-14/
CATEGORIES:Community Events
END:VEVENT
BEGIN:VEVENT
DTSTART;TZID=America/Chicago:20220615T080000
DTEND;TZID=America/Chicago:20220615T120000
DTSTAMP:20260424T152044
CREATED:20211102T160009Z
LAST-MODIFIED:20211102T160009Z
UID:10001953-1655280000-1655294400@villageofwyocena.com
SUMMARY:Grande Cheese
DESCRIPTION:
URL:https://villageofwyocena.com/event/grande-cheese/
CATEGORIES:Multi-Purpose Room
END:VEVENT
BEGIN:VEVENT
DTSTART;TZID=America/Chicago:20220615T100000
DTEND;TZID=America/Chicago:20220615T120000
DTSTAMP:20260424T152044
CREATED:20210226T210959Z
LAST-MODIFIED:20210226T215435Z
UID:10000308-1655287200-1655294400@villageofwyocena.com
SUMMARY:Helping Hands Pantry Open
DESCRIPTION:
URL:https://villageofwyocena.com/event/helping-hands-pantry-open-3/2022-06-15/
CATEGORIES:Community Events
END:VEVENT
BEGIN:VEVENT
DTSTART;VALUE=DATE:20220617
DTEND;VALUE=DATE:20220618
DTSTAMP:20260424T152044
CREATED:20210226T235003Z
LAST-MODIFIED:20231110T003707Z
UID:10001115-1655424000-1655510399@villageofwyocena.com
SUMMARY:Office Closed
DESCRIPTION:
URL:https://villageofwyocena.com/event/office-closed/2022-06-17/
CATEGORIES:General
END:VEVENT
BEGIN:VEVENT
DTSTART;VALUE=DATE:20220618
DTEND;VALUE=DATE:20220619
DTSTAMP:20260424T152044
CREATED:20220314T194402Z
LAST-MODIFIED:20220314T194402Z
UID:10000075-1655510400-1655596799@villageofwyocena.com
SUMMARY:Community Room Private Rental
DESCRIPTION:
URL:https://villageofwyocena.com/event/community-room-private-rental-4/
CATEGORIES:Community Room
END:VEVENT
BEGIN:VEVENT
DTSTART;TZID=America/Chicago:20220620T100000
DTEND;TZID=America/Chicago:20220620T120000
DTSTAMP:20260424T152044
CREATED:20210226T234511Z
LAST-MODIFIED:20210226T234511Z
UID:10000581-1655719200-1655726400@villageofwyocena.com
SUMMARY:Helping Hands Pantry Open
DESCRIPTION:
URL:https://villageofwyocena.com/event/helping-hands-pantry-open-6/2022-06-20/
CATEGORIES:Community Events
END:VEVENT
BEGIN:VEVENT
DTSTART;TZID=America/Chicago:20220621T060000
DTEND;TZID=America/Chicago:20220621T140000
DTSTAMP:20260424T152044
CREATED:20210226T235133Z
LAST-MODIFIED:20210226T235133Z
UID:10001448-1655791200-1655820000@villageofwyocena.com
SUMMARY:Garbage Pick-Up
DESCRIPTION:
URL:https://villageofwyocena.com/event/garbage-pick-up/2022-06-21/
CATEGORIES:Garbage & Recycling
END:VEVENT
BEGIN:VEVENT
DTSTART;TZID=America/Chicago:20220621T100000
DTEND;TZID=America/Chicago:20220621T120000
DTSTAMP:20260424T152044
CREATED:20210226T234800Z
LAST-MODIFIED:20210226T234800Z
UID:10000811-1655805600-1655812800@villageofwyocena.com
SUMMARY:Helping Hands Pantry Open
DESCRIPTION:
URL:https://villageofwyocena.com/event/helping-hands-pantry-open-9/2022-06-21/
CATEGORIES:Community Events
END:VEVENT
BEGIN:VEVENT
DTSTART;VALUE=DATE:20220624
DTEND;VALUE=DATE:20220625
DTSTAMP:20260424T152044
CREATED:20210226T235003Z
LAST-MODIFIED:20231110T003707Z
UID:10001116-1656028800-1656115199@villageofwyocena.com
SUMMARY:Office Closed
DESCRIPTION:
URL:https://villageofwyocena.com/event/office-closed/2022-06-24/
CATEGORIES:General
END:VEVENT
BEGIN:VEVENT
DTSTART;VALUE=DATE:20220625
DTEND;VALUE=DATE:20220626
DTSTAMP:20260424T152044
CREATED:20220419T175710Z
LAST-MODIFIED:20220419T175710Z
UID:10002010-1656115200-1656201599@villageofwyocena.com
SUMMARY:Community Room Private Event
DESCRIPTION:
URL:https://villageofwyocena.com/event/community-room-private-event-2/
CATEGORIES:Community Room
END:VEVENT
BEGIN:VEVENT
DTSTART;TZID=America/Chicago:20220627T170000
DTEND;TZID=America/Chicago:20220627T180000
DTSTAMP:20260424T152044
CREATED:20210226T234850Z
LAST-MODIFIED:20210226T234850Z
UID:10000887-1656349200-1656352800@villageofwyocena.com
SUMMARY:Library Board Meeting
DESCRIPTION:
URL:https://villageofwyocena.com/event/library-board-meeting-2/2022-06-27/
CATEGORIES:Meetings
END:VEVENT
BEGIN:VEVENT
DTSTART;TZID=America/Chicago:20220628T060000
DTEND;TZID=America/Chicago:20220628T140000
DTSTAMP:20260424T152044
CREATED:20210226T235133Z
LAST-MODIFIED:20210226T235133Z
UID:10001449-1656396000-1656424800@villageofwyocena.com
SUMMARY:Garbage Pick-Up
DESCRIPTION:
URL:https://villageofwyocena.com/event/garbage-pick-up/2022-06-28/
CATEGORIES:Garbage & Recycling
END:VEVENT
BEGIN:VEVENT
DTSTART;TZID=America/Chicago:20220628T060000
DTEND;TZID=America/Chicago:20220628T140000
DTSTAMP:20260424T152044
CREATED:20210226T235241Z
LAST-MODIFIED:20210226T235241Z
UID:10001716-1656396000-1656424800@villageofwyocena.com
SUMMARY:Recycling Pick-Up
DESCRIPTION:
URL:https://villageofwyocena.com/event/recycling-pick-up/2022-06-28/
CATEGORIES:Garbage & Recycling
END:VEVENT
END:VCALENDAR