BEGIN:VCALENDAR
VERSION:2.0
PRODID:-//Village of Wyocena - ECPv6.15.17.1//NONSGML v1.0//EN
CALSCALE:GREGORIAN
METHOD:PUBLISH
X-WR-CALNAME:Village of Wyocena
X-ORIGINAL-URL:https://villageofwyocena.com
X-WR-CALDESC:Events for Village of Wyocena
REFRESH-INTERVAL;VALUE=DURATION:PT1H
X-Robots-Tag:noindex
X-PUBLISHED-TTL:PT1H
BEGIN:VTIMEZONE
TZID:America/Chicago
BEGIN:DAYLIGHT
TZOFFSETFROM:-0600
TZOFFSETTO:-0500
TZNAME:CDT
DTSTART:20210314T080000
END:DAYLIGHT
BEGIN:STANDARD
TZOFFSETFROM:-0500
TZOFFSETTO:-0600
TZNAME:CST
DTSTART:20211107T070000
END:STANDARD
BEGIN:DAYLIGHT
TZOFFSETFROM:-0600
TZOFFSETTO:-0500
TZNAME:CDT
DTSTART:20220313T080000
END:DAYLIGHT
BEGIN:STANDARD
TZOFFSETFROM:-0500
TZOFFSETTO:-0600
TZNAME:CST
DTSTART:20221106T070000
END:STANDARD
BEGIN:DAYLIGHT
TZOFFSETFROM:-0600
TZOFFSETTO:-0500
TZNAME:CDT
DTSTART:20230312T080000
END:DAYLIGHT
BEGIN:STANDARD
TZOFFSETFROM:-0500
TZOFFSETTO:-0600
TZNAME:CST
DTSTART:20231105T070000
END:STANDARD
END:VTIMEZONE
BEGIN:VEVENT
DTSTART;VALUE=DATE:20220701
DTEND;VALUE=DATE:20220702
DTSTAMP:20260424T134222
CREATED:20210226T235003Z
LAST-MODIFIED:20231110T003707Z
UID:10001117-1656633600-1656719999@villageofwyocena.com
SUMMARY:Office Closed
DESCRIPTION:
URL:https://villageofwyocena.com/event/office-closed/2022-07-01/
CATEGORIES:General
END:VEVENT
BEGIN:VEVENT
DTSTART;VALUE=DATE:20220703
DTEND;VALUE=DATE:20220704
DTSTAMP:20260424T134222
CREATED:20220330T171514Z
LAST-MODIFIED:20220330T171625Z
UID:10002007-1656806400-1656892799@villageofwyocena.com
SUMMARY:Community Room Private Event
DESCRIPTION:
URL:https://villageofwyocena.com/event/private-event-14/
CATEGORIES:Community Room,Rental Calendar
END:VEVENT
BEGIN:VEVENT
DTSTART;TZID=America/Chicago:20220704T100000
DTEND;TZID=America/Chicago:20220704T120000
DTSTAMP:20260424T134222
CREATED:20210226T234208Z
LAST-MODIFIED:20210226T234530Z
UID:10000428-1656928800-1656936000@villageofwyocena.com
SUMMARY:Helping Hands Pantry Open
DESCRIPTION:
URL:https://villageofwyocena.com/event/helping-hands-pantry-open-4/2022-07-04/
CATEGORIES:Community Events
END:VEVENT
BEGIN:VEVENT
DTSTART;TZID=America/Chicago:20220705T060000
DTEND;TZID=America/Chicago:20220705T140000
DTSTAMP:20260424T134222
CREATED:20210226T235133Z
LAST-MODIFIED:20210226T235133Z
UID:10001450-1657000800-1657029600@villageofwyocena.com
SUMMARY:Garbage Pick-Up
DESCRIPTION:
URL:https://villageofwyocena.com/event/garbage-pick-up/2022-07-05/
CATEGORIES:Garbage & Recycling
END:VEVENT
BEGIN:VEVENT
DTSTART;TZID=America/Chicago:20220705T100000
DTEND;TZID=America/Chicago:20220705T120000
DTSTAMP:20260424T134222
CREATED:20210226T234621Z
LAST-MODIFIED:20210226T234621Z
UID:10000658-1657015200-1657022400@villageofwyocena.com
SUMMARY:Helping Hands Pantry Open
DESCRIPTION:
URL:https://villageofwyocena.com/event/helping-hands-pantry-open-7/2022-07-05/
CATEGORIES:Community Events
END:VEVENT
BEGIN:VEVENT
DTSTART;TZID=America/Chicago:20220706T100000
DTEND;TZID=America/Chicago:20220706T120000
DTSTAMP:20260424T134222
CREATED:20210226T210833Z
LAST-MODIFIED:20210226T215431Z
UID:10000155-1657101600-1657108800@villageofwyocena.com
SUMMARY:Helping Hands Pantry Open
DESCRIPTION:
URL:https://villageofwyocena.com/event/helping-hands-pantry-open/2022-07-06/
CATEGORIES:Community Events
END:VEVENT
BEGIN:VEVENT
DTSTART;VALUE=DATE:20220708
DTEND;VALUE=DATE:20220709
DTSTAMP:20260424T134222
CREATED:20210226T235003Z
LAST-MODIFIED:20231110T003707Z
UID:10001118-1657238400-1657324799@villageofwyocena.com
SUMMARY:Office Closed
DESCRIPTION:
URL:https://villageofwyocena.com/event/office-closed/2022-07-08/
CATEGORIES:General
END:VEVENT
BEGIN:VEVENT
DTSTART;TZID=America/Chicago:20220711T100000
DTEND;TZID=America/Chicago:20220711T120000
DTSTAMP:20260424T134222
CREATED:20210226T234358Z
LAST-MODIFIED:20210226T234358Z
UID:10000505-1657533600-1657540800@villageofwyocena.com
SUMMARY:Helping Hands Pantry Open
DESCRIPTION:
URL:https://villageofwyocena.com/event/helping-hands-pantry-open-5/2022-07-11/
CATEGORIES:Community Events
END:VEVENT
BEGIN:VEVENT
DTSTART;TZID=America/Chicago:20220711T180000
DTEND;TZID=America/Chicago:20220711T190000
DTSTAMP:20260424T134222
CREATED:20210226T235503Z
LAST-MODIFIED:20231110T004835Z
UID:10001903-1657562400-1657566000@villageofwyocena.com
SUMMARY:Village Board Meeting
DESCRIPTION:
URL:https://villageofwyocena.com/event/village-board-meeting-2-2021-11-08/2022-07-11/
CATEGORIES:Village Board
END:VEVENT
BEGIN:VEVENT
DTSTART;TZID=America/Chicago:20220712T060000
DTEND;TZID=America/Chicago:20220712T140000
DTSTAMP:20260424T134222
CREATED:20210226T235133Z
LAST-MODIFIED:20210226T235133Z
UID:10001451-1657605600-1657634400@villageofwyocena.com
SUMMARY:Garbage Pick-Up
DESCRIPTION:
URL:https://villageofwyocena.com/event/garbage-pick-up/2022-07-12/
CATEGORIES:Garbage & Recycling
END:VEVENT
BEGIN:VEVENT
DTSTART;TZID=America/Chicago:20220712T060000
DTEND;TZID=America/Chicago:20220712T140000
DTSTAMP:20260424T134222
CREATED:20210226T235241Z
LAST-MODIFIED:20210226T235241Z
UID:10001717-1657605600-1657634400@villageofwyocena.com
SUMMARY:Recycling Pick-Up
DESCRIPTION:
URL:https://villageofwyocena.com/event/recycling-pick-up/2022-07-12/
CATEGORIES:Garbage & Recycling
END:VEVENT
BEGIN:VEVENT
DTSTART;TZID=America/Chicago:20220712T100000
DTEND;TZID=America/Chicago:20220712T120000
DTSTAMP:20260424T134222
CREATED:20210226T234717Z
LAST-MODIFIED:20210226T234717Z
UID:10000735-1657620000-1657627200@villageofwyocena.com
SUMMARY:Helping Hands Pantry Open
DESCRIPTION:
URL:https://villageofwyocena.com/event/helping-hands-pantry-open-8/2022-07-12/
CATEGORIES:Community Events
END:VEVENT
BEGIN:VEVENT
DTSTART;TZID=America/Chicago:20220713T100000
DTEND;TZID=America/Chicago:20220713T120000
DTSTAMP:20260424T134222
CREATED:20210226T210919Z
LAST-MODIFIED:20210226T215433Z
UID:10000232-1657706400-1657713600@villageofwyocena.com
SUMMARY:Helping Hands Pantry Open
DESCRIPTION:
URL:https://villageofwyocena.com/event/helping-hands-pantry-open-2/2022-07-13/
CATEGORIES:Community Events
END:VEVENT
BEGIN:VEVENT
DTSTART;VALUE=DATE:20220715
DTEND;VALUE=DATE:20220716
DTSTAMP:20260424T134222
CREATED:20210226T235003Z
LAST-MODIFIED:20231110T003707Z
UID:10001119-1657843200-1657929599@villageofwyocena.com
SUMMARY:Office Closed
DESCRIPTION:
URL:https://villageofwyocena.com/event/office-closed/2022-07-15/
CATEGORIES:General
END:VEVENT
BEGIN:VEVENT
DTSTART;TZID=America/Chicago:20220718T100000
DTEND;TZID=America/Chicago:20220718T120000
DTSTAMP:20260424T134222
CREATED:20210226T234511Z
LAST-MODIFIED:20210226T234511Z
UID:10000582-1658138400-1658145600@villageofwyocena.com
SUMMARY:Helping Hands Pantry Open
DESCRIPTION:
URL:https://villageofwyocena.com/event/helping-hands-pantry-open-6/2022-07-18/
CATEGORIES:Community Events
END:VEVENT
BEGIN:VEVENT
DTSTART;TZID=America/Chicago:20220719T060000
DTEND;TZID=America/Chicago:20220719T140000
DTSTAMP:20260424T134222
CREATED:20210226T235133Z
LAST-MODIFIED:20210226T235133Z
UID:10001452-1658210400-1658239200@villageofwyocena.com
SUMMARY:Garbage Pick-Up
DESCRIPTION:
URL:https://villageofwyocena.com/event/garbage-pick-up/2022-07-19/
CATEGORIES:Garbage & Recycling
END:VEVENT
BEGIN:VEVENT
DTSTART;TZID=America/Chicago:20220719T100000
DTEND;TZID=America/Chicago:20220719T120000
DTSTAMP:20260424T134222
CREATED:20210226T234800Z
LAST-MODIFIED:20210226T234800Z
UID:10000812-1658224800-1658232000@villageofwyocena.com
SUMMARY:Helping Hands Pantry Open
DESCRIPTION:
URL:https://villageofwyocena.com/event/helping-hands-pantry-open-9/2022-07-19/
CATEGORIES:Community Events
END:VEVENT
BEGIN:VEVENT
DTSTART;TZID=America/Chicago:20220720T100000
DTEND;TZID=America/Chicago:20220720T120000
DTSTAMP:20260424T134222
CREATED:20210226T210959Z
LAST-MODIFIED:20210226T215435Z
UID:10000309-1658311200-1658318400@villageofwyocena.com
SUMMARY:Helping Hands Pantry Open
DESCRIPTION:
URL:https://villageofwyocena.com/event/helping-hands-pantry-open-3/2022-07-20/
CATEGORIES:Community Events
END:VEVENT
BEGIN:VEVENT
DTSTART;VALUE=DATE:20220722
DTEND;VALUE=DATE:20220723
DTSTAMP:20260424T134222
CREATED:20210226T235003Z
LAST-MODIFIED:20231110T003707Z
UID:10001120-1658448000-1658534399@villageofwyocena.com
SUMMARY:Office Closed
DESCRIPTION:
URL:https://villageofwyocena.com/event/office-closed/2022-07-22/
CATEGORIES:General
END:VEVENT
BEGIN:VEVENT
DTSTART;TZID=America/Chicago:20220722T150000
DTEND;TZID=America/Chicago:20220722T150000
DTSTAMP:20260424T134222
CREATED:20220309T010015Z
LAST-MODIFIED:20220309T010015Z
UID:10000072-1658502000-1658502000@villageofwyocena.com
SUMMARY:Multi-Purpose Room Private Rental
DESCRIPTION:
URL:https://villageofwyocena.com/event/multi-purpose-room-private-rental/
CATEGORIES:Multi-Purpose Room
END:VEVENT
BEGIN:VEVENT
DTSTART;VALUE=DATE:20220723
DTEND;VALUE=DATE:20220724
DTSTAMP:20260424T134222
CREATED:20220720T211243Z
LAST-MODIFIED:20220720T211243Z
UID:10002020-1658534400-1658620799@villageofwyocena.com
SUMMARY:Multi-Purpose Room Private Rental
DESCRIPTION:
URL:https://villageofwyocena.com/event/multi-purpose-room-private-rental-2/
CATEGORIES:Multi-Purpose Room
END:VEVENT
BEGIN:VEVENT
DTSTART;TZID=America/Chicago:20220725T170000
DTEND;TZID=America/Chicago:20220725T180000
DTSTAMP:20260424T134222
CREATED:20210226T234850Z
LAST-MODIFIED:20210226T234850Z
UID:10000888-1658768400-1658772000@villageofwyocena.com
SUMMARY:Library Board Meeting
DESCRIPTION:
URL:https://villageofwyocena.com/event/library-board-meeting-2/2022-07-25/
CATEGORIES:Meetings
END:VEVENT
BEGIN:VEVENT
DTSTART;TZID=America/Chicago:20220726T060000
DTEND;TZID=America/Chicago:20220726T140000
DTSTAMP:20260424T134222
CREATED:20210226T235133Z
LAST-MODIFIED:20210226T235133Z
UID:10001453-1658815200-1658844000@villageofwyocena.com
SUMMARY:Garbage Pick-Up
DESCRIPTION:
URL:https://villageofwyocena.com/event/garbage-pick-up/2022-07-26/
CATEGORIES:Garbage & Recycling
END:VEVENT
BEGIN:VEVENT
DTSTART;TZID=America/Chicago:20220726T060000
DTEND;TZID=America/Chicago:20220726T140000
DTSTAMP:20260424T134222
CREATED:20210226T235241Z
LAST-MODIFIED:20210226T235241Z
UID:10001718-1658815200-1658844000@villageofwyocena.com
SUMMARY:Recycling Pick-Up
DESCRIPTION:
URL:https://villageofwyocena.com/event/recycling-pick-up/2022-07-26/
CATEGORIES:Garbage & Recycling
END:VEVENT
BEGIN:VEVENT
DTSTART;VALUE=DATE:20220729
DTEND;VALUE=DATE:20220730
DTSTAMP:20260424T134222
CREATED:20210226T235003Z
LAST-MODIFIED:20231110T003707Z
UID:10001121-1659052800-1659139199@villageofwyocena.com
SUMMARY:Office Closed
DESCRIPTION:
URL:https://villageofwyocena.com/event/office-closed/2022-07-29/
CATEGORIES:General
END:VEVENT
END:VCALENDAR