BEGIN:VCALENDAR
VERSION:2.0
PRODID:-//Village of Wyocena - ECPv6.15.17.1//NONSGML v1.0//EN
CALSCALE:GREGORIAN
METHOD:PUBLISH
X-WR-CALNAME:Village of Wyocena
X-ORIGINAL-URL:https://villageofwyocena.com
X-WR-CALDESC:Events for Village of Wyocena
REFRESH-INTERVAL;VALUE=DURATION:PT1H
X-Robots-Tag:noindex
X-PUBLISHED-TTL:PT1H
BEGIN:VTIMEZONE
TZID:America/Chicago
BEGIN:DAYLIGHT
TZOFFSETFROM:-0600
TZOFFSETTO:-0500
TZNAME:CDT
DTSTART:20210314T080000
END:DAYLIGHT
BEGIN:STANDARD
TZOFFSETFROM:-0500
TZOFFSETTO:-0600
TZNAME:CST
DTSTART:20211107T070000
END:STANDARD
BEGIN:DAYLIGHT
TZOFFSETFROM:-0600
TZOFFSETTO:-0500
TZNAME:CDT
DTSTART:20220313T080000
END:DAYLIGHT
BEGIN:STANDARD
TZOFFSETFROM:-0500
TZOFFSETTO:-0600
TZNAME:CST
DTSTART:20221106T070000
END:STANDARD
BEGIN:DAYLIGHT
TZOFFSETFROM:-0600
TZOFFSETTO:-0500
TZNAME:CDT
DTSTART:20230312T080000
END:DAYLIGHT
BEGIN:STANDARD
TZOFFSETFROM:-0500
TZOFFSETTO:-0600
TZNAME:CST
DTSTART:20231105T070000
END:STANDARD
END:VTIMEZONE
BEGIN:VEVENT
DTSTART;TZID=America/Chicago:20221101T060000
DTEND;TZID=America/Chicago:20221101T140000
DTSTAMP:20260424T065647
CREATED:20210226T235133Z
LAST-MODIFIED:20210226T235133Z
UID:10001467-1667282400-1667311200@villageofwyocena.com
SUMMARY:Garbage Pick-Up
DESCRIPTION:
URL:https://villageofwyocena.com/event/garbage-pick-up/2022-11-01/
CATEGORIES:Garbage & Recycling
END:VEVENT
BEGIN:VEVENT
DTSTART;TZID=America/Chicago:20221101T060000
DTEND;TZID=America/Chicago:20221101T140000
DTSTAMP:20260424T065647
CREATED:20210226T235241Z
LAST-MODIFIED:20210226T235241Z
UID:10001725-1667282400-1667311200@villageofwyocena.com
SUMMARY:Recycling Pick-Up
DESCRIPTION:
URL:https://villageofwyocena.com/event/recycling-pick-up/2022-11-01/
CATEGORIES:Garbage & Recycling
END:VEVENT
BEGIN:VEVENT
DTSTART;TZID=America/Chicago:20221101T100000
DTEND;TZID=America/Chicago:20221101T120000
DTSTAMP:20260424T065647
CREATED:20210226T234621Z
LAST-MODIFIED:20210226T234621Z
UID:10000662-1667296800-1667304000@villageofwyocena.com
SUMMARY:Helping Hands Pantry Open
DESCRIPTION:
URL:https://villageofwyocena.com/event/helping-hands-pantry-open-7/2022-11-01/
CATEGORIES:Community Events
END:VEVENT
BEGIN:VEVENT
DTSTART;TZID=America/Chicago:20221102T080000
DTEND;TZID=America/Chicago:20221102T143000
DTSTAMP:20260424T065647
CREATED:20221011T000708Z
LAST-MODIFIED:20221011T000708Z
UID:10002026-1667376000-1667399400@villageofwyocena.com
SUMMARY:Private Rental – Multi-Purpose Room
DESCRIPTION:
URL:https://villageofwyocena.com/event/private-rental-multi-purpose-room/
CATEGORIES:Multi-Purpose Room,Rental Calendar
END:VEVENT
BEGIN:VEVENT
DTSTART;TZID=America/Chicago:20221102T100000
DTEND;TZID=America/Chicago:20221102T120000
DTSTAMP:20260424T065647
CREATED:20210226T210833Z
LAST-MODIFIED:20210226T215431Z
UID:10000159-1667383200-1667390400@villageofwyocena.com
SUMMARY:Helping Hands Pantry Open
DESCRIPTION:
URL:https://villageofwyocena.com/event/helping-hands-pantry-open/2022-11-02/
CATEGORIES:Community Events
END:VEVENT
BEGIN:VEVENT
DTSTART;VALUE=DATE:20221104
DTEND;VALUE=DATE:20221105
DTSTAMP:20260424T065647
CREATED:20210226T235003Z
LAST-MODIFIED:20231110T003707Z
UID:10001135-1667520000-1667606399@villageofwyocena.com
SUMMARY:Office Closed
DESCRIPTION:
URL:https://villageofwyocena.com/event/office-closed/2022-11-04/
CATEGORIES:General
END:VEVENT
BEGIN:VEVENT
DTSTART;TZID=America/Chicago:20221107T100000
DTEND;TZID=America/Chicago:20221107T120000
DTSTAMP:20260424T065647
CREATED:20210226T234208Z
LAST-MODIFIED:20210226T234530Z
UID:10000432-1667815200-1667822400@villageofwyocena.com
SUMMARY:Helping Hands Pantry Open
DESCRIPTION:
URL:https://villageofwyocena.com/event/helping-hands-pantry-open-4/2022-11-07/
CATEGORIES:Community Events
END:VEVENT
BEGIN:VEVENT
DTSTART;TZID=America/Chicago:20221108T060000
DTEND;TZID=America/Chicago:20221108T140000
DTSTAMP:20260424T065647
CREATED:20210226T235133Z
LAST-MODIFIED:20210226T235133Z
UID:10001468-1667887200-1667916000@villageofwyocena.com
SUMMARY:Garbage Pick-Up
DESCRIPTION:
URL:https://villageofwyocena.com/event/garbage-pick-up/2022-11-08/
CATEGORIES:Garbage & Recycling
END:VEVENT
BEGIN:VEVENT
DTSTART;TZID=America/Chicago:20221108T100000
DTEND;TZID=America/Chicago:20221108T120000
DTSTAMP:20260424T065647
CREATED:20210226T234717Z
LAST-MODIFIED:20210226T234717Z
UID:10000739-1667901600-1667908800@villageofwyocena.com
SUMMARY:Helping Hands Pantry Open
DESCRIPTION:
URL:https://villageofwyocena.com/event/helping-hands-pantry-open-8/2022-11-08/
CATEGORIES:Community Events
END:VEVENT
BEGIN:VEVENT
DTSTART;TZID=America/Chicago:20221109T100000
DTEND;TZID=America/Chicago:20221109T120000
DTSTAMP:20260424T065647
CREATED:20210226T210919Z
LAST-MODIFIED:20210226T215433Z
UID:10000236-1667988000-1667995200@villageofwyocena.com
SUMMARY:Helping Hands Pantry Open
DESCRIPTION:
URL:https://villageofwyocena.com/event/helping-hands-pantry-open-2/2022-11-09/
CATEGORIES:Community Events
END:VEVENT
BEGIN:VEVENT
DTSTART;VALUE=DATE:20221111
DTEND;VALUE=DATE:20221112
DTSTAMP:20260424T065647
CREATED:20210226T235003Z
LAST-MODIFIED:20231110T003707Z
UID:10001136-1668124800-1668211199@villageofwyocena.com
SUMMARY:Office Closed
DESCRIPTION:
URL:https://villageofwyocena.com/event/office-closed/2022-11-11/
CATEGORIES:General
END:VEVENT
BEGIN:VEVENT
DTSTART;TZID=America/Chicago:20221114T100000
DTEND;TZID=America/Chicago:20221114T120000
DTSTAMP:20260424T065647
CREATED:20210226T234358Z
LAST-MODIFIED:20210226T234358Z
UID:10000509-1668420000-1668427200@villageofwyocena.com
SUMMARY:Helping Hands Pantry Open
DESCRIPTION:
URL:https://villageofwyocena.com/event/helping-hands-pantry-open-5/2022-11-14/
CATEGORIES:Community Events
END:VEVENT
BEGIN:VEVENT
DTSTART;TZID=America/Chicago:20221114T180000
DTEND;TZID=America/Chicago:20221114T190000
DTSTAMP:20260424T065647
CREATED:20210226T235503Z
LAST-MODIFIED:20231110T004835Z
UID:10001907-1668448800-1668452400@villageofwyocena.com
SUMMARY:Village Board Meeting
DESCRIPTION:
URL:https://villageofwyocena.com/event/village-board-meeting-2-2021-11-08/2022-11-14/
CATEGORIES:Village Board
END:VEVENT
BEGIN:VEVENT
DTSTART;TZID=America/Chicago:20221115T060000
DTEND;TZID=America/Chicago:20221115T140000
DTSTAMP:20260424T065647
CREATED:20210226T235133Z
LAST-MODIFIED:20210226T235133Z
UID:10001469-1668492000-1668520800@villageofwyocena.com
SUMMARY:Garbage Pick-Up
DESCRIPTION:
URL:https://villageofwyocena.com/event/garbage-pick-up/2022-11-15/
CATEGORIES:Garbage & Recycling
END:VEVENT
BEGIN:VEVENT
DTSTART;TZID=America/Chicago:20221115T060000
DTEND;TZID=America/Chicago:20221115T140000
DTSTAMP:20260424T065647
CREATED:20210226T235241Z
LAST-MODIFIED:20210226T235241Z
UID:10001726-1668492000-1668520800@villageofwyocena.com
SUMMARY:Recycling Pick-Up
DESCRIPTION:
URL:https://villageofwyocena.com/event/recycling-pick-up/2022-11-15/
CATEGORIES:Garbage & Recycling
END:VEVENT
BEGIN:VEVENT
DTSTART;TZID=America/Chicago:20221115T100000
DTEND;TZID=America/Chicago:20221115T120000
DTSTAMP:20260424T065647
CREATED:20210226T234800Z
LAST-MODIFIED:20210226T234800Z
UID:10000816-1668506400-1668513600@villageofwyocena.com
SUMMARY:Helping Hands Pantry Open
DESCRIPTION:
URL:https://villageofwyocena.com/event/helping-hands-pantry-open-9/2022-11-15/
CATEGORIES:Community Events
END:VEVENT
BEGIN:VEVENT
DTSTART;TZID=America/Chicago:20221116T100000
DTEND;TZID=America/Chicago:20221116T120000
DTSTAMP:20260424T065647
CREATED:20210226T210959Z
LAST-MODIFIED:20210226T215435Z
UID:10000313-1668592800-1668600000@villageofwyocena.com
SUMMARY:Helping Hands Pantry Open
DESCRIPTION:
URL:https://villageofwyocena.com/event/helping-hands-pantry-open-3/2022-11-16/
CATEGORIES:Community Events
END:VEVENT
BEGIN:VEVENT
DTSTART;VALUE=DATE:20221118
DTEND;VALUE=DATE:20221119
DTSTAMP:20260424T065647
CREATED:20210226T235003Z
LAST-MODIFIED:20231110T003707Z
UID:10001137-1668729600-1668815999@villageofwyocena.com
SUMMARY:Office Closed
DESCRIPTION:
URL:https://villageofwyocena.com/event/office-closed/2022-11-18/
CATEGORIES:General
END:VEVENT
BEGIN:VEVENT
DTSTART;TZID=America/Chicago:20221121T100000
DTEND;TZID=America/Chicago:20221121T120000
DTSTAMP:20260424T065647
CREATED:20210226T234511Z
LAST-MODIFIED:20210226T234511Z
UID:10000586-1669024800-1669032000@villageofwyocena.com
SUMMARY:Helping Hands Pantry Open
DESCRIPTION:
URL:https://villageofwyocena.com/event/helping-hands-pantry-open-6/2022-11-21/
CATEGORIES:Community Events
END:VEVENT
BEGIN:VEVENT
DTSTART;TZID=America/Chicago:20221122T060000
DTEND;TZID=America/Chicago:20221122T140000
DTSTAMP:20260424T065647
CREATED:20210226T235133Z
LAST-MODIFIED:20210226T235133Z
UID:10001470-1669096800-1669125600@villageofwyocena.com
SUMMARY:Garbage Pick-Up
DESCRIPTION:
URL:https://villageofwyocena.com/event/garbage-pick-up/2022-11-22/
CATEGORIES:Garbage & Recycling
END:VEVENT
BEGIN:VEVENT
DTSTART;VALUE=DATE:20221125
DTEND;VALUE=DATE:20221126
DTSTAMP:20260424T065647
CREATED:20210226T235003Z
LAST-MODIFIED:20231110T003707Z
UID:10001138-1669334400-1669420799@villageofwyocena.com
SUMMARY:Office Closed
DESCRIPTION:
URL:https://villageofwyocena.com/event/office-closed/2022-11-25/
CATEGORIES:General
END:VEVENT
BEGIN:VEVENT
DTSTART;TZID=America/Chicago:20221128T170000
DTEND;TZID=America/Chicago:20221128T180000
DTSTAMP:20260424T065647
CREATED:20210226T234850Z
LAST-MODIFIED:20210226T234850Z
UID:10000892-1669654800-1669658400@villageofwyocena.com
SUMMARY:Library Board Meeting
DESCRIPTION:
URL:https://villageofwyocena.com/event/library-board-meeting-2/2022-11-28/
CATEGORIES:Meetings
END:VEVENT
BEGIN:VEVENT
DTSTART;TZID=America/Chicago:20221129T060000
DTEND;TZID=America/Chicago:20221129T140000
DTSTAMP:20260424T065647
CREATED:20210226T235133Z
LAST-MODIFIED:20210226T235133Z
UID:10001471-1669701600-1669730400@villageofwyocena.com
SUMMARY:Garbage Pick-Up
DESCRIPTION:
URL:https://villageofwyocena.com/event/garbage-pick-up/2022-11-29/
CATEGORIES:Garbage & Recycling
END:VEVENT
BEGIN:VEVENT
DTSTART;TZID=America/Chicago:20221129T060000
DTEND;TZID=America/Chicago:20221129T140000
DTSTAMP:20260424T065647
CREATED:20210226T235241Z
LAST-MODIFIED:20210226T235241Z
UID:10001727-1669701600-1669730400@villageofwyocena.com
SUMMARY:Recycling Pick-Up
DESCRIPTION:
URL:https://villageofwyocena.com/event/recycling-pick-up/2022-11-29/
CATEGORIES:Garbage & Recycling
END:VEVENT
END:VCALENDAR