BEGIN:VCALENDAR
VERSION:2.0
PRODID:-//Village of Wyocena - ECPv6.15.17.1//NONSGML v1.0//EN
CALSCALE:GREGORIAN
METHOD:PUBLISH
X-ORIGINAL-URL:https://villageofwyocena.com
X-WR-CALDESC:Events for Village of Wyocena
REFRESH-INTERVAL;VALUE=DURATION:PT1H
X-Robots-Tag:noindex
X-PUBLISHED-TTL:PT1H
BEGIN:VTIMEZONE
TZID:America/Chicago
BEGIN:DAYLIGHT
TZOFFSETFROM:-0600
TZOFFSETTO:-0500
TZNAME:CDT
DTSTART:20210314T080000
END:DAYLIGHT
BEGIN:STANDARD
TZOFFSETFROM:-0500
TZOFFSETTO:-0600
TZNAME:CST
DTSTART:20211107T070000
END:STANDARD
BEGIN:DAYLIGHT
TZOFFSETFROM:-0600
TZOFFSETTO:-0500
TZNAME:CDT
DTSTART:20220313T080000
END:DAYLIGHT
BEGIN:STANDARD
TZOFFSETFROM:-0500
TZOFFSETTO:-0600
TZNAME:CST
DTSTART:20221106T070000
END:STANDARD
BEGIN:DAYLIGHT
TZOFFSETFROM:-0600
TZOFFSETTO:-0500
TZNAME:CDT
DTSTART:20230312T080000
END:DAYLIGHT
BEGIN:STANDARD
TZOFFSETFROM:-0500
TZOFFSETTO:-0600
TZNAME:CST
DTSTART:20231105T070000
END:STANDARD
END:VTIMEZONE
BEGIN:VEVENT
DTSTART;VALUE=DATE:20221201
DTEND;VALUE=DATE:20221202
DTSTAMP:20260424T052813
CREATED:20220720T211639Z
LAST-MODIFIED:20220720T211639Z
UID:10002023-1669852800-1669939199@villageofwyocena.com
SUMMARY:Multi-Purpose Room Private Rental
DESCRIPTION:
URL:https://villageofwyocena.com/event/multi-purpose-room-private-rental-4/
CATEGORIES:Multi-Purpose Room
END:VEVENT
BEGIN:VEVENT
DTSTART;VALUE=DATE:20221202
DTEND;VALUE=DATE:20221203
DTSTAMP:20260424T052813
CREATED:20210226T235003Z
LAST-MODIFIED:20231110T003707Z
UID:10001139-1669939200-1670025599@villageofwyocena.com
SUMMARY:Office Closed
DESCRIPTION:
URL:https://villageofwyocena.com/event/office-closed/2022-12-02/
CATEGORIES:General
END:VEVENT
BEGIN:VEVENT
DTSTART;VALUE=DATE:20221203
DTEND;VALUE=DATE:20221204
DTSTAMP:20260424T052813
CREATED:20220912T231446Z
LAST-MODIFIED:20220912T231446Z
UID:10002025-1670025600-1670111999@villageofwyocena.com
SUMMARY:Private Event - Community Room
DESCRIPTION:
URL:https://villageofwyocena.com/event/private-event-community-room/
CATEGORIES:Community Room
END:VEVENT
BEGIN:VEVENT
DTSTART;TZID=America/Chicago:20221205T100000
DTEND;TZID=America/Chicago:20221205T120000
DTSTAMP:20260424T052813
CREATED:20210226T234208Z
LAST-MODIFIED:20210226T234530Z
UID:10000433-1670234400-1670241600@villageofwyocena.com
SUMMARY:Helping Hands Pantry Open
DESCRIPTION:
URL:https://villageofwyocena.com/event/helping-hands-pantry-open-4/2022-12-05/
CATEGORIES:Community Events
END:VEVENT
BEGIN:VEVENT
DTSTART;TZID=America/Chicago:20221206T060000
DTEND;TZID=America/Chicago:20221206T140000
DTSTAMP:20260424T052813
CREATED:20210226T235133Z
LAST-MODIFIED:20210226T235133Z
UID:10001472-1670306400-1670335200@villageofwyocena.com
SUMMARY:Garbage Pick-Up
DESCRIPTION:
URL:https://villageofwyocena.com/event/garbage-pick-up/2022-12-06/
CATEGORIES:Garbage & Recycling
END:VEVENT
BEGIN:VEVENT
DTSTART;TZID=America/Chicago:20221206T100000
DTEND;TZID=America/Chicago:20221206T120000
DTSTAMP:20260424T052813
CREATED:20210226T234621Z
LAST-MODIFIED:20210226T234621Z
UID:10000663-1670320800-1670328000@villageofwyocena.com
SUMMARY:Helping Hands Pantry Open
DESCRIPTION:
URL:https://villageofwyocena.com/event/helping-hands-pantry-open-7/2022-12-06/
CATEGORIES:Community Events
END:VEVENT
BEGIN:VEVENT
DTSTART;TZID=America/Chicago:20221207T100000
DTEND;TZID=America/Chicago:20221207T120000
DTSTAMP:20260424T052813
CREATED:20210226T210833Z
LAST-MODIFIED:20210226T215431Z
UID:10000160-1670407200-1670414400@villageofwyocena.com
SUMMARY:Helping Hands Pantry Open
DESCRIPTION:
URL:https://villageofwyocena.com/event/helping-hands-pantry-open/2022-12-07/
CATEGORIES:Community Events
END:VEVENT
BEGIN:VEVENT
DTSTART;VALUE=DATE:20221209
DTEND;VALUE=DATE:20221210
DTSTAMP:20260424T052813
CREATED:20210226T235003Z
LAST-MODIFIED:20231110T003707Z
UID:10001140-1670544000-1670630399@villageofwyocena.com
SUMMARY:Office Closed
DESCRIPTION:
URL:https://villageofwyocena.com/event/office-closed/2022-12-09/
CATEGORIES:General
END:VEVENT
BEGIN:VEVENT
DTSTART;VALUE=DATE:20221210
DTEND;VALUE=DATE:20221211
DTSTAMP:20260424T052813
CREATED:20221114T234038Z
LAST-MODIFIED:20221114T234038Z
UID:10002034-1670630400-1670716799@villageofwyocena.com
SUMMARY:Private Rental - Community Room
DESCRIPTION:
URL:https://villageofwyocena.com/event/private-rental-community-room-3/
CATEGORIES:Community Room
END:VEVENT
BEGIN:VEVENT
DTSTART;TZID=America/Chicago:20221212T100000
DTEND;TZID=America/Chicago:20221212T120000
DTSTAMP:20260424T052813
CREATED:20210226T234358Z
LAST-MODIFIED:20210226T234358Z
UID:10000510-1670839200-1670846400@villageofwyocena.com
SUMMARY:Helping Hands Pantry Open
DESCRIPTION:
URL:https://villageofwyocena.com/event/helping-hands-pantry-open-5/2022-12-12/
CATEGORIES:Community Events
END:VEVENT
BEGIN:VEVENT
DTSTART;TZID=America/Chicago:20221212T180000
DTEND;TZID=America/Chicago:20221212T190000
DTSTAMP:20260424T052813
CREATED:20210226T235503Z
LAST-MODIFIED:20231110T004835Z
UID:10001908-1670868000-1670871600@villageofwyocena.com
SUMMARY:Village Board Meeting
DESCRIPTION:
URL:https://villageofwyocena.com/event/village-board-meeting-2-2021-11-08/2022-12-12/
CATEGORIES:Village Board
END:VEVENT
BEGIN:VEVENT
DTSTART;TZID=America/Chicago:20221213T060000
DTEND;TZID=America/Chicago:20221213T140000
DTSTAMP:20260424T052813
CREATED:20210226T235133Z
LAST-MODIFIED:20210226T235133Z
UID:10001473-1670911200-1670940000@villageofwyocena.com
SUMMARY:Garbage Pick-Up
DESCRIPTION:
URL:https://villageofwyocena.com/event/garbage-pick-up/2022-12-13/
CATEGORIES:Garbage & Recycling
END:VEVENT
BEGIN:VEVENT
DTSTART;TZID=America/Chicago:20221213T060000
DTEND;TZID=America/Chicago:20221213T140000
DTSTAMP:20260424T052813
CREATED:20210226T235241Z
LAST-MODIFIED:20210226T235241Z
UID:10001728-1670911200-1670940000@villageofwyocena.com
SUMMARY:Recycling Pick-Up
DESCRIPTION:
URL:https://villageofwyocena.com/event/recycling-pick-up/2022-12-13/
CATEGORIES:Garbage & Recycling
END:VEVENT
BEGIN:VEVENT
DTSTART;TZID=America/Chicago:20221213T100000
DTEND;TZID=America/Chicago:20221213T120000
DTSTAMP:20260424T052813
CREATED:20210226T234717Z
LAST-MODIFIED:20210226T234717Z
UID:10000740-1670925600-1670932800@villageofwyocena.com
SUMMARY:Helping Hands Pantry Open
DESCRIPTION:
URL:https://villageofwyocena.com/event/helping-hands-pantry-open-8/2022-12-13/
CATEGORIES:Community Events
END:VEVENT
BEGIN:VEVENT
DTSTART;TZID=America/Chicago:20221214T100000
DTEND;TZID=America/Chicago:20221214T120000
DTSTAMP:20260424T052813
CREATED:20210226T210919Z
LAST-MODIFIED:20210226T215433Z
UID:10000237-1671012000-1671019200@villageofwyocena.com
SUMMARY:Helping Hands Pantry Open
DESCRIPTION:
URL:https://villageofwyocena.com/event/helping-hands-pantry-open-2/2022-12-14/
CATEGORIES:Community Events
END:VEVENT
BEGIN:VEVENT
DTSTART;VALUE=DATE:20221216
DTEND;VALUE=DATE:20221217
DTSTAMP:20260424T052813
CREATED:20210226T235003Z
LAST-MODIFIED:20231110T003707Z
UID:10001141-1671148800-1671235199@villageofwyocena.com
SUMMARY:Office Closed
DESCRIPTION:
URL:https://villageofwyocena.com/event/office-closed/2022-12-16/
CATEGORIES:General
END:VEVENT
BEGIN:VEVENT
DTSTART;TZID=America/Chicago:20221219T100000
DTEND;TZID=America/Chicago:20221219T120000
DTSTAMP:20260424T052813
CREATED:20210226T234511Z
LAST-MODIFIED:20210226T234511Z
UID:10000587-1671444000-1671451200@villageofwyocena.com
SUMMARY:Helping Hands Pantry Open
DESCRIPTION:
URL:https://villageofwyocena.com/event/helping-hands-pantry-open-6/2022-12-19/
CATEGORIES:Community Events
END:VEVENT
BEGIN:VEVENT
DTSTART;TZID=America/Chicago:20221220T060000
DTEND;TZID=America/Chicago:20221220T140000
DTSTAMP:20260424T052813
CREATED:20210226T235133Z
LAST-MODIFIED:20210226T235133Z
UID:10001474-1671516000-1671544800@villageofwyocena.com
SUMMARY:Garbage Pick-Up
DESCRIPTION:
URL:https://villageofwyocena.com/event/garbage-pick-up/2022-12-20/
CATEGORIES:Garbage & Recycling
END:VEVENT
BEGIN:VEVENT
DTSTART;TZID=America/Chicago:20221220T100000
DTEND;TZID=America/Chicago:20221220T120000
DTSTAMP:20260424T052813
CREATED:20210226T234800Z
LAST-MODIFIED:20210226T234800Z
UID:10000817-1671530400-1671537600@villageofwyocena.com
SUMMARY:Helping Hands Pantry Open
DESCRIPTION:
URL:https://villageofwyocena.com/event/helping-hands-pantry-open-9/2022-12-20/
CATEGORIES:Community Events
END:VEVENT
BEGIN:VEVENT
DTSTART;TZID=America/Chicago:20221221T100000
DTEND;TZID=America/Chicago:20221221T120000
DTSTAMP:20260424T052813
CREATED:20210226T210959Z
LAST-MODIFIED:20210226T215435Z
UID:10000314-1671616800-1671624000@villageofwyocena.com
SUMMARY:Helping Hands Pantry Open
DESCRIPTION:
URL:https://villageofwyocena.com/event/helping-hands-pantry-open-3/2022-12-21/
CATEGORIES:Community Events
END:VEVENT
BEGIN:VEVENT
DTSTART;VALUE=DATE:20221223
DTEND;VALUE=DATE:20221224
DTSTAMP:20260424T052813
CREATED:20210226T235003Z
LAST-MODIFIED:20231110T003707Z
UID:10001142-1671753600-1671839999@villageofwyocena.com
SUMMARY:Office Closed
DESCRIPTION:
URL:https://villageofwyocena.com/event/office-closed/2022-12-23/
CATEGORIES:General
END:VEVENT
BEGIN:VEVENT
DTSTART;VALUE=DATE:20221224
DTEND;VALUE=DATE:20221225
DTSTAMP:20260424T052813
CREATED:20220419T180528Z
LAST-MODIFIED:20220419T180528Z
UID:10002011-1671840000-1671926399@villageofwyocena.com
SUMMARY:No rentals
DESCRIPTION:No Rentals for: \n\nDecember 24\, 25\, 31\, 2022;\nJanuary 1\, 2023.
URL:https://villageofwyocena.com/event/no-rentals-3/2022-12-24/
CATEGORIES:Community Room
END:VEVENT
BEGIN:VEVENT
DTSTART;VALUE=DATE:20221225
DTEND;VALUE=DATE:20221226
DTSTAMP:20260424T052813
CREATED:20220419T180528Z
LAST-MODIFIED:20220419T180528Z
UID:10002012-1671926400-1672012799@villageofwyocena.com
SUMMARY:No rentals
DESCRIPTION:No Rentals for: \n\nDecember 24\, 25\, 31\, 2022;\nJanuary 1\, 2023.
URL:https://villageofwyocena.com/event/no-rentals-3/2022-12-25/
CATEGORIES:Community Room
END:VEVENT
BEGIN:VEVENT
DTSTART;TZID=America/Chicago:20221226T170000
DTEND;TZID=America/Chicago:20221226T180000
DTSTAMP:20260424T052813
CREATED:20210226T234850Z
LAST-MODIFIED:20210226T234850Z
UID:10000893-1672074000-1672077600@villageofwyocena.com
SUMMARY:Library Board Meeting
DESCRIPTION:
URL:https://villageofwyocena.com/event/library-board-meeting-2/2022-12-26/
CATEGORIES:Meetings
END:VEVENT
BEGIN:VEVENT
DTSTART;TZID=America/Chicago:20221227T060000
DTEND;TZID=America/Chicago:20221227T140000
DTSTAMP:20260424T052813
CREATED:20210226T235133Z
LAST-MODIFIED:20210226T235133Z
UID:10001475-1672120800-1672149600@villageofwyocena.com
SUMMARY:Garbage Pick-Up
DESCRIPTION:
URL:https://villageofwyocena.com/event/garbage-pick-up/2022-12-27/
CATEGORIES:Garbage & Recycling
END:VEVENT
BEGIN:VEVENT
DTSTART;TZID=America/Chicago:20221227T060000
DTEND;TZID=America/Chicago:20221227T140000
DTSTAMP:20260424T052813
CREATED:20210226T235241Z
LAST-MODIFIED:20210226T235241Z
UID:10001729-1672120800-1672149600@villageofwyocena.com
SUMMARY:Recycling Pick-Up
DESCRIPTION:
URL:https://villageofwyocena.com/event/recycling-pick-up/2022-12-27/
CATEGORIES:Garbage & Recycling
END:VEVENT
BEGIN:VEVENT
DTSTART;VALUE=DATE:20221230
DTEND;VALUE=DATE:20221231
DTSTAMP:20260424T052813
CREATED:20210226T235003Z
LAST-MODIFIED:20231110T003707Z
UID:10001143-1672358400-1672444799@villageofwyocena.com
SUMMARY:Office Closed
DESCRIPTION:
URL:https://villageofwyocena.com/event/office-closed/2022-12-30/
CATEGORIES:General
END:VEVENT
BEGIN:VEVENT
DTSTART;VALUE=DATE:20221231
DTEND;VALUE=DATE:20230101
DTSTAMP:20260424T052813
CREATED:20220419T180528Z
LAST-MODIFIED:20220419T180528Z
UID:10002013-1672444800-1672531199@villageofwyocena.com
SUMMARY:No rentals
DESCRIPTION:No Rentals for: \n\nDecember 24\, 25\, 31\, 2022;\nJanuary 1\, 2023.
URL:https://villageofwyocena.com/event/no-rentals-3/2022-12-31/
CATEGORIES:Community Room
END:VEVENT
END:VCALENDAR